{"text_format":"1","workbook":"xlsx","n_sheets":20,"sheets":["全選手","編集用①","ソート①","★完成★","様式１ ","様式２","様式3R M","様式3R W","様式3N MF","様式3N WF","様式3N MC","様式3N WC","様式3A MGS","様式3A WGS","様式3A MSL","様式3A WSL","様式3N SJ","様式3N WSJ","様式3N NC","Sheet1"],"not_rendered":{"charts":0,"images":0,"macros":1,"external_links":0,"defined_names":5,"comments":15,"pivot_tables":0},"unopened":[],"bounds":{"document_bytes":16777216,"sheet_cells":100000,"rows_first":2000,"rows_last":500,"rows_between":2000,"halvings":0,"cell_chars":16384,"cell_head_chars":4096},"cells_cut":0,"cells_raw":0,"read":"whole","date_system":"1900"}

{"sheet":"全選手","index":0,"n_rows":330,"n_cols":9,"rows_kept":330,"cut":false,"hidden":true,"merged":[]}
[1]
[2,{"$f":"IF('様式3R M'!G10=\"\",\"\",ASC('様式3R M'!J10))","v":""},{"$f":"IF('様式3R M'!G10=\"\",\"\",'様式3R M'!$D$5)","v":""},{"$f":"IF('様式3R M'!G10=\"\",\"\",'様式3R M'!$B$10)","v":""},{"$f":"IF('様式3R M'!G10=\"\",\"\",'様式3R M'!M10)","v":""},{"$f":"IF('様式3R M'!G10=\"\",\"\",'様式3R M'!G10)","v":""},{"$f":"IF('様式3R M'!G10=\"\",\"\",SUBSTITUTE(CONCATENATE(\"リレー\",'様式3R M'!$D$7),\"　\",\"\"))","v":""},{"$f":"IF('様式3R M'!G10=\"\",\"\",'様式3R M'!$A$9)","v":""}]
[3,{"$f":"IF('様式3R M'!G11=\"\",\"\",ASC('様式3R M'!J11))","v":""},{"$f":"IF('様式3R M'!G11=\"\",\"\",'様式3R M'!$D$5)","v":""},{"$f":"IF('様式3R M'!G11=\"\",\"\",'様式3R M'!$B$10)","v":""},{"$f":"IF('様式3R M'!G11=\"\",\"\",'様式3R M'!M11)","v":""},{"$f":"IF('様式3R M'!G11=\"\",\"\",'様式3R M'!G11)","v":""},{"$f":"IF('様式3R M'!G11=\"\",\"\",SUBSTITUTE(CONCATENATE(\"リレー\",'様式3R M'!$D$7),\"　\",\"\"))","v":""},{"$f":"IF('様式3R M'!G11=\"\",\"\",'様式3R M'!$A$9)","v":""}]
[4,{"$f":"IF('様式3R M'!G12=\"\",\"\",ASC('様式3R M'!J12))","v":""},{"$f":"IF('様式3R M'!G12=\"\",\"\",'様式3R M'!$D$5)","v":""},{"$f":"IF('様式3R M'!G12=\"\",\"\",'様式3R M'!$B$10)","v":""},{"$f":"IF('様式3R M'!G12=\"\",\"\",'様式3R M'!M12)","v":""},{"$f":"IF('様式3R M'!G12=\"\",\"\",'様式3R M'!G12)","v":""},{"$f":"IF('様式3R M'!G12=\"\",\"\",SUBSTITUTE(CONCATENATE(\"リレー\",'様式3R M'!$D$7),\"　\",\"\"))","v":""},{"$f":"IF('様式3R M'!G12=\"\",\"\",'様式3R M'!$A$9)","v":""}]
[5,{"$f":"IF('様式3R M'!G13=\"\",\"\",ASC('様式3R M'!J13))","v":""},{"$f":"IF('様式3R M'!G13=\"\",\"\",'様式3R M'!$D$5)","v":""},{"$f":"IF('様式3R M'!G13=\"\",\"\",'様式3R M'!$B$10)","v":""},{"$f":"IF('様式3R M'!G13=\"\",\"\",'様式3R M'!M13)","v":""},{"$f":"IF('様式3R M'!G13=\"\",\"\",'様式3R M'!G13)","v":""},{"$f":"IF('様式3R M'!G13=\"\",\"\",SUBSTITUTE(CONCATENATE(\"リレー\",'様式3R M'!$D$7),\"　\",\"\"))","v":""},{"$f":"IF('様式3R M'!G13=\"\",\"\",'様式3R M'!$A$9)","v":""}]
[6,{"$f":"IF('様式3R M'!G14=\"\",\"\",ASC('様式3R M'!J14))","v":""},{"$f":"IF('様式3R M'!G14=\"\",\"\",'様式3R M'!$D$5)","v":""},{"$f":"IF('様式3R M'!G14=\"\",\"\",'様式3R M'!$B$10)","v":""},{"$f":"IF('様式3R M'!G14=\"\",\"\",'様式3R M'!M14)","v":""},{"$f":"IF('様式3R M'!G14=\"\",\"\",'様式3R M'!G14)","v":""},{"$f":"IF('様式3R M'!G14=\"\",\"\",SUBSTITUTE(CONCATENATE(\"リレー\",'様式3R M'!$D$7),\"　\",\"\"))","v":""},{"$f":"IF('様式3R M'!G14=\"\",\"\",'様式3R M'!$A$9)","v":""}]
[7,{"$f":"IF('様式3R M'!G15=\"\",\"\",ASC('様式3R M'!J15))","v":""},{"$f":"IF('様式3R M'!G15=\"\",\"\",'様式3R M'!$D$5)","v":""},{"$f":"IF('様式3R M'!G15=\"\",\"\",'様式3R M'!$B$10)","v":""},{"$f":"IF('様式3R M'!G15=\"\",\"\",'様式3R M'!M15)","v":""},{"$f":"IF('様式3R M'!G15=\"\",\"\",'様式3R M'!G15)","v":""},{"$f":"IF('様式3R M'!G15=\"\",\"\",SUBSTITUTE(CONCATENATE(\"リレー\",'様式3R M'!$D$7),\"　\",\"\"))","v":""},{"$f":"IF('様式3R M'!G15=\"\",\"\",'様式3R M'!$A$9)","v":""}]
[8,{"$f":"IF('様式3R M'!G16=\"\",\"\",ASC('様式3R M'!J16))","v":""},{"$f":"IF('様式3R M'!G16=\"\",\"\",'様式3R M'!$D$5)","v":""},{"$f":"IF('様式3R M'!G16=\"\",\"\",'様式3R M'!$B$10)","v":""},{"$f":"IF('様式3R M'!G16=\"\",\"\",'様式3R M'!M16)","v":""},{"$f":"IF('様式3R M'!G16=\"\",\"\",'様式3R M'!G16)","v":""},{"$f":"IF('様式3R M'!G16=\"\",\"\",SUBSTITUTE(CONCATENATE(\"リレー\",'様式3R M'!$D$7),\"　\",\"\"))","v":""},{"$f":"IF('様式3R M'!G16=\"\",\"\",'様式3R M'!$A$9)","v":""}]
[9]
[10,{"$f":"IF('様式3R M'!G18=\"\",\"\",ASC('様式3R M'!J18))","v":""},{"$f":"IF('様式3R M'!G18=\"\",\"\",'様式3R M'!$D$5)","v":""},{"$f":"IF('様式3R M'!G18=\"\",\"\",'様式3R M'!$B$18)","v":""},{"$f":"IF('様式3R M'!G18=\"\",\"\",'様式3R M'!M18)","v":""},{"$f":"IF('様式3R M'!G18=\"\",\"\",'様式3R M'!G18)","v":""},{"$f":"IF('様式3R M'!G18=\"\",\"\",SUBSTITUTE(CONCATENATE(\"リレー\",'様式3R M'!$D$7),\"　\",\"\"))","v":""},{"$f":"IF('様式3R M'!G18=\"\",\"\",'様式3R M'!$A$17)","v":""}]
[11,{"$f":"IF('様式3R M'!G19=\"\",\"\",ASC('様式3R M'!J19))","v":""},{"$f":"IF('様式3R M'!G19=\"\",\"\",'様式3R M'!$D$5)","v":""},{"$f":"IF('様式3R M'!G19=\"\",\"\",'様式3R M'!$B$18)","v":""},{"$f":"IF('様式3R M'!G19=\"\",\"\",'様式3R M'!M19)","v":""},{"$f":"IF('様式3R M'!G19=\"\",\"\",'様式3R M'!G19)","v":""},{"$f":"IF('様式3R M'!G19=\"\",\"\",SUBSTITUTE(CONCATENATE(\"リレー\",'様式3R M'!$D$7),\"　\",\"\"))","v":""},{"$f":"IF('様式3R M'!G19=\"\",\"\",'様式3R M'!$A$17)","v":""}]
[12,{"$f":"IF('様式3R M'!G20=\"\",\"\",ASC('様式3R M'!J20))","v":""},{"$f":"IF('様式3R M'!G20=\"\",\"\",'様式3R M'!$D$5)","v":""},{"$f":"IF('様式3R M'!G20=\"\",\"\",'様式3R M'!$B$18)","v":""},{"$f":"IF('様式3R M'!G20=\"\",\"\",'様式3R M'!M20)","v":""},{"$f":"IF('様式3R M'!G20=\"\",\"\",'様式3R M'!G20)","v":""},{"$f":"IF('様式3R M'!G20=\"\",\"\",SUBSTITUTE(CONCATENATE(\"リレー\",'様式3R M'!$D$7),\"　\",\"\"))","v":""},{"$f":"IF('様式3R M'!G20=\"\",\"\",'様式3R M'!$A$17)","v":""}]
[13,{"$f":"IF('様式3R M'!G21=\"\",\"\",ASC('様式3R M'!J21))","v":""},{"$f":"IF('様式3R M'!G21=\"\",\"\",'様式3R M'!$D$5)","v":""},{"$f":"IF('様式3R M'!G21=\"\",\"\",'様式3R M'!$B$18)","v":""},{"$f":"IF('様式3R M'!G21=\"\",\"\",'様式3R M'!M21)","v":""},{"$f":"IF('様式3R M'!G21=\"\",\"\",'様式3R M'!G21)","v":""},{"$f":"IF('様式3R M'!G21=\"\",\"\",SUBSTITUTE(CONCATENATE(\"リレー\",'様式3R M'!$D$7),\"　\",\"\"))","v":""},{"$f":"IF('様式3R M'!G21=\"\",\"\",'様式3R M'!$A$17)","v":""}]
[14,{"$f":"IF('様式3R M'!G22=\"\",\"\",ASC('様式3R M'!J22))","v":""},{"$f":"IF('様式3R M'!G22=\"\",\"\",'様式3R M'!$D$5)","v":""},{"$f":"IF('様式3R M'!G22=\"\",\"\",'様式3R M'!$B$18)","v":""},{"$f":"IF('様式3R M'!G22=\"\",\"\",'様式3R M'!M22)","v":""},{"$f":"IF('様式3R M'!G22=\"\",\"\",'様式3R M'!G22)","v":""},{"$f":"IF('様式3R M'!G22=\"\",\"\",SUBSTITUTE(CONCATENATE(\"リレー\",'様式3R M'!$D$7),\"　\",\"\"))","v":""},{"$f":"IF('様式3R M'!G22=\"\",\"\",'様式3R M'!$A$17)","v":""}]
[15,{"$f":"IF('様式3R M'!G23=\"\",\"\",ASC('様式3R M'!J23))","v":""},{"$f":"IF('様式3R M'!G23=\"\",\"\",'様式3R M'!$D$5)","v":""},{"$f":"IF('様式3R M'!G23=\"\",\"\",'様式3R M'!$B$18)","v":""},{"$f":"IF('様式3R M'!G23=\"\",\"\",'様式3R M'!M23)","v":""},{"$f":"IF('様式3R M'!G23=\"\",\"\",'様式3R M'!G23)","v":""},{"$f":"IF('様式3R M'!G23=\"\",\"\",SUBSTITUTE(CONCATENATE(\"リレー\",'様式3R M'!$D$7),\"　\",\"\"))","v":""},{"$f":"IF('様式3R M'!G23=\"\",\"\",'様式3R M'!$A$17)","v":""}]
[16,{"$f":"IF('様式3R M'!G24=\"\",\"\",ASC('様式3R M'!J24))","v":""},{"$f":"IF('様式3R M'!G24=\"\",\"\",'様式3R M'!$D$5)","v":""},{"$f":"IF('様式3R M'!G24=\"\",\"\",'様式3R M'!$B$18)","v":""},{"$f":"IF('様式3R M'!G24=\"\",\"\",'様式3R M'!M24)","v":""},{"$f":"IF('様式3R M'!G24=\"\",\"\",'様式3R M'!G24)","v":""},{"$f":"IF('様式3R M'!G24=\"\",\"\",SUBSTITUTE(CONCATENATE(\"リレー\",'様式3R M'!$D$7),\"　\",\"\"))","v":""},{"$f":"IF('様式3R M'!G24=\"\",\"\",'様式3R M'!$A$17)","v":""}]
[17]
[18,{"$f":"IF('様式3R M'!G26=\"\",\"\",ASC('様式3R M'!J26))","v":""},{"$f":"IF('様式3R M'!G26=\"\",\"\",'様式3R M'!$D$5)","v":""},{"$f":"IF('様式3R M'!G26=\"\",\"\",'様式3R M'!$B$26)","v":""},{"$f":"IF('様式3R M'!G26=\"\",\"\",'様式3R M'!M26)","v":""},{"$f":"IF('様式3R M'!G26=\"\",\"\",'様式3R M'!G26)","v":""},{"$f":"IF('様式3R M'!G26=\"\",\"\",SUBSTITUTE(CONCATENATE(\"リレー\",'様式3R M'!$D$7),\"　\",\"\"))","v":""},{"$f":"IF('様式3R M'!G26=\"\",\"\",'様式3R M'!$A$25)","v":""}]
[19,{"$f":"IF('様式3R M'!G27=\"\",\"\",ASC('様式3R M'!J27))","v":""},{"$f":"IF('様式3R M'!G27=\"\",\"\",'様式3R M'!$D$5)","v":""},{"$f":"IF('様式3R M'!G27=\"\",\"\",'様式3R M'!$B$26)","v":""},{"$f":"IF('様式3R M'!G27=\"\",\"\",'様式3R M'!M27)","v":""},{"$f":"IF('様式3R M'!G27=\"\",\"\",'様式3R M'!G27)","v":""},{"$f":"IF('様式3R M'!G27=\"\",\"\",SUBSTITUTE(CONCATENATE(\"リレー\",'様式3R M'!$D$7),\"　\",\"\"))","v":""},{"$f":"IF('様式3R M'!G27=\"\",\"\",'様式3R M'!$A$25)","v":""}]
[20,{"$f":"IF('様式3R M'!G28=\"\",\"\",ASC('様式3R M'!J28))","v":""},{"$f":"IF('様式3R M'!G28=\"\",\"\",'様式3R M'!$D$5)","v":""},{"$f":"IF('様式3R M'!G28=\"\",\"\",'様式3R M'!$B$26)","v":""},{"$f":"IF('様式3R M'!G28=\"\",\"\",'様式3R M'!M28)","v":""},{"$f":"IF('様式3R M'!G28=\"\",\"\",'様式3R M'!G28)","v":""},{"$f":"IF('様式3R M'!G28=\"\",\"\",SUBSTITUTE(CONCATENATE(\"リレー\",'様式3R M'!$D$7),\"　\",\"\"))","v":""},{"$f":"IF('様式3R M'!G28=\"\",\"\",'様式3R M'!$A$25)","v":""}]
[21,{"$f":"IF('様式3R M'!G29=\"\",\"\",ASC('様式3R M'!J29))","v":""},{"$f":"IF('様式3R M'!G29=\"\",\"\",'様式3R M'!$D$5)","v":""},{"$f":"IF('様式3R M'!G29=\"\",\"\",'様式3R M'!$B$26)","v":""},{"$f":"IF('様式3R M'!G29=\"\",\"\",'様式3R M'!M29)","v":""},{"$f":"IF('様式3R M'!G29=\"\",\"\",'様式3R M'!G29)","v":""},{"$f":"IF('様式3R M'!G29=\"\",\"\",SUBSTITUTE(CONCATENATE(\"リレー\",'様式3R M'!$D$7),\"　\",\"\"))","v":""},{"$f":"IF('様式3R M'!G29=\"\",\"\",'様式3R M'!$A$25)","v":""}]
[22,{"$f":"IF('様式3R M'!G30=\"\",\"\",ASC('様式3R M'!J30))","v":""},{"$f":"IF('様式3R M'!G30=\"\",\"\",'様式3R M'!$D$5)","v":""},{"$f":"IF('様式3R M'!G30=\"\",\"\",'様式3R M'!$B$26)","v":""},{"$f":"IF('様式3R M'!G30=\"\",\"\",'様式3R M'!M30)","v":""},{"$f":"IF('様式3R M'!G30=\"\",\"\",'様式3R M'!G30)","v":""},{"$f":"IF('様式3R M'!G30=\"\",\"\",SUBSTITUTE(CONCATENATE(\"リレー\",'様式3R M'!$D$7),\"　\",\"\"))","v":""},{"$f":"IF('様式3R M'!G30=\"\",\"\",'様式3R M'!$A$25)","v":""}]
[23,{"$f":"IF('様式3R M'!G31=\"\",\"\",ASC('様式3R M'!J31))","v":""},{"$f":"IF('様式3R M'!G31=\"\",\"\",'様式3R M'!$D$5)","v":""},{"$f":"IF('様式3R M'!G31=\"\",\"\",'様式3R M'!$B$26)","v":""},{"$f":"IF('様式3R M'!G31=\"\",\"\",'様式3R M'!M31)","v":""},{"$f":"IF('様式3R M'!G31=\"\",\"\",'様式3R M'!G31)","v":""},{"$f":"IF('様式3R M'!G31=\"\",\"\",SUBSTITUTE(CONCATENATE(\"リレー\",'様式3R M'!$D$7),\"　\",\"\"))","v":""},{"$f":"IF('様式3R M'!G31=\"\",\"\",'様式3R M'!$A$25)","v":""}]
[24,{"$f":"IF('様式3R M'!G32=\"\",\"\",ASC('様式3R M'!J32))","v":""},{"$f":"IF('様式3R M'!G32=\"\",\"\",'様式3R M'!$D$5)","v":""},{"$f":"IF('様式3R M'!G32=\"\",\"\",'様式3R M'!$B$26)","v":""},{"$f":"IF('様式3R M'!G32=\"\",\"\",'様式3R M'!M32)","v":""},{"$f":"IF('様式3R M'!G32=\"\",\"\",'様式3R M'!G32)","v":""},{"$f":"IF('様式3R M'!G32=\"\",\"\",SUBSTITUTE(CONCATENATE(\"リレー\",'様式3R M'!$D$7),\"　\",\"\"))","v":""},{"$f":"IF('様式3R M'!G32=\"\",\"\",'様式3R M'!$A$25)","v":""}]
[25]
[26,{"$f":"IF('様式3R M'!G34=\"\",\"\",ASC('様式3R M'!J34))","v":""},{"$f":"IF('様式3R M'!G34=\"\",\"\",'様式3R M'!$D$5)","v":""},{"$f":"IF('様式3R M'!G34=\"\",\"\",'様式3R M'!$B$34)","v":""},{"$f":"IF('様式3R M'!G34=\"\",\"\",'様式3R M'!M34)","v":""},{"$f":"IF('様式3R M'!G34=\"\",\"\",'様式3R M'!G34)","v":""},{"$f":"IF('様式3R M'!G34=\"\",\"\",SUBSTITUTE(CONCATENATE(\"リレー\",'様式3R M'!$D$7),\"　\",\"\"))","v":""},{"$f":"IF('様式3R M'!G34=\"\",\"\",'様式3R M'!$A$33)","v":""}]
[27,{"$f":"IF('様式3R M'!G35=\"\",\"\",ASC('様式3R M'!J35))","v":""},{"$f":"IF('様式3R M'!G35=\"\",\"\",'様式3R M'!$D$5)","v":""},{"$f":"IF('様式3R M'!G35=\"\",\"\",'様式3R M'!$B$34)","v":""},{"$f":"IF('様式3R M'!G35=\"\",\"\",'様式3R M'!M35)","v":""},{"$f":"IF('様式3R M'!G35=\"\",\"\",'様式3R M'!G35)","v":""},{"$f":"IF('様式3R M'!G35=\"\",\"\",SUBSTITUTE(CONCATENATE(\"リレー\",'様式3R M'!$D$7),\"　\",\"\"))","v":""},{"$f":"IF('様式3R M'!G35=\"\",\"\",'様式3R M'!$A$33)","v":""}]
[28,{"$f":"IF('様式3R M'!G36=\"\",\"\",ASC('様式3R M'!J36))","v":""},{"$f":"IF('様式3R M'!G36=\"\",\"\",'様式3R M'!$D$5)","v":""},{"$f":"IF('様式3R M'!G36=\"\",\"\",'様式3R M'!$B$34)","v":""},{"$f":"IF('様式3R M'!G36=\"\",\"\",'様式3R M'!M36)","v":""},{"$f":"IF('様式3R M'!G36=\"\",\"\",'様式3R M'!G36)","v":""},{"$f":"IF('様式3R M'!G36=\"\",\"\",SUBSTITUTE(CONCATENATE(\"リレー\",'様式3R M'!$D$7),\"　\",\"\"))","v":""},{"$f":"IF('様式3R M'!G36=\"\",\"\",'様式3R M'!$A$33)","v":""}]
[29,{"$f":"IF('様式3R M'!G37=\"\",\"\",ASC('様式3R M'!J37))","v":""},{"$f":"IF('様式3R M'!G37=\"\",\"\",'様式3R M'!$D$5)","v":""},{"$f":"IF('様式3R M'!G37=\"\",\"\",'様式3R M'!$B$34)","v":""},{"$f":"IF('様式3R M'!G37=\"\",\"\",'様式3R M'!M37)","v":""},{"$f":"IF('様式3R M'!G37=\"\",\"\",'様式3R M'!G37)","v":""},{"$f":"IF('様式3R M'!G37=\"\",\"\",SUBSTITUTE(CONCATENATE(\"リレー\",'様式3R M'!$D$7),\"　\",\"\"))","v":""},{"$f":"IF('様式3R M'!G37=\"\",\"\",'様式3R M'!$A$33)","v":""}]
[30,{"$f":"IF('様式3R M'!G38=\"\",\"\",ASC('様式3R M'!J38))","v":""},{"$f":"IF('様式3R M'!G38=\"\",\"\",'様式3R M'!$D$5)","v":""},{"$f":"IF('様式3R M'!G38=\"\",\"\",'様式3R M'!$B$34)","v":""},{"$f":"IF('様式3R M'!G38=\"\",\"\",'様式3R M'!M38)","v":""},{"$f":"IF('様式3R M'!G38=\"\",\"\",'様式3R M'!G38)","v":""},{"$f":"IF('様式3R M'!G38=\"\",\"\",SUBSTITUTE(CONCATENATE(\"リレー\",'様式3R M'!$D$7),\"　\",\"\"))","v":""},{"$f":"IF('様式3R M'!G38=\"\",\"\",'様式3R M'!$A$33)","v":""}]
[31,{"$f":"IF('様式3R M'!G39=\"\",\"\",ASC('様式3R M'!J39))","v":""},{"$f":"IF('様式3R M'!G39=\"\",\"\",'様式3R M'!$D$5)","v":""},{"$f":"IF('様式3R M'!G39=\"\",\"\",'様式3R M'!$B$34)","v":""},{"$f":"IF('様式3R M'!G39=\"\",\"\",'様式3R M'!M39)","v":""},{"$f":"IF('様式3R M'!G39=\"\",\"\",'様式3R M'!G39)","v":""},{"$f":"IF('様式3R M'!G39=\"\",\"\",SUBSTITUTE(CONCATENATE(\"リレー\",'様式3R M'!$D$7),\"　\",\"\"))","v":""},{"$f":"IF('様式3R M'!G39=\"\",\"\",'様式3R M'!$A$33)","v":""}]
[32,{"$f":"IF('様式3R M'!G40=\"\",\"\",ASC('様式3R M'!J40))","v":""},{"$f":"IF('様式3R M'!G40=\"\",\"\",'様式3R M'!$D$5)","v":""},{"$f":"IF('様式3R M'!G40=\"\",\"\",'様式3R M'!$B$34)","v":""},{"$f":"IF('様式3R M'!G40=\"\",\"\",'様式3R M'!M40)","v":""},{"$f":"IF('様式3R M'!G40=\"\",\"\",'様式3R M'!G40)","v":""},{"$f":"IF('様式3R M'!G40=\"\",\"\",SUBSTITUTE(CONCATENATE(\"リレー\",'様式3R M'!$D$7),\"　\",\"\"))","v":""},{"$f":"IF('様式3R M'!G40=\"\",\"\",'様式3R M'!$A$33)","v":""}]
[33]
[34,{"$f":"IF('様式3R M'!G42=\"\",\"\",ASC('様式3R M'!J42))","v":""},{"$f":"IF('様式3R M'!G42=\"\",\"\",'様式3R M'!$D$5)","v":""},{"$f":"IF('様式3R M'!G42=\"\",\"\",'様式3R M'!$B$42)","v":""},{"$f":"IF('様式3R M'!G42=\"\",\"\",'様式3R M'!M42)","v":""},{"$f":"IF('様式3R M'!G42=\"\",\"\",'様式3R M'!G42)","v":""},{"$f":"IF('様式3R M'!G42=\"\",\"\",SUBSTITUTE(CONCATENATE(\"リレー\",'様式3R M'!$D$7),\"　\",\"\"))","v":""},{"$f":"IF('様式3R M'!G42=\"\",\"\",'様式3R M'!$A$41)","v":""}]
[35,{"$f":"IF('様式3R M'!G43=\"\",\"\",ASC('様式3R M'!J43))","v":""},{"$f":"IF('様式3R M'!G43=\"\",\"\",'様式3R M'!$D$5)","v":""},{"$f":"IF('様式3R M'!G43=\"\",\"\",'様式3R M'!$B$42)","v":""},{"$f":"IF('様式3R M'!G43=\"\",\"\",'様式3R M'!M43)","v":""},{"$f":"IF('様式3R M'!G43=\"\",\"\",'様式3R M'!G43)","v":""},{"$f":"IF('様式3R M'!G43=\"\",\"\",SUBSTITUTE(CONCATENATE(\"リレー\",'様式3R M'!$D$7),\"　\",\"\"))","v":""},{"$f":"IF('様式3R M'!G43=\"\",\"\",'様式3R M'!$A$41)","v":""}]
[36,{"$f":"IF('様式3R M'!G44=\"\",\"\",ASC('様式3R M'!J44))","v":""},{"$f":"IF('様式3R M'!G44=\"\",\"\",'様式3R M'!$D$5)","v":""},{"$f":"IF('様式3R M'!G44=\"\",\"\",'様式3R M'!$B$42)","v":""},{"$f":"IF('様式3R M'!G44=\"\",\"\",'様式3R M'!M44)","v":""},{"$f":"IF('様式3R M'!G44=\"\",\"\",'様式3R M'!G44)","v":""},{"$f":"IF('様式3R M'!G44=\"\",\"\",SUBSTITUTE(CONCATENATE(\"リレー\",'様式3R M'!$D$7),\"　\",\"\"))","v":""},{"$f":"IF('様式3R M'!G44=\"\",\"\",'様式3R M'!$A$41)","v":""}]
[37,{"$f":"IF('様式3R M'!G45=\"\",\"\",ASC('様式3R M'!J45))","v":""},{"$f":"IF('様式3R M'!G45=\"\",\"\",'様式3R M'!$D$5)","v":""},{"$f":"IF('様式3R M'!G45=\"\",\"\",'様式3R M'!$B$42)","v":""},{"$f":"IF('様式3R M'!G45=\"\",\"\",'様式3R M'!M45)","v":""},{"$f":"IF('様式3R M'!G45=\"\",\"\",'様式3R M'!G45)","v":""},{"$f":"IF('様式3R M'!G45=\"\",\"\",SUBSTITUTE(CONCATENATE(\"リレー\",'様式3R M'!$D$7),\"　\",\"\"))","v":""},{"$f":"IF('様式3R M'!G45=\"\",\"\",'様式3R M'!$A$41)","v":""}]
[38,{"$f":"IF('様式3R M'!G46=\"\",\"\",ASC('様式3R M'!J46))","v":""},{"$f":"IF('様式3R M'!G46=\"\",\"\",'様式3R M'!$D$5)","v":""},{"$f":"IF('様式3R M'!G46=\"\",\"\",'様式3R M'!$B$42)","v":""},{"$f":"IF('様式3R M'!G46=\"\",\"\",'様式3R M'!M46)","v":""},{"$f":"IF('様式3R M'!G46=\"\",\"\",'様式3R M'!G46)","v":""},{"$f":"IF('様式3R M'!G46=\"\",\"\",SUBSTITUTE(CONCATENATE(\"リレー\",'様式3R M'!$D$7),\"　\",\"\"))","v":""},{"$f":"IF('様式3R M'!G46=\"\",\"\",'様式3R M'!$A$41)","v":""}]
[39,{"$f":"IF('様式3R M'!G47=\"\",\"\",ASC('様式3R M'!J47))","v":""},{"$f":"IF('様式3R M'!G47=\"\",\"\",'様式3R M'!$D$5)","v":""},{"$f":"IF('様式3R M'!G47=\"\",\"\",'様式3R M'!$B$42)","v":""},{"$f":"IF('様式3R M'!G47=\"\",\"\",'様式3R M'!M47)","v":""},{"$f":"IF('様式3R M'!G47=\"\",\"\",'様式3R M'!G47)","v":""},{"$f":"IF('様式3R M'!G47=\"\",\"\",SUBSTITUTE(CONCATENATE(\"リレー\",'様式3R M'!$D$7),\"　\",\"\"))","v":""},{"$f":"IF('様式3R M'!G47=\"\",\"\",'様式3R M'!$A$41)","v":""}]
[40,{"$f":"IF('様式3R M'!G48=\"\",\"\",ASC('様式3R M'!J48))","v":""},{"$f":"IF('様式3R M'!G48=\"\",\"\",'様式3R M'!$D$5)","v":""},{"$f":"IF('様式3R M'!G48=\"\",\"\",'様式3R M'!$B$42)","v":""},{"$f":"IF('様式3R M'!G48=\"\",\"\",'様式3R M'!M48)","v":""},{"$f":"IF('様式3R M'!G48=\"\",\"\",'様式3R M'!G48)","v":""},{"$f":"IF('様式3R M'!G48=\"\",\"\",SUBSTITUTE(CONCATENATE(\"リレー\",'様式3R M'!$D$7),\"　\",\"\"))","v":""},{"$f":"IF('様式3R M'!G48=\"\",\"\",'様式3R M'!$A$41)","v":""}]
[41]
[42,{"$f":"IF('様式3R W'!G10=\"\",\"\",ASC('様式3R W'!J10))","v":""},{"$f":"IF('様式3R W'!G10=\"\",\"\",'様式3R W'!$D$5)","v":""},{"$f":"IF('様式3R W'!G10=\"\",\"\",'様式3R W'!$B$10)","v":""},{"$f":"IF('様式3R W'!G10=\"\",\"\",'様式3R W'!M10)","v":""},{"$f":"IF('様式3R W'!G10=\"\",\"\",'様式3R W'!G10)","v":""},{"$f":"IF('様式3R W'!G10=\"\",\"\",SUBSTITUTE(CONCATENATE(\"リレー\",'様式3R W'!$D$7),\"　\",\"\"))","v":""},{"$f":"IF('様式3R W'!G10=\"\",\"\",'様式3R W'!$A$9)","v":""}]
[43,{"$f":"IF('様式3R W'!G11=\"\",\"\",ASC('様式3R W'!J11))","v":""},{"$f":"IF('様式3R W'!G11=\"\",\"\",'様式3R W'!$D$5)","v":""},{"$f":"IF('様式3R W'!G11=\"\",\"\",'様式3R W'!$B$10)","v":""},{"$f":"IF('様式3R W'!G11=\"\",\"\",'様式3R W'!M11)","v":""},{"$f":"IF('様式3R W'!G11=\"\",\"\",'様式3R W'!G11)","v":""},{"$f":"IF('様式3R W'!G11=\"\",\"\",SUBSTITUTE(CONCATENATE(\"リレー\",'様式3R W'!$D$7),\"　\",\"\"))","v":""},{"$f":"IF('様式3R W'!G11=\"\",\"\",'様式3R W'!$A$9)","v":""}]
[44,{"$f":"IF('様式3R W'!G12=\"\",\"\",ASC('様式3R W'!J12))","v":""},{"$f":"IF('様式3R W'!G12=\"\",\"\",'様式3R W'!$D$5)","v":""},{"$f":"IF('様式3R W'!G12=\"\",\"\",'様式3R W'!$B$10)","v":""},{"$f":"IF('様式3R W'!G12=\"\",\"\",'様式3R W'!M12)","v":""},{"$f":"IF('様式3R W'!G12=\"\",\"\",'様式3R W'!G12)","v":""},{"$f":"IF('様式3R W'!G12=\"\",\"\",SUBSTITUTE(CONCATENATE(\"リレー\",'様式3R W'!$D$7),\"　\",\"\"))","v":""},{"$f":"IF('様式3R W'!G12=\"\",\"\",'様式3R W'!$A$9)","v":""}]
[45,{"$f":"IF('様式3R W'!G13=\"\",\"\",ASC('様式3R W'!J13))","v":""},{"$f":"IF('様式3R W'!G13=\"\",\"\",'様式3R W'!$D$5)","v":""},{"$f":"IF('様式3R W'!G13=\"\",\"\",'様式3R W'!$B$10)","v":""},{"$f":"IF('様式3R W'!G13=\"\",\"\",'様式3R W'!M13)","v":""},{"$f":"IF('様式3R W'!G13=\"\",\"\",'様式3R W'!G13)","v":""},{"$f":"IF('様式3R W'!G13=\"\",\"\",SUBSTITUTE(CONCATENATE(\"リレー\",'様式3R W'!$D$7),\"　\",\"\"))","v":""},{"$f":"IF('様式3R W'!G13=\"\",\"\",'様式3R W'!$A$9)","v":""}]
[46,{"$f":"IF('様式3R W'!G14=\"\",\"\",ASC('様式3R W'!J14))","v":""},{"$f":"IF('様式3R W'!G14=\"\",\"\",'様式3R W'!$D$5)","v":""},{"$f":"IF('様式3R W'!G14=\"\",\"\",'様式3R W'!$B$10)","v":""},{"$f":"IF('様式3R W'!G14=\"\",\"\",'様式3R W'!M14)","v":""},{"$f":"IF('様式3R W'!G14=\"\",\"\",'様式3R W'!G14)","v":""},{"$f":"IF('様式3R W'!G14=\"\",\"\",SUBSTITUTE(CONCATENATE(\"リレー\",'様式3R W'!$D$7),\"　\",\"\"))","v":""},{"$f":"IF('様式3R W'!G14=\"\",\"\",'様式3R W'!$A$9)","v":""}]
[47,{"$f":"IF('様式3R W'!G15=\"\",\"\",ASC('様式3R W'!J15))","v":""},{"$f":"IF('様式3R W'!G15=\"\",\"\",'様式3R W'!$D$5)","v":""},{"$f":"IF('様式3R W'!G15=\"\",\"\",'様式3R W'!$B$10)","v":""},{"$f":"IF('様式3R W'!G15=\"\",\"\",'様式3R W'!M15)","v":""},{"$f":"IF('様式3R W'!G15=\"\",\"\",'様式3R W'!G15)","v":""},{"$f":"IF('様式3R W'!G15=\"\",\"\",SUBSTITUTE(CONCATENATE(\"リレー\",'様式3R W'!$D$7),\"　\",\"\"))","v":""},{"$f":"IF('様式3R W'!G15=\"\",\"\",'様式3R W'!$A$9)","v":""}]
[48,{"$f":"IF('様式3R W'!G16=\"\",\"\",ASC('様式3R W'!J16))","v":""},{"$f":"IF('様式3R W'!G16=\"\",\"\",'様式3R W'!$D$5)","v":""},{"$f":"IF('様式3R W'!G16=\"\",\"\",'様式3R W'!$B$10)","v":""},{"$f":"IF('様式3R W'!G16=\"\",\"\",'様式3R W'!M16)","v":""},{"$f":"IF('様式3R W'!G16=\"\",\"\",'様式3R W'!G16)","v":""},{"$f":"IF('様式3R W'!G16=\"\",\"\",SUBSTITUTE(CONCATENATE(\"リレー\",'様式3R W'!$D$7),\"　\",\"\"))","v":""},{"$f":"IF('様式3R W'!G16=\"\",\"\",'様式3R W'!$A$9)","v":""}]
[49]
[50,{"$f":"IF('様式3R W'!G18=\"\",\"\",ASC('様式3R W'!J18))","v":""},{"$f":"IF('様式3R W'!G18=\"\",\"\",'様式3R W'!$D$5)","v":""},{"$f":"IF('様式3R W'!G18=\"\",\"\",'様式3R W'!$B$18)","v":""},{"$f":"IF('様式3R W'!G18=\"\",\"\",'様式3R W'!M18)","v":""},{"$f":"IF('様式3R W'!G18=\"\",\"\",'様式3R W'!G18)","v":""},{"$f":"IF('様式3R W'!G18=\"\",\"\",SUBSTITUTE(CONCATENATE(\"リレー\",'様式3R W'!$D$7),\"　\",\"\"))","v":""},{"$f":"IF('様式3R W'!G18=\"\",\"\",'様式3R W'!$A$17)","v":""}]
[51,{"$f":"IF('様式3R W'!G19=\"\",\"\",ASC('様式3R W'!J19))","v":""},{"$f":"IF('様式3R W'!G19=\"\",\"\",'様式3R W'!$D$5)","v":""},{"$f":"IF('様式3R W'!G19=\"\",\"\",'様式3R W'!$B$18)","v":""},{"$f":"IF('様式3R W'!G19=\"\",\"\",'様式3R W'!M19)","v":""},{"$f":"IF('様式3R W'!G19=\"\",\"\",'様式3R W'!G19)","v":""},{"$f":"IF('様式3R W'!G19=\"\",\"\",SUBSTITUTE(CONCATENATE(\"リレー\",'様式3R W'!$D$7),\"　\",\"\"))","v":""},{"$f":"IF('様式3R W'!G19=\"\",\"\",'様式3R W'!$A$17)","v":""}]
[52,{"$f":"IF('様式3R W'!G20=\"\",\"\",ASC('様式3R W'!J20))","v":""},{"$f":"IF('様式3R W'!G20=\"\",\"\",'様式3R W'!$D$5)","v":""},{"$f":"IF('様式3R W'!G20=\"\",\"\",'様式3R W'!$B$18)","v":""},{"$f":"IF('様式3R W'!G20=\"\",\"\",'様式3R W'!M20)","v":""},{"$f":"IF('様式3R W'!G20=\"\",\"\",'様式3R W'!G20)","v":""},{"$f":"IF('様式3R W'!G20=\"\",\"\",SUBSTITUTE(CONCATENATE(\"リレー\",'様式3R W'!$D$7),\"　\",\"\"))","v":""},{"$f":"IF('様式3R W'!G20=\"\",\"\",'様式3R W'!$A$17)","v":""}]
[53,{"$f":"IF('様式3R W'!G21=\"\",\"\",ASC('様式3R W'!J21))","v":""},{"$f":"IF('様式3R W'!G21=\"\",\"\",'様式3R W'!$D$5)","v":""},{"$f":"IF('様式3R W'!G21=\"\",\"\",'様式3R W'!$B$18)","v":""},{"$f":"IF('様式3R W'!G21=\"\",\"\",'様式3R W'!M21)","v":""},{"$f":"IF('様式3R W'!G21=\"\",\"\",'様式3R W'!G21)","v":""},{"$f":"IF('様式3R W'!G21=\"\",\"\",SUBSTITUTE(CONCATENATE(\"リレー\",'様式3R W'!$D$7),\"　\",\"\"))","v":""},{"$f":"IF('様式3R W'!G21=\"\",\"\",'様式3R W'!$A$17)","v":""}]
[54,{"$f":"IF('様式3R W'!G22=\"\",\"\",ASC('様式3R W'!J22))","v":""},{"$f":"IF('様式3R W'!G22=\"\",\"\",'様式3R W'!$D$5)","v":""},{"$f":"IF('様式3R W'!G22=\"\",\"\",'様式3R W'!$B$18)","v":""},{"$f":"IF('様式3R W'!G22=\"\",\"\",'様式3R W'!M22)","v":""},{"$f":"IF('様式3R W'!G22=\"\",\"\",'様式3R W'!G22)","v":""},{"$f":"IF('様式3R W'!G22=\"\",\"\",SUBSTITUTE(CONCATENATE(\"リレー\",'様式3R W'!$D$7),\"　\",\"\"))","v":""},{"$f":"IF('様式3R W'!G22=\"\",\"\",'様式3R W'!$A$17)","v":""}]
[55,{"$f":"IF('様式3R W'!G23=\"\",\"\",ASC('様式3R W'!J23))","v":""},{"$f":"IF('様式3R W'!G23=\"\",\"\",'様式3R W'!$D$5)","v":""},{"$f":"IF('様式3R W'!G23=\"\",\"\",'様式3R W'!$B$18)","v":""},{"$f":"IF('様式3R W'!G23=\"\",\"\",'様式3R W'!M23)","v":""},{"$f":"IF('様式3R W'!G23=\"\",\"\",'様式3R W'!G23)","v":""},{"$f":"IF('様式3R W'!G23=\"\",\"\",SUBSTITUTE(CONCATENATE(\"リレー\",'様式3R W'!$D$7),\"　\",\"\"))","v":""},{"$f":"IF('様式3R W'!G23=\"\",\"\",'様式3R W'!$A$17)","v":""}]
[56,{"$f":"IF('様式3R W'!G24=\"\",\"\",ASC('様式3R W'!J24))","v":""},{"$f":"IF('様式3R W'!G24=\"\",\"\",'様式3R W'!$D$5)","v":""},{"$f":"IF('様式3R W'!G24=\"\",\"\",'様式3R W'!$B$18)","v":""},{"$f":"IF('様式3R W'!G24=\"\",\"\",'様式3R W'!M24)","v":""},{"$f":"IF('様式3R W'!G24=\"\",\"\",'様式3R W'!G24)","v":""},{"$f":"IF('様式3R W'!G24=\"\",\"\",SUBSTITUTE(CONCATENATE(\"リレー\",'様式3R W'!$D$7),\"　\",\"\"))","v":""},{"$f":"IF('様式3R W'!G24=\"\",\"\",'様式3R W'!$A$17)","v":""}]
[57]
[58,{"$f":"IF('様式3R W'!G26=\"\",\"\",ASC('様式3R W'!J26))","v":""},{"$f":"IF('様式3R W'!G26=\"\",\"\",'様式3R W'!$D$5)","v":""},{"$f":"IF('様式3R W'!G26=\"\",\"\",'様式3R W'!$B$26)","v":""},{"$f":"IF('様式3R W'!G26=\"\",\"\",'様式3R W'!M26)","v":""},{"$f":"IF('様式3R W'!G26=\"\",\"\",'様式3R W'!G26)","v":""},{"$f":"IF('様式3R W'!G26=\"\",\"\",SUBSTITUTE(CONCATENATE(\"リレー\",'様式3R W'!$D$7),\"　\",\"\"))","v":""},{"$f":"IF('様式3R W'!G26=\"\",\"\",'様式3R W'!$A$25)","v":""}]
[59,{"$f":"IF('様式3R W'!G27=\"\",\"\",ASC('様式3R W'!J27))","v":""},{"$f":"IF('様式3R W'!G27=\"\",\"\",'様式3R W'!$D$5)","v":""},{"$f":"IF('様式3R W'!G27=\"\",\"\",'様式3R W'!$B$26)","v":""},{"$f":"IF('様式3R W'!G27=\"\",\"\",'様式3R W'!M27)","v":""},{"$f":"IF('様式3R W'!G27=\"\",\"\",'様式3R W'!G27)","v":""},{"$f":"IF('様式3R W'!G27=\"\",\"\",SUBSTITUTE(CONCATENATE(\"リレー\",'様式3R W'!$D$7),\"　\",\"\"))","v":""},{"$f":"IF('様式3R W'!G27=\"\",\"\",'様式3R W'!$A$25)","v":""}]
[60,{"$f":"IF('様式3R W'!G28=\"\",\"\",ASC('様式3R W'!J28))","v":""},{"$f":"IF('様式3R W'!G28=\"\",\"\",'様式3R W'!$D$5)","v":""},{"$f":"IF('様式3R W'!G28=\"\",\"\",'様式3R W'!$B$26)","v":""},{"$f":"IF('様式3R W'!G28=\"\",\"\",'様式3R W'!M28)","v":""},{"$f":"IF('様式3R W'!G28=\"\",\"\",'様式3R W'!G28)","v":""},{"$f":"IF('様式3R W'!G28=\"\",\"\",SUBSTITUTE(CONCATENATE(\"リレー\",'様式3R W'!$D$7),\"　\",\"\"))","v":""},{"$f":"IF('様式3R W'!G28=\"\",\"\",'様式3R W'!$A$25)","v":""}]
[61,{"$f":"IF('様式3R W'!G29=\"\",\"\",ASC('様式3R W'!J29))","v":""},{"$f":"IF('様式3R W'!G29=\"\",\"\",'様式3R W'!$D$5)","v":""},{"$f":"IF('様式3R W'!G29=\"\",\"\",'様式3R W'!$B$26)","v":""},{"$f":"IF('様式3R W'!G29=\"\",\"\",'様式3R W'!M29)","v":""},{"$f":"IF('様式3R W'!G29=\"\",\"\",'様式3R W'!G29)","v":""},{"$f":"IF('様式3R W'!G29=\"\",\"\",SUBSTITUTE(CONCATENATE(\"リレー\",'様式3R W'!$D$7),\"　\",\"\"))","v":""},{"$f":"IF('様式3R W'!G29=\"\",\"\",'様式3R W'!$A$25)","v":""}]
[62,{"$f":"IF('様式3R W'!G30=\"\",\"\",ASC('様式3R W'!J30))","v":""},{"$f":"IF('様式3R W'!G30=\"\",\"\",'様式3R W'!$D$5)","v":""},{"$f":"IF('様式3R W'!G30=\"\",\"\",'様式3R W'!$B$26)","v":""},{"$f":"IF('様式3R W'!G30=\"\",\"\",'様式3R W'!M30)","v":""},{"$f":"IF('様式3R W'!G30=\"\",\"\",'様式3R W'!G30)","v":""},{"$f":"IF('様式3R W'!G30=\"\",\"\",SUBSTITUTE(CONCATENATE(\"リレー\",'様式3R W'!$D$7),\"　\",\"\"))","v":""},{"$f":"IF('様式3R W'!G30=\"\",\"\",'様式3R W'!$A$25)","v":""}]
[63,{"$f":"IF('様式3R W'!G31=\"\",\"\",ASC('様式3R W'!J31))","v":""},{"$f":"IF('様式3R W'!G31=\"\",\"\",'様式3R W'!$D$5)","v":""},{"$f":"IF('様式3R W'!G31=\"\",\"\",'様式3R W'!$B$26)","v":""},{"$f":"IF('様式3R W'!G31=\"\",\"\",'様式3R W'!M31)","v":""},{"$f":"IF('様式3R W'!G31=\"\",\"\",'様式3R W'!G31)","v":""},{"$f":"IF('様式3R W'!G31=\"\",\"\",SUBSTITUTE(CONCATENATE(\"リレー\",'様式3R W'!$D$7),\"　\",\"\"))","v":""},{"$f":"IF('様式3R W'!G31=\"\",\"\",'様式3R W'!$A$25)","v":""}]
[64,{"$f":"IF('様式3R W'!G32=\"\",\"\",ASC('様式3R W'!J32))","v":""},{"$f":"IF('様式3R W'!G32=\"\",\"\",'様式3R W'!$D$5)","v":""},{"$f":"IF('様式3R W'!G32=\"\",\"\",'様式3R W'!$B$26)","v":""},{"$f":"IF('様式3R W'!G32=\"\",\"\",'様式3R W'!M32)","v":""},{"$f":"IF('様式3R W'!G32=\"\",\"\",'様式3R W'!G32)","v":""},{"$f":"IF('様式3R W'!G32=\"\",\"\",SUBSTITUTE(CONCATENATE(\"リレー\",'様式3R W'!$D$7),\"　\",\"\"))","v":""},{"$f":"IF('様式3R W'!G32=\"\",\"\",'様式3R W'!$A$25)","v":""}]
[65]
[66,{"$f":"IF('様式3R W'!G34=\"\",\"\",ASC('様式3R W'!J34))","v":""},{"$f":"IF('様式3R W'!G34=\"\",\"\",'様式3R W'!$D$5)","v":""},{"$f":"IF('様式3R W'!G34=\"\",\"\",'様式3R W'!$B$34)","v":""},{"$f":"IF('様式3R W'!G34=\"\",\"\",'様式3R W'!M34)","v":""},{"$f":"IF('様式3R W'!G34=\"\",\"\",'様式3R W'!G34)","v":""},{"$f":"IF('様式3R W'!G34=\"\",\"\",SUBSTITUTE(CONCATENATE(\"リレー\",'様式3R W'!$D$7),\"　\",\"\"))","v":""},{"$f":"IF('様式3R W'!G34=\"\",\"\",'様式3R W'!$A$33)","v":""}]
[67,{"$f":"IF('様式3R W'!G35=\"\",\"\",ASC('様式3R W'!J35))","v":""},{"$f":"IF('様式3R W'!G35=\"\",\"\",'様式3R W'!$D$5)","v":""},{"$f":"IF('様式3R W'!G35=\"\",\"\",'様式3R W'!$B$34)","v":""},{"$f":"IF('様式3R W'!G35=\"\",\"\",'様式3R W'!M35)","v":""},{"$f":"IF('様式3R W'!G35=\"\",\"\",'様式3R W'!G35)","v":""},{"$f":"IF('様式3R W'!G35=\"\",\"\",SUBSTITUTE(CONCATENATE(\"リレー\",'様式3R W'!$D$7),\"　\",\"\"))","v":""},{"$f":"IF('様式3R W'!G35=\"\",\"\",'様式3R W'!$A$33)","v":""}]
[68,{"$f":"IF('様式3R W'!G36=\"\",\"\",ASC('様式3R W'!J36))","v":""},{"$f":"IF('様式3R W'!G36=\"\",\"\",'様式3R W'!$D$5)","v":""},{"$f":"IF('様式3R W'!G36=\"\",\"\",'様式3R W'!$B$34)","v":""},{"$f":"IF('様式3R W'!G36=\"\",\"\",'様式3R W'!M36)","v":""},{"$f":"IF('様式3R W'!G36=\"\",\"\",'様式3R W'!G36)","v":""},{"$f":"IF('様式3R W'!G36=\"\",\"\",SUBSTITUTE(CONCATENATE(\"リレー\",'様式3R W'!$D$7),\"　\",\"\"))","v":""},{"$f":"IF('様式3R W'!G36=\"\",\"\",'様式3R W'!$A$33)","v":""}]
[69,{"$f":"IF('様式3R W'!G37=\"\",\"\",ASC('様式3R W'!J37))","v":""},{"$f":"IF('様式3R W'!G37=\"\",\"\",'様式3R W'!$D$5)","v":""},{"$f":"IF('様式3R W'!G37=\"\",\"\",'様式3R W'!$B$34)","v":""},{"$f":"IF('様式3R W'!G37=\"\",\"\",'様式3R W'!M37)","v":""},{"$f":"IF('様式3R W'!G37=\"\",\"\",'様式3R W'!G37)","v":""},{"$f":"IF('様式3R W'!G37=\"\",\"\",SUBSTITUTE(CONCATENATE(\"リレー\",'様式3R W'!$D$7),\"　\",\"\"))","v":""},{"$f":"IF('様式3R W'!G37=\"\",\"\",'様式3R W'!$A$33)","v":""}]
[70,{"$f":"IF('様式3R W'!G38=\"\",\"\",ASC('様式3R W'!J38))","v":""},{"$f":"IF('様式3R W'!G38=\"\",\"\",'様式3R W'!$D$5)","v":""},{"$f":"IF('様式3R W'!G38=\"\",\"\",'様式3R W'!$B$34)","v":""},{"$f":"IF('様式3R W'!G38=\"\",\"\",'様式3R W'!M38)","v":""},{"$f":"IF('様式3R W'!G38=\"\",\"\",'様式3R W'!G38)","v":""},{"$f":"IF('様式3R W'!G38=\"\",\"\",SUBSTITUTE(CONCATENATE(\"リレー\",'様式3R W'!$D$7),\"　\",\"\"))","v":""},{"$f":"IF('様式3R W'!G38=\"\",\"\",'様式3R W'!$A$33)","v":""}]
[71,{"$f":"IF('様式3R W'!G39=\"\",\"\",ASC('様式3R W'!J39))","v":""},{"$f":"IF('様式3R W'!G39=\"\",\"\",'様式3R W'!$D$5)","v":""},{"$f":"IF('様式3R W'!G39=\"\",\"\",'様式3R W'!$B$34)","v":""},{"$f":"IF('様式3R W'!G39=\"\",\"\",'様式3R W'!M39)","v":""},{"$f":"IF('様式3R W'!G39=\"\",\"\",'様式3R W'!G39)","v":""},{"$f":"IF('様式3R W'!G39=\"\",\"\",SUBSTITUTE(CONCATENATE(\"リレー\",'様式3R W'!$D$7),\"　\",\"\"))","v":""},{"$f":"IF('様式3R W'!G39=\"\",\"\",'様式3R W'!$A$33)","v":""}]
[72,{"$f":"IF('様式3R W'!G40=\"\",\"\",ASC('様式3R W'!J40))","v":""},{"$f":"IF('様式3R W'!G40=\"\",\"\",'様式3R W'!$D$5)","v":""},{"$f":"IF('様式3R W'!G40=\"\",\"\",'様式3R W'!$B$34)","v":""},{"$f":"IF('様式3R W'!G40=\"\",\"\",'様式3R W'!M40)","v":""},{"$f":"IF('様式3R W'!G40=\"\",\"\",'様式3R W'!G40)","v":""},{"$f":"IF('様式3R W'!G40=\"\",\"\",SUBSTITUTE(CONCATENATE(\"リレー\",'様式3R W'!$D$7),\"　\",\"\"))","v":""},{"$f":"IF('様式3R W'!G40=\"\",\"\",'様式3R W'!$A$33)","v":""}]
[73]
[74,{"$f":"IF('様式3R W'!G42=\"\",\"\",ASC('様式3R W'!J42))","v":""},{"$f":"IF('様式3R W'!G42=\"\",\"\",'様式3R W'!$D$5)","v":""},{"$f":"IF('様式3R W'!G42=\"\",\"\",'様式3R W'!$B$42)","v":""},{"$f":"IF('様式3R W'!G42=\"\",\"\",'様式3R W'!M42)","v":""},{"$f":"IF('様式3R W'!G42=\"\",\"\",'様式3R W'!G42)","v":""},{"$f":"IF('様式3R W'!G42=\"\",\"\",SUBSTITUTE(CONCATENATE(\"リレー\",'様式3R W'!$D$7),\"　\",\"\"))","v":""},{"$f":"IF('様式3R W'!G42=\"\",\"\",'様式3R W'!$A$41)","v":""}]
[75,{"$f":"IF('様式3R W'!G43=\"\",\"\",ASC('様式3R W'!J43))","v":""},{"$f":"IF('様式3R W'!G43=\"\",\"\",'様式3R W'!$D$5)","v":""},{"$f":"IF('様式3R W'!G43=\"\",\"\",'様式3R W'!$B$42)","v":""},{"$f":"IF('様式3R W'!G43=\"\",\"\",'様式3R W'!M43)","v":""},{"$f":"IF('様式3R W'!G43=\"\",\"\",'様式3R W'!G43)","v":""},{"$f":"IF('様式3R W'!G43=\"\",\"\",SUBSTITUTE(CONCATENATE(\"リレー\",'様式3R W'!$D$7),\"　\",\"\"))","v":""},{"$f":"IF('様式3R W'!G43=\"\",\"\",'様式3R W'!$A$41)","v":""}]
[76,{"$f":"IF('様式3R W'!G44=\"\",\"\",ASC('様式3R W'!J44))","v":""},{"$f":"IF('様式3R W'!G44=\"\",\"\",'様式3R W'!$D$5)","v":""},{"$f":"IF('様式3R W'!G44=\"\",\"\",'様式3R W'!$B$42)","v":""},{"$f":"IF('様式3R W'!G44=\"\",\"\",'様式3R W'!M44)","v":""},{"$f":"IF('様式3R W'!G44=\"\",\"\",'様式3R W'!G44)","v":""},{"$f":"IF('様式3R W'!G44=\"\",\"\",SUBSTITUTE(CONCATENATE(\"リレー\",'様式3R W'!$D$7),\"　\",\"\"))","v":""},{"$f":"IF('様式3R W'!G44=\"\",\"\",'様式3R W'!$A$41)","v":""}]
[77,{"$f":"IF('様式3R W'!G45=\"\",\"\",ASC('様式3R W'!J45))","v":""},{"$f":"IF('様式3R W'!G45=\"\",\"\",'様式3R W'!$D$5)","v":""},{"$f":"IF('様式3R W'!G45=\"\",\"\",'様式3R W'!$B$42)","v":""},{"$f":"IF('様式3R W'!G45=\"\",\"\",'様式3R W'!M45)","v":""},{"$f":"IF('様式3R W'!G45=\"\",\"\",'様式3R W'!G45)","v":""},{"$f":"IF('様式3R W'!G45=\"\",\"\",SUBSTITUTE(CONCATENATE(\"リレー\",'様式3R W'!$D$7),\"　\",\"\"))","v":""},{"$f":"IF('様式3R W'!G45=\"\",\"\",'様式3R W'!$A$41)","v":""}]
[78,{"$f":"IF('様式3R W'!G46=\"\",\"\",ASC('様式3R W'!J46))","v":""},{"$f":"IF('様式3R W'!G46=\"\",\"\",'様式3R W'!$D$5)","v":""},{"$f":"IF('様式3R W'!G46=\"\",\"\",'様式3R W'!$B$42)","v":""},{"$f":"IF('様式3R W'!G46=\"\",\"\",'様式3R W'!M46)","v":""},{"$f":"IF('様式3R W'!G46=\"\",\"\",'様式3R W'!G46)","v":""},{"$f":"IF('様式3R W'!G46=\"\",\"\",SUBSTITUTE(CONCATENATE(\"リレー\",'様式3R W'!$D$7),\"　\",\"\"))","v":""},{"$f":"IF('様式3R W'!G46=\"\",\"\",'様式3R W'!$A$41)","v":""}]
[79,{"$f":"IF('様式3R W'!G47=\"\",\"\",ASC('様式3R W'!J47))","v":""},{"$f":"IF('様式3R W'!G47=\"\",\"\",'様式3R W'!$D$5)","v":""},{"$f":"IF('様式3R W'!G47=\"\",\"\",'様式3R W'!$B$42)","v":""},{"$f":"IF('様式3R W'!G47=\"\",\"\",'様式3R W'!M47)","v":""},{"$f":"IF('様式3R W'!G47=\"\",\"\",'様式3R W'!G47)","v":""},{"$f":"IF('様式3R W'!G47=\"\",\"\",SUBSTITUTE(CONCATENATE(\"リレー\",'様式3R W'!$D$7),\"　\",\"\"))","v":""},{"$f":"IF('様式3R W'!G47=\"\",\"\",'様式3R W'!$A$41)","v":""}]
[80,{"$f":"IF('様式3R W'!G48=\"\",\"\",ASC('様式3R W'!J48))","v":""},{"$f":"IF('様式3R W'!G48=\"\",\"\",'様式3R W'!$D$5)","v":""},{"$f":"IF('様式3R W'!G48=\"\",\"\",'様式3R W'!$B$42)","v":""},{"$f":"IF('様式3R W'!G48=\"\",\"\",'様式3R W'!M48)","v":""},{"$f":"IF('様式3R W'!G48=\"\",\"\",'様式3R W'!G48)","v":""},{"$f":"IF('様式3R W'!G48=\"\",\"\",SUBSTITUTE(CONCATENATE(\"リレー\",'様式3R W'!$D$7),\"　\",\"\"))","v":""},{"$f":"IF('様式3R W'!G48=\"\",\"\",'様式3R W'!$A$41)","v":""}]
[81]
[82,{"$f":"IF('様式3N MF'!D11=\"\",\"\",ASC('様式3N MF'!D11))","v":""},{"$f":"IF('様式3N MF'!D11=\"\",\"\",'様式3N MF'!$D$6)","v":""},{"$f":"IF('様式3N MF'!D11=\"\",\"\",'様式3N MF'!G11)","v":""},{"$f":"IF('様式3N MF'!D11=\"\",\"\",'様式3N MF'!H11)","v":""},{"$f":"IF('様式3N MF'!D11=\"\",\"\",'様式3N MF'!E11)","v":""},{"$f":"IF('様式3N MF'!D11=\"\",\"\",SUBSTITUTE(CONCATENATE(\"ノルディック\",'様式3N MF'!$D$8,'様式3N MF'!$G$8),\"　\",\"\"))","v":""},{"$f":"IF('様式3N MF'!D11=\"\",\"\",'様式3N MF'!B11)","v":""},{"$f":"IF('様式3N MF'!D11=\"\",\"\",IF('様式3N MF'!C11=0,\"\",'様式3N MF'!C11))","v":""}]
[83,{"$f":"IF('様式3N MF'!D12=\"\",\"\",ASC('様式3N MF'!D12))","v":""},{"$f":"IF('様式3N MF'!D12=\"\",\"\",'様式3N MF'!$D$6)","v":""},{"$f":"IF('様式3N MF'!D12=\"\",\"\",'様式3N MF'!G12)","v":""},{"$f":"IF('様式3N MF'!D12=\"\",\"\",'様式3N MF'!H12)","v":""},{"$f":"IF('様式3N MF'!D12=\"\",\"\",'様式3N MF'!E12)","v":""},{"$f":"IF('様式3N MF'!D12=\"\",\"\",SUBSTITUTE(CONCATENATE(\"ノルディック\",'様式3N MF'!$D$8,'様式3N MF'!$G$8),\"　\",\"\"))","v":""},{"$f":"IF('様式3N MF'!D12=\"\",\"\",'様式3N MF'!B12)","v":""},{"$f":"IF('様式3N MF'!D12=\"\",\"\",IF('様式3N MF'!C12=0,\"\",'様式3N MF'!C12))","v":""}]
[84,{"$f":"IF('様式3N MF'!D13=\"\",\"\",ASC('様式3N MF'!D13))","v":""},{"$f":"IF('様式3N MF'!D13=\"\",\"\",'様式3N MF'!$D$6)","v":""},{"$f":"IF('様式3N MF'!D13=\"\",\"\",'様式3N MF'!G13)","v":""},{"$f":"IF('様式3N MF'!D13=\"\",\"\",'様式3N MF'!H13)","v":""},{"$f":"IF('様式3N MF'!D13=\"\",\"\",'様式3N MF'!E13)","v":""},{"$f":"IF('様式3N MF'!D13=\"\",\"\",SUBSTITUTE(CONCATENATE(\"ノルディック\",'様式3N MF'!$D$8,'様式3N MF'!$G$8),\"　\",\"\"))","v":""},{"$f":"IF('様式3N MF'!D13=\"\",\"\",'様式3N MF'!B13)","v":""},{"$f":"IF('様式3N MF'!D13=\"\",\"\",IF('様式3N MF'!C13=0,\"\",'様式3N MF'!C13))","v":""}]
[85,{"$f":"IF('様式3N MF'!D14=\"\",\"\",ASC('様式3N MF'!D14))","v":""},{"$f":"IF('様式3N MF'!D14=\"\",\"\",'様式3N MF'!$D$6)","v":""},{"$f":"IF('様式3N MF'!D14=\"\",\"\",'様式3N MF'!G14)","v":""},{"$f":"IF('様式3N MF'!D14=\"\",\"\",'様式3N MF'!H14)","v":""},{"$f":"IF('様式3N MF'!D14=\"\",\"\",'様式3N MF'!E14)","v":""},{"$f":"IF('様式3N MF'!D14=\"\",\"\",SUBSTITUTE(CONCATENATE(\"ノルディック\",'様式3N MF'!$D$8,'様式3N MF'!$G$8),\"　\",\"\"))","v":""},{"$f":"IF('様式3N MF'!D14=\"\",\"\",'様式3N MF'!B14)","v":""},{"$f":"IF('様式3N MF'!D14=\"\",\"\",IF('様式3N MF'!C14=0,\"\",'様式3N MF'!C14))","v":""}]
[86,{"$f":"IF('様式3N MF'!D15=\"\",\"\",ASC('様式3N MF'!D15))","v":""},{"$f":"IF('様式3N MF'!D15=\"\",\"\",'様式3N MF'!$D$6)","v":""},{"$f":"IF('様式3N MF'!D15=\"\",\"\",'様式3N MF'!G15)","v":""},{"$f":"IF('様式3N MF'!D15=\"\",\"\",'様式3N MF'!H15)","v":""},{"$f":"IF('様式3N MF'!D15=\"\",\"\",'様式3N MF'!E15)","v":""},{"$f":"IF('様式3N MF'!D15=\"\",\"\",SUBSTITUTE(CONCATENATE(\"ノルディック\",'様式3N MF'!$D$8,'様式3N MF'!$G$8),\"　\",\"\"))","v":""},{"$f":"IF('様式3N MF'!D15=\"\",\"\",'様式3N MF'!B15)","v":""},{"$f":"IF('様式3N MF'!D15=\"\",\"\",IF('様式3N MF'!C15=0,\"\",'様式3N MF'!C15))","v":""}]
[87,{"$f":"IF('様式3N MF'!D16=\"\",\"\",ASC('様式3N MF'!D16))","v":""},{"$f":"IF('様式3N MF'!D16=\"\",\"\",'様式3N MF'!$D$6)","v":""},{"$f":"IF('様式3N MF'!D16=\"\",\"\",'様式3N MF'!G16)","v":""},{"$f":"IF('様式3N MF'!D16=\"\",\"\",'様式3N MF'!H16)","v":""},{"$f":"IF('様式3N MF'!D16=\"\",\"\",'様式3N MF'!E16)","v":""},{"$f":"IF('様式3N MF'!D16=\"\",\"\",SUBSTITUTE(CONCATENATE(\"ノルディック\",'様式3N MF'!$D$8,'様式3N MF'!$G$8),\"　\",\"\"))","v":""},{"$f":"IF('様式3N MF'!D16=\"\",\"\",'様式3N MF'!B16)","v":""},{"$f":"IF('様式3N MF'!D16=\"\",\"\",IF('様式3N MF'!C16=0,\"\",'様式3N MF'!C16))","v":""}]
[88,{"$f":"IF('様式3N MF'!D17=\"\",\"\",ASC('様式3N MF'!D17))","v":""},{"$f":"IF('様式3N MF'!D17=\"\",\"\",'様式3N MF'!$D$6)","v":""},{"$f":"IF('様式3N MF'!D17=\"\",\"\",'様式3N MF'!G17)","v":""},{"$f":"IF('様式3N MF'!D17=\"\",\"\",'様式3N MF'!H17)","v":""},{"$f":"IF('様式3N MF'!D17=\"\",\"\",'様式3N MF'!E17)","v":""},{"$f":"IF('様式3N MF'!D17=\"\",\"\",SUBSTITUTE(CONCATENATE(\"ノルディック\",'様式3N MF'!$D$8,'様式3N MF'!$G$8),\"　\",\"\"))","v":""},{"$f":"IF('様式3N MF'!D17=\"\",\"\",'様式3N MF'!B17)","v":""},{"$f":"IF('様式3N MF'!D17=\"\",\"\",IF('様式3N MF'!C17=0,\"\",'様式3N MF'!C17))","v":""}]
[89,{"$f":"IF('様式3N MF'!D18=\"\",\"\",ASC('様式3N MF'!D18))","v":""},{"$f":"IF('様式3N MF'!D18=\"\",\"\",'様式3N MF'!$D$6)","v":""},{"$f":"IF('様式3N MF'!D18=\"\",\"\",'様式3N MF'!G18)","v":""},{"$f":"IF('様式3N MF'!D18=\"\",\"\",'様式3N MF'!H18)","v":""},{"$f":"IF('様式3N MF'!D18=\"\",\"\",'様式3N MF'!E18)","v":""},{"$f":"IF('様式3N MF'!D18=\"\",\"\",SUBSTITUTE(CONCATENATE(\"ノルディック\",'様式3N MF'!$D$8,'様式3N MF'!$G$8),\"　\",\"\"))","v":""},{"$f":"IF('様式3N MF'!D18=\"\",\"\",'様式3N MF'!B18)","v":""},{"$f":"IF('様式3N MF'!D18=\"\",\"\",IF('様式3N MF'!C18=0,\"\",'様式3N MF'!C18))","v":""}]
[90,{"$f":"IF('様式3N MF'!D19=\"\",\"\",ASC('様式3N MF'!D19))","v":""},{"$f":"IF('様式3N MF'!D19=\"\",\"\",'様式3N MF'!$D$6)","v":""},{"$f":"IF('様式3N MF'!D19=\"\",\"\",'様式3N MF'!G19)","v":""},{"$f":"IF('様式3N MF'!D19=\"\",\"\",'様式3N MF'!H19)","v":""},{"$f":"IF('様式3N MF'!D19=\"\",\"\",'様式3N MF'!E19)","v":""},{"$f":"IF('様式3N MF'!D19=\"\",\"\",SUBSTITUTE(CONCATENATE(\"ノルディック\",'様式3N MF'!$D$8,'様式3N MF'!$G$8),\"　\",\"\"))","v":""},{"$f":"IF('様式3N MF'!D19=\"\",\"\",'様式3N MF'!B19)","v":""},{"$f":"IF('様式3N MF'!D19=\"\",\"\",IF('様式3N MF'!C19=0,\"\",'様式3N MF'!C19))","v":""}]
[91,{"$f":"IF('様式3N MF'!D20=\"\",\"\",ASC('様式3N MF'!D20))","v":""},{"$f":"IF('様式3N MF'!D20=\"\",\"\",'様式3N MF'!$D$6)","v":""},{"$f":"IF('様式3N MF'!D20=\"\",\"\",'様式3N MF'!G20)","v":""},{"$f":"IF('様式3N MF'!D20=\"\",\"\",'様式3N MF'!H20)","v":""},{"$f":"IF('様式3N MF'!D20=\"\",\"\",'様式3N MF'!E20)","v":""},{"$f":"IF('様式3N MF'!D20=\"\",\"\",SUBSTITUTE(CONCATENATE(\"ノルディック\",'様式3N MF'!$D$8,'様式3N MF'!$G$8),\"　\",\"\"))","v":""},{"$f":"IF('様式3N MF'!D20=\"\",\"\",'様式3N MF'!B20)","v":""},{"$f":"IF('様式3N MF'!D20=\"\",\"\",IF('様式3N MF'!C20=0,\"\",'様式3N MF'!C20))","v":""}]
[92,{"$f":"IF('様式3N MF'!D21=\"\",\"\",ASC('様式3N MF'!D21))","v":""},{"$f":"IF('様式3N MF'!D21=\"\",\"\",'様式3N MF'!$D$6)","v":""},{"$f":"IF('様式3N MF'!D21=\"\",\"\",'様式3N MF'!G21)","v":""},{"$f":"IF('様式3N MF'!D21=\"\",\"\",'様式3N MF'!H21)","v":""},{"$f":"IF('様式3N MF'!D21=\"\",\"\",'様式3N MF'!E21)","v":""},{"$f":"IF('様式3N MF'!D21=\"\",\"\",SUBSTITUTE(CONCATENATE(\"ノルディック\",'様式3N MF'!$D$8,'様式3N MF'!$G$8),\"　\",\"\"))","v":""},{"$f":"IF('様式3N MF'!D21=\"\",\"\",'様式3N MF'!B21)","v":""},{"$f":"IF('様式3N MF'!D21=\"\",\"\",IF('様式3N MF'!C21=0,\"\",'様式3N MF'!C21))","v":""}]
[93,{"$f":"IF('様式3N MF'!D22=\"\",\"\",ASC('様式3N MF'!D22))","v":""},{"$f":"IF('様式3N MF'!D22=\"\",\"\",'様式3N MF'!$D$6)","v":""},{"$f":"IF('様式3N MF'!D22=\"\",\"\",'様式3N MF'!G22)","v":""},{"$f":"IF('様式3N MF'!D22=\"\",\"\",'様式3N MF'!H22)","v":""},{"$f":"IF('様式3N MF'!D22=\"\",\"\",'様式3N MF'!E22)","v":""},{"$f":"IF('様式3N MF'!D22=\"\",\"\",SUBSTITUTE(CONCATENATE(\"ノルディック\",'様式3N MF'!$D$8,'様式3N MF'!$G$8),\"　\",\"\"))","v":""},{"$f":"IF('様式3N MF'!D22=\"\",\"\",'様式3N MF'!B22)","v":""},{"$f":"IF('様式3N MF'!D22=\"\",\"\",IF('様式3N MF'!C22=0,\"\",'様式3N MF'!C22))","v":""}]
[94,{"$f":"IF('様式3N MF'!D23=\"\",\"\",ASC('様式3N MF'!D23))","v":""},{"$f":"IF('様式3N MF'!D23=\"\",\"\",'様式3N MF'!$D$6)","v":""},{"$f":"IF('様式3N MF'!D23=\"\",\"\",'様式3N MF'!G23)","v":""},{"$f":"IF('様式3N MF'!D23=\"\",\"\",'様式3N MF'!H23)","v":""},{"$f":"IF('様式3N MF'!D23=\"\",\"\",'様式3N MF'!E23)","v":""},{"$f":"IF('様式3N MF'!D23=\"\",\"\",SUBSTITUTE(CONCATENATE(\"ノルディック\",'様式3N MF'!$D$8,'様式3N MF'!$G$8),\"　\",\"\"))","v":""},{"$f":"IF('様式3N MF'!D23=\"\",\"\",'様式3N MF'!B23)","v":""},{"$f":"IF('様式3N MF'!D23=\"\",\"\",IF('様式3N MF'!C23=0,\"\",'様式3N MF'!C23))","v":""}]
[95,{"$f":"IF('様式3N MF'!D24=\"\",\"\",ASC('様式3N MF'!D24))","v":""},{"$f":"IF('様式3N MF'!D24=\"\",\"\",'様式3N MF'!$D$6)","v":""},{"$f":"IF('様式3N MF'!D24=\"\",\"\",'様式3N MF'!G24)","v":""},{"$f":"IF('様式3N MF'!D24=\"\",\"\",'様式3N MF'!H24)","v":""},{"$f":"IF('様式3N MF'!D24=\"\",\"\",'様式3N MF'!E24)","v":""},{"$f":"IF('様式3N MF'!D24=\"\",\"\",SUBSTITUTE(CONCATENATE(\"ノルディック\",'様式3N MF'!$D$8,'様式3N MF'!$G$8),\"　\",\"\"))","v":""},{"$f":"IF('様式3N MF'!D24=\"\",\"\",'様式3N MF'!B24)","v":""},{"$f":"IF('様式3N MF'!D24=\"\",\"\",IF('様式3N MF'!C24=0,\"\",'様式3N MF'!C24))","v":""}]
[96,{"$f":"IF('様式3N MF'!D25=\"\",\"\",ASC('様式3N MF'!D25))","v":""},{"$f":"IF('様式3N MF'!D25=\"\",\"\",'様式3N MF'!$D$6)","v":""},{"$f":"IF('様式3N MF'!D25=\"\",\"\",'様式3N MF'!G25)","v":""},{"$f":"IF('様式3N MF'!D25=\"\",\"\",'様式3N MF'!H25)","v":""},{"$f":"IF('様式3N MF'!D25=\"\",\"\",'様式3N MF'!E25)","v":""},{"$f":"IF('様式3N MF'!D25=\"\",\"\",SUBSTITUTE(CONCATENATE(\"ノルディック\",'様式3N MF'!$D$8,'様式3N MF'!$G$8),\"　\",\"\"))","v":""},{"$f":"IF('様式3N MF'!D25=\"\",\"\",'様式3N MF'!B25)","v":""},{"$f":"IF('様式3N MF'!D25=\"\",\"\",IF('様式3N MF'!C25=0,\"\",'様式3N MF'!C25))","v":""}]
[97,{"$f":"IF('様式3N MF'!D26=\"\",\"\",ASC('様式3N MF'!D26))","v":""},{"$f":"IF('様式3N MF'!D26=\"\",\"\",'様式3N MF'!$D$6)","v":""},{"$f":"IF('様式3N MF'!D26=\"\",\"\",'様式3N MF'!G26)","v":""},{"$f":"IF('様式3N MF'!D26=\"\",\"\",'様式3N MF'!H26)","v":""},{"$f":"IF('様式3N MF'!D26=\"\",\"\",'様式3N MF'!E26)","v":""},{"$f":"IF('様式3N MF'!D26=\"\",\"\",SUBSTITUTE(CONCATENATE(\"ノルディック\",'様式3N MF'!$D$8,'様式3N MF'!$G$8),\"　\",\"\"))","v":""},{"$f":"IF('様式3N MF'!D26=\"\",\"\",'様式3N MF'!B26)","v":""},{"$f":"IF('様式3N MF'!D26=\"\",\"\",IF('様式3N MF'!C26=0,\"\",'様式3N MF'!C26))","v":""}]
[98,{"$f":"IF('様式3N MF'!D27=\"\",\"\",ASC('様式3N MF'!D27))","v":""},{"$f":"IF('様式3N MF'!D27=\"\",\"\",'様式3N MF'!$D$6)","v":""},{"$f":"IF('様式3N MF'!D27=\"\",\"\",'様式3N MF'!G27)","v":""},{"$f":"IF('様式3N MF'!D27=\"\",\"\",'様式3N MF'!H27)","v":""},{"$f":"IF('様式3N MF'!D27=\"\",\"\",'様式3N MF'!E27)","v":""},{"$f":"IF('様式3N MF'!D27=\"\",\"\",SUBSTITUTE(CONCATENATE(\"ノルディック\",'様式3N MF'!$D$8,'様式3N MF'!$G$8),\"　\",\"\"))","v":""},{"$f":"IF('様式3N MF'!D27=\"\",\"\",'様式3N MF'!B27)","v":""},{"$f":"IF('様式3N MF'!D27=\"\",\"\",IF('様式3N MF'!C27=0,\"\",'様式3N MF'!C27))","v":""}]
[99,{"$f":"IF('様式3N MF'!D28=\"\",\"\",ASC('様式3N MF'!D28))","v":""},{"$f":"IF('様式3N MF'!D28=\"\",\"\",'様式3N MF'!$D$6)","v":""},{"$f":"IF('様式3N MF'!D28=\"\",\"\",'様式3N MF'!G28)","v":""},{"$f":"IF('様式3N MF'!D28=\"\",\"\",'様式3N MF'!H28)","v":""},{"$f":"IF('様式3N MF'!D28=\"\",\"\",'様式3N MF'!E28)","v":""},{"$f":"IF('様式3N MF'!D28=\"\",\"\",SUBSTITUTE(CONCATENATE(\"ノルディック\",'様式3N MF'!$D$8,'様式3N MF'!$G$8),\"　\",\"\"))","v":""},{"$f":"IF('様式3N MF'!D28=\"\",\"\",'様式3N MF'!B28)","v":""},{"$f":"IF('様式3N MF'!D28=\"\",\"\",IF('様式3N MF'!C28=0,\"\",'様式3N MF'!C28))","v":""}]
[100,{"$f":"IF('様式3N MF'!D29=\"\",\"\",ASC('様式3N MF'!D29))","v":""},{"$f":"IF('様式3N MF'!D29=\"\",\"\",'様式3N MF'!$D$6)","v":""},{"$f":"IF('様式3N MF'!D29=\"\",\"\",'様式3N MF'!G29)","v":""},{"$f":"IF('様式3N MF'!D29=\"\",\"\",'様式3N MF'!H29)","v":""},{"$f":"IF('様式3N MF'!D29=\"\",\"\",'様式3N MF'!E29)","v":""},{"$f":"IF('様式3N MF'!D29=\"\",\"\",SUBSTITUTE(CONCATENATE(\"ノルディック\",'様式3N MF'!$D$8,'様式3N MF'!$G$8),\"　\",\"\"))","v":""},{"$f":"IF('様式3N MF'!D29=\"\",\"\",'様式3N MF'!B29)","v":""},{"$f":"IF('様式3N MF'!D29=\"\",\"\",IF('様式3N MF'!C29=0,\"\",'様式3N MF'!C29))","v":""}]
[101,{"$f":"IF('様式3N MF'!D30=\"\",\"\",ASC('様式3N MF'!D30))","v":""},{"$f":"IF('様式3N MF'!D30=\"\",\"\",'様式3N MF'!$D$6)","v":""},{"$f":"IF('様式3N MF'!D30=\"\",\"\",'様式3N MF'!G30)","v":""},{"$f":"IF('様式3N MF'!D30=\"\",\"\",'様式3N MF'!H30)","v":""},{"$f":"IF('様式3N MF'!D30=\"\",\"\",'様式3N MF'!E30)","v":""},{"$f":"IF('様式3N MF'!D30=\"\",\"\",SUBSTITUTE(CONCATENATE(\"ノルディック\",'様式3N MF'!$D$8,'様式3N MF'!$G$8),\"　\",\"\"))","v":""},{"$f":"IF('様式3N MF'!D30=\"\",\"\",'様式3N MF'!B30)","v":""},{"$f":"IF('様式3N MF'!D30=\"\",\"\",IF('様式3N MF'!C30=0,\"\",'様式3N MF'!C30))","v":""}]
[102,{"$f":"IF('様式3N MF'!D31=\"\",\"\",ASC('様式3N MF'!D31))","v":""},{"$f":"IF('様式3N MF'!D31=\"\",\"\",'様式3N MF'!$D$6)","v":""},{"$f":"IF('様式3N MF'!D31=\"\",\"\",'様式3N MF'!G31)","v":""},{"$f":"IF('様式3N MF'!D31=\"\",\"\",'様式3N MF'!H31)","v":""},{"$f":"IF('様式3N MF'!D31=\"\",\"\",'様式3N MF'!E31)","v":""},{"$f":"IF('様式3N MF'!D31=\"\",\"\",SUBSTITUTE(CONCATENATE(\"ノルディック\",'様式3N MF'!$D$8,'様式3N MF'!$G$8),\"　\",\"\"))","v":""},{"$f":"IF('様式3N MF'!D31=\"\",\"\",'様式3N MF'!B31)","v":""},{"$f":"IF('様式3N MF'!D31=\"\",\"\",IF('様式3N MF'!C31=0,\"\",'様式3N MF'!C31))","v":""}]
[103,{"$f":"IF('様式3N MF'!D32=\"\",\"\",ASC('様式3N MF'!D32))","v":""},{"$f":"IF('様式3N MF'!D32=\"\",\"\",'様式3N MF'!$D$6)","v":""},{"$f":"IF('様式3N MF'!D32=\"\",\"\",'様式3N MF'!G32)","v":""},{"$f":"IF('様式3N MF'!D32=\"\",\"\",'様式3N MF'!H32)","v":""},{"$f":"IF('様式3N MF'!D32=\"\",\"\",'様式3N MF'!E32)","v":""},{"$f":"IF('様式3N MF'!D32=\"\",\"\",SUBSTITUTE(CONCATENATE(\"ノルディック\",'様式3N MF'!$D$8,'様式3N MF'!$G$8),\"　\",\"\"))","v":""},{"$f":"IF('様式3N MF'!D32=\"\",\"\",'様式3N MF'!B32)","v":""},{"$f":"IF('様式3N MF'!D32=\"\",\"\",IF('様式3N MF'!C32=0,\"\",'様式3N MF'!C32))","v":""}]
[104,{"$f":"IF('様式3N MF'!D32=\"\",\"\",ASC('様式3N MF'!D32))","v":""},{"$f":"IF('様式3N MF'!D32=\"\",\"\",'様式3N MF'!$D$6)","v":""},{"$f":"IF('様式3N MF'!D32=\"\",\"\",'様式3N MF'!G32)","v":""},{"$f":"IF('様式3N MF'!D32=\"\",\"\",'様式3N MF'!H32)","v":""},{"$f":"IF('様式3N MF'!D32=\"\",\"\",'様式3N MF'!E32)","v":""},{"$f":"IF('様式3N MF'!D32=\"\",\"\",SUBSTITUTE(CONCATENATE(\"ノルディック\",'様式3N MF'!$D$8,'様式3N MF'!$G$8),\"　\",\"\"))","v":""},{"$f":"IF('様式3N MF'!D33=\"\",\"\",'様式3N MF'!B33)","v":""},{"$f":"IF('様式3N MF'!D33=\"\",\"\",IF('様式3N MF'!C33=0,\"\",'様式3N MF'!C33))","v":""}]
[105]
[106,{"$f":"IF('様式3N WF'!D11=\"\",\"\",ASC('様式3N WF'!D11))","v":""},{"$f":"IF('様式3N WF'!D11=\"\",\"\",'様式3N WF'!$D$6)","v":""},{"$f":"IF('様式3N WF'!D11=\"\",\"\",'様式3N WF'!G11)","v":""},{"$f":"IF('様式3N WF'!D11=\"\",\"\",'様式3N WF'!H11)","v":""},{"$f":"IF('様式3N WF'!D11=\"\",\"\",'様式3N WF'!E11)","v":""},{"$f":"IF('様式3N WF'!D11=\"\",\"\",SUBSTITUTE(CONCATENATE(\"ノルディック\",'様式3N WF'!$D$8,'様式3N WF'!$G$8),\"　\",\"\"))","v":""},{"$f":"IF('様式3N WF'!D11=\"\",\"\",'様式3N WF'!B11)","v":""},{"$f":"IF('様式3N WF'!D11=\"\",\"\",IF('様式3N WF'!C11=0,\"\",'様式3N WF'!C11))","v":""}]
[107,{"$f":"IF('様式3N WF'!D12=\"\",\"\",ASC('様式3N WF'!D12))","v":""},{"$f":"IF('様式3N WF'!D12=\"\",\"\",'様式3N WF'!$D$6)","v":""},{"$f":"IF('様式3N WF'!D12=\"\",\"\",'様式3N WF'!G12)","v":""},{"$f":"IF('様式3N WF'!D12=\"\",\"\",'様式3N WF'!H12)","v":""},{"$f":"IF('様式3N WF'!D12=\"\",\"\",'様式3N WF'!E12)","v":""},{"$f":"IF('様式3N WF'!D12=\"\",\"\",SUBSTITUTE(CONCATENATE(\"ノルディック\",'様式3N WF'!$D$8,'様式3N WF'!$G$8),\"　\",\"\"))","v":""},{"$f":"IF('様式3N WF'!D12=\"\",\"\",'様式3N WF'!B12)","v":""},{"$f":"IF('様式3N WF'!D12=\"\",\"\",IF('様式3N WF'!C12=0,\"\",'様式3N WF'!C12))","v":""}]
[108,{"$f":"IF('様式3N WF'!D13=\"\",\"\",ASC('様式3N WF'!D13))","v":""},{"$f":"IF('様式3N WF'!D13=\"\",\"\",'様式3N WF'!$D$6)","v":""},{"$f":"IF('様式3N WF'!D13=\"\",\"\",'様式3N WF'!G13)","v":""},{"$f":"IF('様式3N WF'!D13=\"\",\"\",'様式3N WF'!H13)","v":""},{"$f":"IF('様式3N WF'!D13=\"\",\"\",'様式3N WF'!E13)","v":""},{"$f":"IF('様式3N WF'!D13=\"\",\"\",SUBSTITUTE(CONCATENATE(\"ノルディック\",'様式3N WF'!$D$8,'様式3N WF'!$G$8),\"　\",\"\"))","v":""},{"$f":"IF('様式3N WF'!D13=\"\",\"\",'様式3N WF'!B13)","v":""},{"$f":"IF('様式3N WF'!D13=\"\",\"\",IF('様式3N WF'!C13=0,\"\",'様式3N WF'!C13))","v":""}]
[109,{"$f":"IF('様式3N WF'!D14=\"\",\"\",ASC('様式3N WF'!D14))","v":""},{"$f":"IF('様式3N WF'!D14=\"\",\"\",'様式3N WF'!$D$6)","v":""},{"$f":"IF('様式3N WF'!D14=\"\",\"\",'様式3N WF'!G14)","v":""},{"$f":"IF('様式3N WF'!D14=\"\",\"\",'様式3N WF'!H14)","v":""},{"$f":"IF('様式3N WF'!D14=\"\",\"\",'様式3N WF'!E14)","v":""},{"$f":"IF('様式3N WF'!D14=\"\",\"\",SUBSTITUTE(CONCATENATE(\"ノルディック\",'様式3N WF'!$D$8,'様式3N WF'!$G$8),\"　\",\"\"))","v":""},{"$f":"IF('様式3N WF'!D14=\"\",\"\",'様式3N WF'!B14)","v":""},{"$f":"IF('様式3N WF'!D14=\"\",\"\",IF('様式3N WF'!C14=0,\"\",'様式3N WF'!C14))","v":""}]
[110,{"$f":"IF('様式3N WF'!D15=\"\",\"\",ASC('様式3N WF'!D15))","v":""},{"$f":"IF('様式3N WF'!D15=\"\",\"\",'様式3N WF'!$D$6)","v":""},{"$f":"IF('様式3N WF'!D15=\"\",\"\",'様式3N WF'!G15)","v":""},{"$f":"IF('様式3N WF'!D15=\"\",\"\",'様式3N WF'!H15)","v":""},{"$f":"IF('様式3N WF'!D15=\"\",\"\",'様式3N WF'!E15)","v":""},{"$f":"IF('様式3N WF'!D15=\"\",\"\",SUBSTITUTE(CONCATENATE(\"ノルディック\",'様式3N WF'!$D$8,'様式3N WF'!$G$8),\"　\",\"\"))","v":""},{"$f":"IF('様式3N WF'!D15=\"\",\"\",'様式3N WF'!B15)","v":""},{"$f":"IF('様式3N WF'!D15=\"\",\"\",IF('様式3N WF'!C15=0,\"\",'様式3N WF'!C15))","v":""}]
[111,{"$f":"IF('様式3N WF'!D16=\"\",\"\",ASC('様式3N WF'!D16))","v":""},{"$f":"IF('様式3N WF'!D16=\"\",\"\",'様式3N WF'!$D$6)","v":""},{"$f":"IF('様式3N WF'!D16=\"\",\"\",'様式3N WF'!G16)","v":""},{"$f":"IF('様式3N WF'!D16=\"\",\"\",'様式3N WF'!H16)","v":""},{"$f":"IF('様式3N WF'!D16=\"\",\"\",'様式3N WF'!E16)","v":""},{"$f":"IF('様式3N WF'!D16=\"\",\"\",SUBSTITUTE(CONCATENATE(\"ノルディック\",'様式3N WF'!$D$8,'様式3N WF'!$G$8),\"　\",\"\"))","v":""},{"$f":"IF('様式3N WF'!D16=\"\",\"\",'様式3N WF'!B16)","v":""},{"$f":"IF('様式3N WF'!D16=\"\",\"\",IF('様式3N WF'!C16=0,\"\",'様式3N WF'!C16))","v":""}]
[112,{"$f":"IF('様式3N WF'!D17=\"\",\"\",ASC('様式3N WF'!D17))","v":""},{"$f":"IF('様式3N WF'!D17=\"\",\"\",'様式3N WF'!$D$6)","v":""},{"$f":"IF('様式3N WF'!D17=\"\",\"\",'様式3N WF'!G17)","v":""},{"$f":"IF('様式3N WF'!D17=\"\",\"\",'様式3N WF'!H17)","v":""},{"$f":"IF('様式3N WF'!D17=\"\",\"\",'様式3N WF'!E17)","v":""},{"$f":"IF('様式3N WF'!D17=\"\",\"\",SUBSTITUTE(CONCATENATE(\"ノルディック\",'様式3N WF'!$D$8,'様式3N WF'!$G$8),\"　\",\"\"))","v":""},{"$f":"IF('様式3N WF'!D17=\"\",\"\",'様式3N WF'!B17)","v":""},{"$f":"IF('様式3N WF'!D17=\"\",\"\",IF('様式3N WF'!C17=0,\"\",'様式3N WF'!C17))","v":""}]
[113,{"$f":"IF('様式3N WF'!D18=\"\",\"\",ASC('様式3N WF'!D18))","v":""},{"$f":"IF('様式3N WF'!D18=\"\",\"\",'様式3N WF'!$D$6)","v":""},{"$f":"IF('様式3N WF'!D18=\"\",\"\",'様式3N WF'!G18)","v":""},{"$f":"IF('様式3N WF'!D18=\"\",\"\",'様式3N WF'!H18)","v":""},{"$f":"IF('様式3N WF'!D18=\"\",\"\",'様式3N WF'!E18)","v":""},{"$f":"IF('様式3N WF'!D18=\"\",\"\",SUBSTITUTE(CONCATENATE(\"ノルディック\",'様式3N WF'!$D$8,'様式3N WF'!$G$8),\"　\",\"\"))","v":""},{"$f":"IF('様式3N WF'!D18=\"\",\"\",'様式3N WF'!B18)","v":""},{"$f":"IF('様式3N WF'!D18=\"\",\"\",IF('様式3N WF'!C18=0,\"\",'様式3N WF'!C18))","v":""}]
[114,{"$f":"IF('様式3N WF'!D19=\"\",\"\",ASC('様式3N WF'!D19))","v":""},{"$f":"IF('様式3N WF'!D19=\"\",\"\",'様式3N WF'!$D$6)","v":""},{"$f":"IF('様式3N WF'!D19=\"\",\"\",'様式3N WF'!G19)","v":""},{"$f":"IF('様式3N WF'!D19=\"\",\"\",'様式3N WF'!H19)","v":""},{"$f":"IF('様式3N WF'!D19=\"\",\"\",'様式3N WF'!E19)","v":""},{"$f":"IF('様式3N WF'!D19=\"\",\"\",SUBSTITUTE(CONCATENATE(\"ノルディック\",'様式3N WF'!$D$8,'様式3N WF'!$G$8),\"　\",\"\"))","v":""},{"$f":"IF('様式3N WF'!D19=\"\",\"\",'様式3N WF'!B19)","v":""},{"$f":"IF('様式3N WF'!D19=\"\",\"\",IF('様式3N WF'!C19=0,\"\",'様式3N WF'!C19))","v":""}]
[115,{"$f":"IF('様式3N WF'!D20=\"\",\"\",ASC('様式3N WF'!D20))","v":""},{"$f":"IF('様式3N WF'!D20=\"\",\"\",'様式3N WF'!$D$6)","v":""},{"$f":"IF('様式3N WF'!D20=\"\",\"\",'様式3N WF'!G20)","v":""},{"$f":"IF('様式3N WF'!D20=\"\",\"\",'様式3N WF'!H20)","v":""},{"$f":"IF('様式3N WF'!D20=\"\",\"\",'様式3N WF'!E20)","v":""},{"$f":"IF('様式3N WF'!D20=\"\",\"\",SUBSTITUTE(CONCATENATE(\"ノルディック\",'様式3N WF'!$D$8,'様式3N WF'!$G$8),\"　\",\"\"))","v":""},{"$f":"IF('様式3N WF'!D20=\"\",\"\",'様式3N WF'!B20)","v":""},{"$f":"IF('様式3N WF'!D20=\"\",\"\",IF('様式3N WF'!C20=0,\"\",'様式3N WF'!C20))","v":""}]
[116,{"$f":"IF('様式3N WF'!D21=\"\",\"\",ASC('様式3N WF'!D21))","v":""},{"$f":"IF('様式3N WF'!D21=\"\",\"\",'様式3N WF'!$D$6)","v":""},{"$f":"IF('様式3N WF'!D21=\"\",\"\",'様式3N WF'!G21)","v":""},{"$f":"IF('様式3N WF'!D21=\"\",\"\",'様式3N WF'!H21)","v":""},{"$f":"IF('様式3N WF'!D21=\"\",\"\",'様式3N WF'!E21)","v":""},{"$f":"IF('様式3N WF'!D21=\"\",\"\",SUBSTITUTE(CONCATENATE(\"ノルディック\",'様式3N WF'!$D$8,'様式3N WF'!$G$8),\"　\",\"\"))","v":""},{"$f":"IF('様式3N WF'!D21=\"\",\"\",'様式3N WF'!B21)","v":""},{"$f":"IF('様式3N WF'!D21=\"\",\"\",IF('様式3N WF'!C21=0,\"\",'様式3N WF'!C21))","v":""}]
[117,{"$f":"IF('様式3N WF'!D22=\"\",\"\",ASC('様式3N WF'!D22))","v":""},{"$f":"IF('様式3N WF'!D22=\"\",\"\",'様式3N WF'!$D$6)","v":""},{"$f":"IF('様式3N WF'!D22=\"\",\"\",'様式3N WF'!G22)","v":""},{"$f":"IF('様式3N WF'!D22=\"\",\"\",'様式3N WF'!H22)","v":""},{"$f":"IF('様式3N WF'!D22=\"\",\"\",'様式3N WF'!E22)","v":""},{"$f":"IF('様式3N WF'!D22=\"\",\"\",SUBSTITUTE(CONCATENATE(\"ノルディック\",'様式3N WF'!$D$8,'様式3N WF'!$G$8),\"　\",\"\"))","v":""},{"$f":"IF('様式3N WF'!D22=\"\",\"\",'様式3N WF'!B22)","v":""},{"$f":"IF('様式3N WF'!D22=\"\",\"\",IF('様式3N WF'!C22=0,\"\",'様式3N WF'!C22))","v":""}]
[118,{"$f":"IF('様式3N WF'!D23=\"\",\"\",ASC('様式3N WF'!D23))","v":""},{"$f":"IF('様式3N WF'!D23=\"\",\"\",'様式3N WF'!$D$6)","v":""},{"$f":"IF('様式3N WF'!D23=\"\",\"\",'様式3N WF'!G23)","v":""},{"$f":"IF('様式3N WF'!D23=\"\",\"\",'様式3N WF'!H23)","v":""},{"$f":"IF('様式3N WF'!D23=\"\",\"\",'様式3N WF'!E23)","v":""},{"$f":"IF('様式3N WF'!D23=\"\",\"\",SUBSTITUTE(CONCATENATE(\"ノルディック\",'様式3N WF'!$D$8,'様式3N WF'!$G$8),\"　\",\"\"))","v":""},{"$f":"IF('様式3N WF'!D23=\"\",\"\",'様式3N WF'!B23)","v":""},{"$f":"IF('様式3N WF'!D23=\"\",\"\",IF('様式3N WF'!C23=0,\"\",'様式3N WF'!C23))","v":""}]
[119,{"$f":"IF('様式3N WF'!D24=\"\",\"\",ASC('様式3N WF'!D24))","v":""},{"$f":"IF('様式3N WF'!D24=\"\",\"\",'様式3N WF'!$D$6)","v":""},{"$f":"IF('様式3N WF'!D24=\"\",\"\",'様式3N WF'!G24)","v":""},{"$f":"IF('様式3N WF'!D24=\"\",\"\",'様式3N WF'!H24)","v":""},{"$f":"IF('様式3N WF'!D24=\"\",\"\",'様式3N WF'!E24)","v":""},{"$f":"IF('様式3N WF'!D24=\"\",\"\",SUBSTITUTE(CONCATENATE(\"ノルディック\",'様式3N WF'!$D$8,'様式3N WF'!$G$8),\"　\",\"\"))","v":""},{"$f":"IF('様式3N WF'!D24=\"\",\"\",'様式3N WF'!B24)","v":""},{"$f":"IF('様式3N WF'!D24=\"\",\"\",IF('様式3N WF'!C24=0,\"\",'様式3N WF'!C24))","v":""}]
[120,{"$f":"IF('様式3N WF'!D25=\"\",\"\",ASC('様式3N WF'!D25))","v":""},{"$f":"IF('様式3N WF'!D25=\"\",\"\",'様式3N WF'!$D$6)","v":""},{"$f":"IF('様式3N WF'!D25=\"\",\"\",'様式3N WF'!G25)","v":""},{"$f":"IF('様式3N WF'!D25=\"\",\"\",'様式3N WF'!H25)","v":""},{"$f":"IF('様式3N WF'!D25=\"\",\"\",'様式3N WF'!E25)","v":""},{"$f":"IF('様式3N WF'!D25=\"\",\"\",SUBSTITUTE(CONCATENATE(\"ノルディック\",'様式3N WF'!$D$8,'様式3N WF'!$G$8),\"　\",\"\"))","v":""},{"$f":"IF('様式3N WF'!D25=\"\",\"\",'様式3N WF'!B25)","v":""},{"$f":"IF('様式3N WF'!D25=\"\",\"\",IF('様式3N WF'!C25=0,\"\",'様式3N WF'!C25))","v":""}]
[121,{"$f":"IF('様式3N WF'!D26=\"\",\"\",ASC('様式3N WF'!D26))","v":""},{"$f":"IF('様式3N WF'!D26=\"\",\"\",'様式3N WF'!$D$6)","v":""},{"$f":"IF('様式3N WF'!D26=\"\",\"\",'様式3N WF'!G26)","v":""},{"$f":"IF('様式3N WF'!D26=\"\",\"\",'様式3N WF'!H26)","v":""},{"$f":"IF('様式3N WF'!D26=\"\",\"\",'様式3N WF'!E26)","v":""},{"$f":"IF('様式3N WF'!D26=\"\",\"\",SUBSTITUTE(CONCATENATE(\"ノルディック\",'様式3N WF'!$D$8,'様式3N WF'!$G$8),\"　\",\"\"))","v":""},{"$f":"IF('様式3N WF'!D26=\"\",\"\",'様式3N WF'!B26)","v":""},{"$f":"IF('様式3N WF'!D26=\"\",\"\",IF('様式3N WF'!C26=0,\"\",'様式3N WF'!C26))","v":""}]
[122,{"$f":"IF('様式3N WF'!D27=\"\",\"\",ASC('様式3N WF'!D27))","v":""},{"$f":"IF('様式3N WF'!D27=\"\",\"\",'様式3N WF'!$D$6)","v":""},{"$f":"IF('様式3N WF'!D27=\"\",\"\",'様式3N WF'!G27)","v":""},{"$f":"IF('様式3N WF'!D27=\"\",\"\",'様式3N WF'!H27)","v":""},{"$f":"IF('様式3N WF'!D27=\"\",\"\",'様式3N WF'!E27)","v":""},{"$f":"IF('様式3N WF'!D27=\"\",\"\",SUBSTITUTE(CONCATENATE(\"ノルディック\",'様式3N WF'!$D$8,'様式3N WF'!$G$8),\"　\",\"\"))","v":""},{"$f":"IF('様式3N WF'!D27=\"\",\"\",'様式3N WF'!B27)","v":""},{"$f":"IF('様式3N WF'!D27=\"\",\"\",IF('様式3N WF'!C27=0,\"\",'様式3N WF'!C27))","v":""}]
[123,{"$f":"IF('様式3N WF'!D28=\"\",\"\",ASC('様式3N WF'!D28))","v":""},{"$f":"IF('様式3N WF'!D28=\"\",\"\",'様式3N WF'!$D$6)","v":""},{"$f":"IF('様式3N WF'!D28=\"\",\"\",'様式3N WF'!G28)","v":""},{"$f":"IF('様式3N WF'!D28=\"\",\"\",'様式3N WF'!H28)","v":""},{"$f":"IF('様式3N WF'!D28=\"\",\"\",'様式3N WF'!E28)","v":""},{"$f":"IF('様式3N WF'!D28=\"\",\"\",SUBSTITUTE(CONCATENATE(\"ノルディック\",'様式3N WF'!$D$8,'様式3N WF'!$G$8),\"　\",\"\"))","v":""},{"$f":"IF('様式3N WF'!D28=\"\",\"\",'様式3N WF'!B28)","v":""},{"$f":"IF('様式3N WF'!D28=\"\",\"\",IF('様式3N WF'!C28=0,\"\",'様式3N WF'!C28))","v":""}]
[124,{"$f":"IF('様式3N WF'!D29=\"\",\"\",ASC('様式3N WF'!D29))","v":""},{"$f":"IF('様式3N WF'!D29=\"\",\"\",'様式3N WF'!$D$6)","v":""},{"$f":"IF('様式3N WF'!D29=\"\",\"\",'様式3N WF'!G29)","v":""},{"$f":"IF('様式3N WF'!D29=\"\",\"\",'様式3N WF'!H29)","v":""},{"$f":"IF('様式3N WF'!D29=\"\",\"\",'様式3N WF'!E29)","v":""},{"$f":"IF('様式3N WF'!D29=\"\",\"\",SUBSTITUTE(CONCATENATE(\"ノルディック\",'様式3N WF'!$D$8,'様式3N WF'!$G$8),\"　\",\"\"))","v":""},{"$f":"IF('様式3N WF'!D29=\"\",\"\",'様式3N WF'!B29)","v":""},{"$f":"IF('様式3N WF'!D29=\"\",\"\",IF('様式3N WF'!C29=0,\"\",'様式3N WF'!C29))","v":""}]
[125,{"$f":"IF('様式3N WF'!D30=\"\",\"\",ASC('様式3N WF'!D30))","v":""},{"$f":"IF('様式3N WF'!D30=\"\",\"\",'様式3N WF'!$D$6)","v":""},{"$f":"IF('様式3N WF'!D30=\"\",\"\",'様式3N WF'!G30)","v":""},{"$f":"IF('様式3N WF'!D30=\"\",\"\",'様式3N WF'!H30)","v":""},{"$f":"IF('様式3N WF'!D30=\"\",\"\",'様式3N WF'!E30)","v":""},{"$f":"IF('様式3N WF'!D30=\"\",\"\",SUBSTITUTE(CONCATENATE(\"ノルディック\",'様式3N WF'!$D$8,'様式3N WF'!$G$8),\"　\",\"\"))","v":""},{"$f":"IF('様式3N WF'!D30=\"\",\"\",'様式3N WF'!B30)","v":""},{"$f":"IF('様式3N WF'!D30=\"\",\"\",IF('様式3N WF'!C30=0,\"\",'様式3N WF'!C30))","v":""}]
[126,{"$f":"IF('様式3N WF'!D31=\"\",\"\",ASC('様式3N WF'!D31))","v":""},{"$f":"IF('様式3N WF'!D31=\"\",\"\",'様式3N WF'!$D$6)","v":""},{"$f":"IF('様式3N WF'!D31=\"\",\"\",'様式3N WF'!G31)","v":""},{"$f":"IF('様式3N WF'!D31=\"\",\"\",'様式3N WF'!H31)","v":""},{"$f":"IF('様式3N WF'!D31=\"\",\"\",'様式3N WF'!E31)","v":""},{"$f":"IF('様式3N WF'!D31=\"\",\"\",SUBSTITUTE(CONCATENATE(\"ノルディック\",'様式3N WF'!$D$8,'様式3N WF'!$G$8),\"　\",\"\"))","v":""},{"$f":"IF('様式3N WF'!D31=\"\",\"\",'様式3N WF'!B31)","v":""},{"$f":"IF('様式3N WF'!D31=\"\",\"\",IF('様式3N WF'!C31=0,\"\",'様式3N WF'!C31))","v":""}]
[127,{"$f":"IF('様式3N WF'!D32=\"\",\"\",ASC('様式3N WF'!D32))","v":""},{"$f":"IF('様式3N WF'!D32=\"\",\"\",'様式3N WF'!$D$6)","v":""},{"$f":"IF('様式3N WF'!D32=\"\",\"\",'様式3N WF'!G32)","v":""},{"$f":"IF('様式3N WF'!D32=\"\",\"\",'様式3N WF'!H32)","v":""},{"$f":"IF('様式3N WF'!D32=\"\",\"\",'様式3N WF'!E32)","v":""},{"$f":"IF('様式3N WF'!D32=\"\",\"\",SUBSTITUTE(CONCATENATE(\"ノルディック\",'様式3N WF'!$D$8,'様式3N WF'!$G$8),\"　\",\"\"))","v":""},{"$f":"IF('様式3N WF'!D32=\"\",\"\",'様式3N WF'!B32)","v":""},{"$f":"IF('様式3N WF'!D32=\"\",\"\",IF('様式3N WF'!C32=0,\"\",'様式3N WF'!C32))","v":""}]
[128,{"$f":"IF('様式3N WF'!D33=\"\",\"\",ASC('様式3N WF'!D33))","v":""},{"$f":"IF('様式3N WF'!D33=\"\",\"\",'様式3N WF'!$D$6)","v":""},{"$f":"IF('様式3N WF'!D33=\"\",\"\",'様式3N WF'!G33)","v":""},{"$f":"IF('様式3N WF'!D33=\"\",\"\",'様式3N WF'!H33)","v":""},{"$f":"IF('様式3N WF'!D33=\"\",\"\",'様式3N WF'!E33)","v":""},{"$f":"IF('様式3N WF'!D33=\"\",\"\",SUBSTITUTE(CONCATENATE(\"ノルディック\",'様式3N WF'!$D$8,'様式3N WF'!$G$8),\"　\",\"\"))","v":""},{"$f":"IF('様式3N WF'!D33=\"\",\"\",'様式3N WF'!B33)","v":""},{"$f":"IF('様式3N WF'!D33=\"\",\"\",IF('様式3N WF'!C33=0,\"\",'様式3N WF'!C33))","v":""}]
[129]
[130,{"$f":"IF('様式3N MC'!D11=\"\",\"\",ASC('様式3N MC'!D11))","v":""},{"$f":"IF('様式3N MC'!D11=\"\",\"\",'様式3N MC'!$D$6)","v":""},{"$f":"IF('様式3N MC'!D11=\"\",\"\",'様式3N MC'!G11)","v":""},{"$f":"IF('様式3N MC'!D11=\"\",\"\",'様式3N MC'!H11)","v":""},{"$f":"IF('様式3N MC'!D11=\"\",\"\",'様式3N MC'!E11)","v":""},{"$f":"IF('様式3N MC'!D11=\"\",\"\",SUBSTITUTE(CONCATENATE(\"ノルディック\",'様式3N MC'!$D$8,'様式3N MC'!$G$8),\"　\",\"\"))","v":""},{"$f":"IF('様式3N MC'!D11=\"\",\"\",'様式3N MC'!B11)","v":""},{"$f":"IF('様式3N MC'!D11=\"\",\"\",IF('様式3N MC'!C11=0,\"\",'様式3N MC'!C11))","v":""}]
[131,{"$f":"IF('様式3N MC'!D12=\"\",\"\",ASC('様式3N MC'!D12))","v":""},{"$f":"IF('様式3N MC'!D12=\"\",\"\",'様式3N MC'!$D$6)","v":""},{"$f":"IF('様式3N MC'!D12=\"\",\"\",'様式3N MC'!G12)","v":""},{"$f":"IF('様式3N MC'!D12=\"\",\"\",'様式3N MC'!H12)","v":""},{"$f":"IF('様式3N MC'!D12=\"\",\"\",'様式3N MC'!E12)","v":""},{"$f":"IF('様式3N MC'!D12=\"\",\"\",SUBSTITUTE(CONCATENATE(\"ノルディック\",'様式3N MC'!$D$8,'様式3N MC'!$G$8),\"　\",\"\"))","v":""},{"$f":"IF('様式3N MC'!D12=\"\",\"\",'様式3N MC'!B12)","v":""},{"$f":"IF('様式3N MC'!D12=\"\",\"\",IF('様式3N MC'!C12=0,\"\",'様式3N MC'!C12))","v":""}]
[132,{"$f":"IF('様式3N MC'!D13=\"\",\"\",ASC('様式3N MC'!D13))","v":""},{"$f":"IF('様式3N MC'!D13=\"\",\"\",'様式3N MC'!$D$6)","v":""},{"$f":"IF('様式3N MC'!D13=\"\",\"\",'様式3N MC'!G13)","v":""},{"$f":"IF('様式3N MC'!D13=\"\",\"\",'様式3N MC'!H13)","v":""},{"$f":"IF('様式3N MC'!D13=\"\",\"\",'様式3N MC'!E13)","v":""},{"$f":"IF('様式3N MC'!D13=\"\",\"\",SUBSTITUTE(CONCATENATE(\"ノルディック\",'様式3N MC'!$D$8,'様式3N MC'!$G$8),\"　\",\"\"))","v":""},{"$f":"IF('様式3N MC'!D13=\"\",\"\",'様式3N MC'!B13)","v":""},{"$f":"IF('様式3N MC'!D13=\"\",\"\",IF('様式3N MC'!C13=0,\"\",'様式3N MC'!C13))","v":""}]
[133,{"$f":"IF('様式3N MC'!D14=\"\",\"\",ASC('様式3N MC'!D14))","v":""},{"$f":"IF('様式3N MC'!D14=\"\",\"\",'様式3N MC'!$D$6)","v":""},{"$f":"IF('様式3N MC'!D14=\"\",\"\",'様式3N MC'!G14)","v":""},{"$f":"IF('様式3N MC'!D14=\"\",\"\",'様式3N MC'!H14)","v":""},{"$f":"IF('様式3N MC'!D14=\"\",\"\",'様式3N MC'!E14)","v":""},{"$f":"IF('様式3N MC'!D14=\"\",\"\",SUBSTITUTE(CONCATENATE(\"ノルディック\",'様式3N MC'!$D$8,'様式3N MC'!$G$8),\"　\",\"\"))","v":""},{"$f":"IF('様式3N MC'!D14=\"\",\"\",'様式3N MC'!B14)","v":""},{"$f":"IF('様式3N MC'!D14=\"\",\"\",IF('様式3N MC'!C14=0,\"\",'様式3N MC'!C14))","v":""}]
[134,{"$f":"IF('様式3N MC'!D15=\"\",\"\",ASC('様式3N MC'!D15))","v":""},{"$f":"IF('様式3N MC'!D15=\"\",\"\",'様式3N MC'!$D$6)","v":""},{"$f":"IF('様式3N MC'!D15=\"\",\"\",'様式3N MC'!G15)","v":""},{"$f":"IF('様式3N MC'!D15=\"\",\"\",'様式3N MC'!H15)","v":""},{"$f":"IF('様式3N MC'!D15=\"\",\"\",'様式3N MC'!E15)","v":""},{"$f":"IF('様式3N MC'!D15=\"\",\"\",SUBSTITUTE(CONCATENATE(\"ノルディック\",'様式3N MC'!$D$8,'様式3N MC'!$G$8),\"　\",\"\"))","v":""},{"$f":"IF('様式3N MC'!D15=\"\",\"\",'様式3N MC'!B15)","v":""},{"$f":"IF('様式3N MC'!D15=\"\",\"\",IF('様式3N MC'!C15=0,\"\",'様式3N MC'!C15))","v":""}]
[135,{"$f":"IF('様式3N MC'!D16=\"\",\"\",ASC('様式3N MC'!D16))","v":""},{"$f":"IF('様式3N MC'!D16=\"\",\"\",'様式3N MC'!$D$6)","v":""},{"$f":"IF('様式3N MC'!D16=\"\",\"\",'様式3N MC'!G16)","v":""},{"$f":"IF('様式3N MC'!D16=\"\",\"\",'様式3N MC'!H16)","v":""},{"$f":"IF('様式3N MC'!D16=\"\",\"\",'様式3N MC'!E16)","v":""},{"$f":"IF('様式3N MC'!D16=\"\",\"\",SUBSTITUTE(CONCATENATE(\"ノルディック\",'様式3N MC'!$D$8,'様式3N MC'!$G$8),\"　\",\"\"))","v":""},{"$f":"IF('様式3N MC'!D16=\"\",\"\",'様式3N MC'!B16)","v":""},{"$f":"IF('様式3N MC'!D16=\"\",\"\",IF('様式3N MC'!C16=0,\"\",'様式3N MC'!C16))","v":""}]
[136,{"$f":"IF('様式3N MC'!D17=\"\",\"\",ASC('様式3N MC'!D17))","v":""},{"$f":"IF('様式3N MC'!D17=\"\",\"\",'様式3N MC'!$D$6)","v":""},{"$f":"IF('様式3N MC'!D17=\"\",\"\",'様式3N MC'!G17)","v":""},{"$f":"IF('様式3N MC'!D17=\"\",\"\",'様式3N MC'!H17)","v":""},{"$f":"IF('様式3N MC'!D17=\"\",\"\",'様式3N MC'!E17)","v":""},{"$f":"IF('様式3N MC'!D17=\"\",\"\",SUBSTITUTE(CONCATENATE(\"ノルディック\",'様式3N MC'!$D$8,'様式3N MC'!$G$8),\"　\",\"\"))","v":""},{"$f":"IF('様式3N MC'!D17=\"\",\"\",'様式3N MC'!B17)","v":""},{"$f":"IF('様式3N MC'!D17=\"\",\"\",IF('様式3N MC'!C17=0,\"\",'様式3N MC'!C17))","v":""}]
[137,{"$f":"IF('様式3N MC'!D18=\"\",\"\",ASC('様式3N MC'!D18))","v":""},{"$f":"IF('様式3N MC'!D18=\"\",\"\",'様式3N MC'!$D$6)","v":""},{"$f":"IF('様式3N MC'!D18=\"\",\"\",'様式3N MC'!G18)","v":""},{"$f":"IF('様式3N MC'!D18=\"\",\"\",'様式3N MC'!H18)","v":""},{"$f":"IF('様式3N MC'!D18=\"\",\"\",'様式3N MC'!E18)","v":""},{"$f":"IF('様式3N MC'!D18=\"\",\"\",SUBSTITUTE(CONCATENATE(\"ノルディック\",'様式3N MC'!$D$8,'様式3N MC'!$G$8),\"　\",\"\"))","v":""},{"$f":"IF('様式3N MC'!D18=\"\",\"\",'様式3N MC'!B18)","v":""},{"$f":"IF('様式3N MC'!D18=\"\",\"\",IF('様式3N MC'!C18=0,\"\",'様式3N MC'!C18))","v":""}]
[138,{"$f":"IF('様式3N MC'!D19=\"\",\"\",ASC('様式3N MC'!D19))","v":""},{"$f":"IF('様式3N MC'!D19=\"\",\"\",'様式3N MC'!$D$6)","v":""},{"$f":"IF('様式3N MC'!D19=\"\",\"\",'様式3N MC'!G19)","v":""},{"$f":"IF('様式3N MC'!D19=\"\",\"\",'様式3N MC'!H19)","v":""},{"$f":"IF('様式3N MC'!D19=\"\",\"\",'様式3N MC'!E19)","v":""},{"$f":"IF('様式3N MC'!D19=\"\",\"\",SUBSTITUTE(CONCATENATE(\"ノルディック\",'様式3N MC'!$D$8,'様式3N MC'!$G$8),\"　\",\"\"))","v":""},{"$f":"IF('様式3N MC'!D19=\"\",\"\",'様式3N MC'!B19)","v":""},{"$f":"IF('様式3N MC'!D19=\"\",\"\",IF('様式3N MC'!C19=0,\"\",'様式3N MC'!C19))","v":""}]
[139,{"$f":"IF('様式3N MC'!D20=\"\",\"\",ASC('様式3N MC'!D20))","v":""},{"$f":"IF('様式3N MC'!D20=\"\",\"\",'様式3N MC'!$D$6)","v":""},{"$f":"IF('様式3N MC'!D20=\"\",\"\",'様式3N MC'!G20)","v":""},{"$f":"IF('様式3N MC'!D20=\"\",\"\",'様式3N MC'!H20)","v":""},{"$f":"IF('様式3N MC'!D20=\"\",\"\",'様式3N MC'!E20)","v":""},{"$f":"IF('様式3N MC'!D20=\"\",\"\",SUBSTITUTE(CONCATENATE(\"ノルディック\",'様式3N MC'!$D$8,'様式3N MC'!$G$8),\"　\",\"\"))","v":""},{"$f":"IF('様式3N MC'!D20=\"\",\"\",'様式3N MC'!B20)","v":""},{"$f":"IF('様式3N MC'!D20=\"\",\"\",IF('様式3N MC'!C20=0,\"\",'様式3N MC'!C20))","v":""}]
[140,{"$f":"IF('様式3N MC'!D21=\"\",\"\",ASC('様式3N MC'!D21))","v":""},{"$f":"IF('様式3N MC'!D21=\"\",\"\",'様式3N MC'!$D$6)","v":""},{"$f":"IF('様式3N MC'!D21=\"\",\"\",'様式3N MC'!G21)","v":""},{"$f":"IF('様式3N MC'!D21=\"\",\"\",'様式3N MC'!H21)","v":""},{"$f":"IF('様式3N MC'!D21=\"\",\"\",'様式3N MC'!E21)","v":""},{"$f":"IF('様式3N MC'!D21=\"\",\"\",SUBSTITUTE(CONCATENATE(\"ノルディック\",'様式3N MC'!$D$8,'様式3N MC'!$G$8),\"　\",\"\"))","v":""},{"$f":"IF('様式3N MC'!D21=\"\",\"\",'様式3N MC'!B21)","v":""},{"$f":"IF('様式3N MC'!D21=\"\",\"\",IF('様式3N MC'!C21=0,\"\",'様式3N MC'!C21))","v":""}]
[141,{"$f":"IF('様式3N MC'!D22=\"\",\"\",ASC('様式3N MC'!D22))","v":""},{"$f":"IF('様式3N MC'!D22=\"\",\"\",'様式3N MC'!$D$6)","v":""},{"$f":"IF('様式3N MC'!D22=\"\",\"\",'様式3N MC'!G22)","v":""},{"$f":"IF('様式3N MC'!D22=\"\",\"\",'様式3N MC'!H22)","v":""},{"$f":"IF('様式3N MC'!D22=\"\",\"\",'様式3N MC'!E22)","v":""},{"$f":"IF('様式3N MC'!D22=\"\",\"\",SUBSTITUTE(CONCATENATE(\"ノルディック\",'様式3N MC'!$D$8,'様式3N MC'!$G$8),\"　\",\"\"))","v":""},{"$f":"IF('様式3N MC'!D22=\"\",\"\",'様式3N MC'!B22)","v":""},{"$f":"IF('様式3N MC'!D22=\"\",\"\",IF('様式3N MC'!C22=0,\"\",'様式3N MC'!C22))","v":""}]
[142,{"$f":"IF('様式3N MC'!D23=\"\",\"\",ASC('様式3N MC'!D23))","v":""},{"$f":"IF('様式3N MC'!D23=\"\",\"\",'様式3N MC'!$D$6)","v":""},{"$f":"IF('様式3N MC'!D23=\"\",\"\",'様式3N MC'!G23)","v":""},{"$f":"IF('様式3N MC'!D23=\"\",\"\",'様式3N MC'!H23)","v":""},{"$f":"IF('様式3N MC'!D23=\"\",\"\",'様式3N MC'!E23)","v":""},{"$f":"IF('様式3N MC'!D23=\"\",\"\",SUBSTITUTE(CONCATENATE(\"ノルディック\",'様式3N MC'!$D$8,'様式3N MC'!$G$8),\"　\",\"\"))","v":""},{"$f":"IF('様式3N MC'!D23=\"\",\"\",'様式3N MC'!B23)","v":""},{"$f":"IF('様式3N MC'!D23=\"\",\"\",IF('様式3N MC'!C23=0,\"\",'様式3N MC'!C23))","v":""}]
[143,{"$f":"IF('様式3N MC'!D24=\"\",\"\",ASC('様式3N MC'!D24))","v":""},{"$f":"IF('様式3N MC'!D24=\"\",\"\",'様式3N MC'!$D$6)","v":""},{"$f":"IF('様式3N MC'!D24=\"\",\"\",'様式3N MC'!G24)","v":""},{"$f":"IF('様式3N MC'!D24=\"\",\"\",'様式3N MC'!H24)","v":""},{"$f":"IF('様式3N MC'!D24=\"\",\"\",'様式3N MC'!E24)","v":""},{"$f":"IF('様式3N MC'!D24=\"\",\"\",SUBSTITUTE(CONCATENATE(\"ノルディック\",'様式3N MC'!$D$8,'様式3N MC'!$G$8),\"　\",\"\"))","v":""},{"$f":"IF('様式3N MC'!D24=\"\",\"\",'様式3N MC'!B24)","v":""},{"$f":"IF('様式3N MC'!D24=\"\",\"\",IF('様式3N MC'!C24=0,\"\",'様式3N MC'!C24))","v":""}]
[144,{"$f":"IF('様式3N MC'!D25=\"\",\"\",ASC('様式3N MC'!D25))","v":""},{"$f":"IF('様式3N MC'!D25=\"\",\"\",'様式3N MC'!$D$6)","v":""},{"$f":"IF('様式3N MC'!D25=\"\",\"\",'様式3N MC'!G25)","v":""},{"$f":"IF('様式3N MC'!D25=\"\",\"\",'様式3N MC'!H25)","v":""},{"$f":"IF('様式3N MC'!D25=\"\",\"\",'様式3N MC'!E25)","v":""},{"$f":"IF('様式3N MC'!D25=\"\",\"\",SUBSTITUTE(CONCATENATE(\"ノルディック\",'様式3N MC'!$D$8,'様式3N MC'!$G$8),\"　\",\"\"))","v":""},{"$f":"IF('様式3N MC'!D25=\"\",\"\",'様式3N MC'!B25)","v":""},{"$f":"IF('様式3N MC'!D25=\"\",\"\",IF('様式3N MC'!C25=0,\"\",'様式3N MC'!C25))","v":""}]
[145,{"$f":"IF('様式3N MC'!D26=\"\",\"\",ASC('様式3N MC'!D26))","v":""},{"$f":"IF('様式3N MC'!D26=\"\",\"\",'様式3N MC'!$D$6)","v":""},{"$f":"IF('様式3N MC'!D26=\"\",\"\",'様式3N MC'!G26)","v":""},{"$f":"IF('様式3N MC'!D26=\"\",\"\",'様式3N MC'!H26)","v":""},{"$f":"IF('様式3N MC'!D26=\"\",\"\",'様式3N MC'!E26)","v":""},{"$f":"IF('様式3N MC'!D26=\"\",\"\",SUBSTITUTE(CONCATENATE(\"ノルディック\",'様式3N MC'!$D$8,'様式3N MC'!$G$8),\"　\",\"\"))","v":""},{"$f":"IF('様式3N MC'!D26=\"\",\"\",'様式3N MC'!B26)","v":""},{"$f":"IF('様式3N MC'!D26=\"\",\"\",IF('様式3N MC'!C26=0,\"\",'様式3N MC'!C26))","v":""}]
[146,{"$f":"IF('様式3N MC'!D27=\"\",\"\",ASC('様式3N MC'!D27))","v":""},{"$f":"IF('様式3N MC'!D27=\"\",\"\",'様式3N MC'!$D$6)","v":""},{"$f":"IF('様式3N MC'!D27=\"\",\"\",'様式3N MC'!G27)","v":""},{"$f":"IF('様式3N MC'!D27=\"\",\"\",'様式3N MC'!H27)","v":""},{"$f":"IF('様式3N MC'!D27=\"\",\"\",'様式3N MC'!E27)","v":""},{"$f":"IF('様式3N MC'!D27=\"\",\"\",SUBSTITUTE(CONCATENATE(\"ノルディック\",'様式3N MC'!$D$8,'様式3N MC'!$G$8),\"　\",\"\"))","v":""},{"$f":"IF('様式3N MC'!D27=\"\",\"\",'様式3N MC'!B27)","v":""},{"$f":"IF('様式3N MC'!D27=\"\",\"\",IF('様式3N MC'!C27=0,\"\",'様式3N MC'!C27))","v":""}]
[147,{"$f":"IF('様式3N MC'!D28=\"\",\"\",ASC('様式3N MC'!D28))","v":""},{"$f":"IF('様式3N MC'!D28=\"\",\"\",'様式3N MC'!$D$6)","v":""},{"$f":"IF('様式3N MC'!D28=\"\",\"\",'様式3N MC'!G28)","v":""},{"$f":"IF('様式3N MC'!D28=\"\",\"\",'様式3N MC'!H28)","v":""},{"$f":"IF('様式3N MC'!D28=\"\",\"\",'様式3N MC'!E28)","v":""},{"$f":"IF('様式3N MC'!D28=\"\",\"\",SUBSTITUTE(CONCATENATE(\"ノルディック\",'様式3N MC'!$D$8,'様式3N MC'!$G$8),\"　\",\"\"))","v":""},{"$f":"IF('様式3N MC'!D28=\"\",\"\",'様式3N MC'!B28)","v":""},{"$f":"IF('様式3N MC'!D28=\"\",\"\",IF('様式3N MC'!C28=0,\"\",'様式3N MC'!C28))","v":""}]
[148,{"$f":"IF('様式3N MC'!D29=\"\",\"\",ASC('様式3N MC'!D29))","v":""},{"$f":"IF('様式3N MC'!D29=\"\",\"\",'様式3N MC'!$D$6)","v":""},{"$f":"IF('様式3N MC'!D29=\"\",\"\",'様式3N MC'!G29)","v":""},{"$f":"IF('様式3N MC'!D29=\"\",\"\",'様式3N MC'!H29)","v":""},{"$f":"IF('様式3N MC'!D29=\"\",\"\",'様式3N MC'!E29)","v":""},{"$f":"IF('様式3N MC'!D29=\"\",\"\",SUBSTITUTE(CONCATENATE(\"ノルディック\",'様式3N MC'!$D$8,'様式3N MC'!$G$8),\"　\",\"\"))","v":""},{"$f":"IF('様式3N MC'!D29=\"\",\"\",'様式3N MC'!B29)","v":""},{"$f":"IF('様式3N MC'!D29=\"\",\"\",IF('様式3N MC'!C29=0,\"\",'様式3N MC'!C29))","v":""}]
[149,{"$f":"IF('様式3N MC'!D30=\"\",\"\",ASC('様式3N MC'!D30))","v":""},{"$f":"IF('様式3N MC'!D30=\"\",\"\",'様式3N MC'!$D$6)","v":""},{"$f":"IF('様式3N MC'!D30=\"\",\"\",'様式3N MC'!G30)","v":""},{"$f":"IF('様式3N MC'!D30=\"\",\"\",'様式3N MC'!H30)","v":""},{"$f":"IF('様式3N MC'!D30=\"\",\"\",'様式3N MC'!E30)","v":""},{"$f":"IF('様式3N MC'!D30=\"\",\"\",SUBSTITUTE(CONCATENATE(\"ノルディック\",'様式3N MC'!$D$8,'様式3N MC'!$G$8),\"　\",\"\"))","v":""},{"$f":"IF('様式3N MC'!D30=\"\",\"\",'様式3N MC'!B30)","v":""},{"$f":"IF('様式3N MC'!D30=\"\",\"\",IF('様式3N MC'!C30=0,\"\",'様式3N MC'!C30))","v":""}]
[150,{"$f":"IF('様式3N MC'!D31=\"\",\"\",ASC('様式3N MC'!D31))","v":""},{"$f":"IF('様式3N MC'!D31=\"\",\"\",'様式3N MC'!$D$6)","v":""},{"$f":"IF('様式3N MC'!D31=\"\",\"\",'様式3N MC'!G31)","v":""},{"$f":"IF('様式3N MC'!D31=\"\",\"\",'様式3N MC'!H31)","v":""},{"$f":"IF('様式3N MC'!D31=\"\",\"\",'様式3N MC'!E31)","v":""},{"$f":"IF('様式3N MC'!D31=\"\",\"\",SUBSTITUTE(CONCATENATE(\"ノルディック\",'様式3N MC'!$D$8,'様式3N MC'!$G$8),\"　\",\"\"))","v":""},{"$f":"IF('様式3N MC'!D31=\"\",\"\",'様式3N MC'!B31)","v":""},{"$f":"IF('様式3N MC'!D31=\"\",\"\",IF('様式3N MC'!C31=0,\"\",'様式3N MC'!C31))","v":""}]
[151,{"$f":"IF('様式3N MC'!D32=\"\",\"\",ASC('様式3N MC'!D32))","v":""},{"$f":"IF('様式3N MC'!D32=\"\",\"\",'様式3N MC'!$D$6)","v":""},{"$f":"IF('様式3N MC'!D32=\"\",\"\",'様式3N MC'!G32)","v":""},{"$f":"IF('様式3N MC'!D32=\"\",\"\",'様式3N MC'!H32)","v":""},{"$f":"IF('様式3N MC'!D32=\"\",\"\",'様式3N MC'!E32)","v":""},{"$f":"IF('様式3N MC'!D32=\"\",\"\",SUBSTITUTE(CONCATENATE(\"ノルディック\",'様式3N MC'!$D$8,'様式3N MC'!$G$8),\"　\",\"\"))","v":""},{"$f":"IF('様式3N MC'!D32=\"\",\"\",'様式3N MC'!B32)","v":""},{"$f":"IF('様式3N MC'!D32=\"\",\"\",IF('様式3N MC'!C32=0,\"\",'様式3N MC'!C32))","v":""}]
[152,{"$f":"IF('様式3N MC'!D33=\"\",\"\",ASC('様式3N MC'!D33))","v":""},{"$f":"IF('様式3N MC'!D33=\"\",\"\",'様式3N MC'!$D$6)","v":""},{"$f":"IF('様式3N MC'!D33=\"\",\"\",'様式3N MC'!G33)","v":""},{"$f":"IF('様式3N MC'!D33=\"\",\"\",'様式3N MC'!H33)","v":""},{"$f":"IF('様式3N MC'!D33=\"\",\"\",'様式3N MC'!E33)","v":""},{"$f":"IF('様式3N MC'!D33=\"\",\"\",SUBSTITUTE(CONCATENATE(\"ノルディック\",'様式3N MC'!$D$8,'様式3N MC'!$G$8),\"　\",\"\"))","v":""},{"$f":"IF('様式3N MC'!D33=\"\",\"\",'様式3N MC'!B33)","v":""},{"$f":"IF('様式3N MC'!D33=\"\",\"\",IF('様式3N MC'!C33=0,\"\",'様式3N MC'!C33))","v":""}]
[153]
[154,{"$f":"IF('様式3N WC'!D11=\"\",\"\",ASC('様式3N WC'!D11))","v":""},{"$f":"IF('様式3N WC'!D11=\"\",\"\",'様式3N WC'!$D$6)","v":""},{"$f":"IF('様式3N WC'!D11=\"\",\"\",'様式3N WC'!G11)","v":""},{"$f":"IF('様式3N WC'!D11=\"\",\"\",'様式3N WC'!H11)","v":""},{"$f":"IF('様式3N WC'!D11=\"\",\"\",'様式3N WC'!E11)","v":""},{"$f":"IF('様式3N WC'!D11=\"\",\"\",SUBSTITUTE(CONCATENATE(\"ノルディック\",'様式3N WC'!$D$8,'様式3N WC'!$G$8),\"　\",\"\"))","v":""},{"$f":"IF('様式3N WC'!D11=\"\",\"\",'様式3N WC'!B11)","v":""},{"$f":"IF('様式3N WC'!D11=\"\",\"\",IF('様式3N WC'!C11=0,\"\",'様式3N WC'!C11))","v":""}]
[155,{"$f":"IF('様式3N WC'!D12=\"\",\"\",ASC('様式3N WC'!D12))","v":""},{"$f":"IF('様式3N WC'!D12=\"\",\"\",'様式3N WC'!$D$6)","v":""},{"$f":"IF('様式3N WC'!D12=\"\",\"\",'様式3N WC'!G12)","v":""},{"$f":"IF('様式3N WC'!D12=\"\",\"\",'様式3N WC'!H12)","v":""},{"$f":"IF('様式3N WC'!D12=\"\",\"\",'様式3N WC'!E12)","v":""},{"$f":"IF('様式3N WC'!D12=\"\",\"\",SUBSTITUTE(CONCATENATE(\"ノルディック\",'様式3N WC'!$D$8,'様式3N WC'!$G$8),\"　\",\"\"))","v":""},{"$f":"IF('様式3N WC'!D12=\"\",\"\",'様式3N WC'!B12)","v":""},{"$f":"IF('様式3N WC'!D12=\"\",\"\",IF('様式3N WC'!C12=0,\"\",'様式3N WC'!C12))","v":""}]
[156,{"$f":"IF('様式3N WC'!D13=\"\",\"\",ASC('様式3N WC'!D13))","v":""},{"$f":"IF('様式3N WC'!D13=\"\",\"\",'様式3N WC'!$D$6)","v":""},{"$f":"IF('様式3N WC'!D13=\"\",\"\",'様式3N WC'!G13)","v":""},{"$f":"IF('様式3N WC'!D13=\"\",\"\",'様式3N WC'!H13)","v":""},{"$f":"IF('様式3N WC'!D13=\"\",\"\",'様式3N WC'!E13)","v":""},{"$f":"IF('様式3N WC'!D13=\"\",\"\",SUBSTITUTE(CONCATENATE(\"ノルディック\",'様式3N WC'!$D$8,'様式3N WC'!$G$8),\"　\",\"\"))","v":""},{"$f":"IF('様式3N WC'!D13=\"\",\"\",'様式3N WC'!B13)","v":""},{"$f":"IF('様式3N WC'!D13=\"\",\"\",IF('様式3N WC'!C13=0,\"\",'様式3N WC'!C13))","v":""}]
[157,{"$f":"IF('様式3N WC'!D14=\"\",\"\",ASC('様式3N WC'!D14))","v":""},{"$f":"IF('様式3N WC'!D14=\"\",\"\",'様式3N WC'!$D$6)","v":""},{"$f":"IF('様式3N WC'!D14=\"\",\"\",'様式3N WC'!G14)","v":""},{"$f":"IF('様式3N WC'!D14=\"\",\"\",'様式3N WC'!H14)","v":""},{"$f":"IF('様式3N WC'!D14=\"\",\"\",'様式3N WC'!E14)","v":""},{"$f":"IF('様式3N WC'!D14=\"\",\"\",SUBSTITUTE(CONCATENATE(\"ノルディック\",'様式3N WC'!$D$8,'様式3N WC'!$G$8),\"　\",\"\"))","v":""},{"$f":"IF('様式3N WC'!D14=\"\",\"\",'様式3N WC'!B14)","v":""},{"$f":"IF('様式3N WC'!D14=\"\",\"\",IF('様式3N WC'!C14=0,\"\",'様式3N WC'!C14))","v":""}]
[158,{"$f":"IF('様式3N WC'!D15=\"\",\"\",ASC('様式3N WC'!D15))","v":""},{"$f":"IF('様式3N WC'!D15=\"\",\"\",'様式3N WC'!$D$6)","v":""},{"$f":"IF('様式3N WC'!D15=\"\",\"\",'様式3N WC'!G15)","v":""},{"$f":"IF('様式3N WC'!D15=\"\",\"\",'様式3N WC'!H15)","v":""},{"$f":"IF('様式3N WC'!D15=\"\",\"\",'様式3N WC'!E15)","v":""},{"$f":"IF('様式3N WC'!D15=\"\",\"\",SUBSTITUTE(CONCATENATE(\"ノルディック\",'様式3N WC'!$D$8,'様式3N WC'!$G$8),\"　\",\"\"))","v":""},{"$f":"IF('様式3N WC'!D15=\"\",\"\",'様式3N WC'!B15)","v":""},{"$f":"IF('様式3N WC'!D15=\"\",\"\",IF('様式3N WC'!C15=0,\"\",'様式3N WC'!C15))","v":""}]
[159,{"$f":"IF('様式3N WC'!D16=\"\",\"\",ASC('様式3N WC'!D16))","v":""},{"$f":"IF('様式3N WC'!D16=\"\",\"\",'様式3N WC'!$D$6)","v":""},{"$f":"IF('様式3N WC'!D16=\"\",\"\",'様式3N WC'!G16)","v":""},{"$f":"IF('様式3N WC'!D16=\"\",\"\",'様式3N WC'!H16)","v":""},{"$f":"IF('様式3N WC'!D16=\"\",\"\",'様式3N WC'!E16)","v":""},{"$f":"IF('様式3N WC'!D16=\"\",\"\",SUBSTITUTE(CONCATENATE(\"ノルディック\",'様式3N WC'!$D$8,'様式3N WC'!$G$8),\"　\",\"\"))","v":""},{"$f":"IF('様式3N WC'!D16=\"\",\"\",'様式3N WC'!B16)","v":""},{"$f":"IF('様式3N WC'!D16=\"\",\"\",IF('様式3N WC'!C16=0,\"\",'様式3N WC'!C16))","v":""}]
[160,{"$f":"IF('様式3N WC'!D17=\"\",\"\",ASC('様式3N WC'!D17))","v":""},{"$f":"IF('様式3N WC'!D17=\"\",\"\",'様式3N WC'!$D$6)","v":""},{"$f":"IF('様式3N WC'!D17=\"\",\"\",'様式3N WC'!G17)","v":""},{"$f":"IF('様式3N WC'!D17=\"\",\"\",'様式3N WC'!H17)","v":""},{"$f":"IF('様式3N WC'!D17=\"\",\"\",'様式3N WC'!E17)","v":""},{"$f":"IF('様式3N WC'!D17=\"\",\"\",SUBSTITUTE(CONCATENATE(\"ノルディック\",'様式3N WC'!$D$8,'様式3N WC'!$G$8),\"　\",\"\"))","v":""},{"$f":"IF('様式3N WC'!D17=\"\",\"\",'様式3N WC'!B17)","v":""},{"$f":"IF('様式3N WC'!D17=\"\",\"\",IF('様式3N WC'!C17=0,\"\",'様式3N WC'!C17))","v":""}]
[161,{"$f":"IF('様式3N WC'!D18=\"\",\"\",ASC('様式3N WC'!D18))","v":""},{"$f":"IF('様式3N WC'!D18=\"\",\"\",'様式3N WC'!$D$6)","v":""},{"$f":"IF('様式3N WC'!D18=\"\",\"\",'様式3N WC'!G18)","v":""},{"$f":"IF('様式3N WC'!D18=\"\",\"\",'様式3N WC'!H18)","v":""},{"$f":"IF('様式3N WC'!D18=\"\",\"\",'様式3N WC'!E18)","v":""},{"$f":"IF('様式3N WC'!D18=\"\",\"\",SUBSTITUTE(CONCATENATE(\"ノルディック\",'様式3N WC'!$D$8,'様式3N WC'!$G$8),\"　\",\"\"))","v":""},{"$f":"IF('様式3N WC'!D18=\"\",\"\",'様式3N WC'!B18)","v":""},{"$f":"IF('様式3N WC'!D18=\"\",\"\",IF('様式3N WC'!C18=0,\"\",'様式3N WC'!C18))","v":""}]
[162,{"$f":"IF('様式3N WC'!D19=\"\",\"\",ASC('様式3N WC'!D19))","v":""},{"$f":"IF('様式3N WC'!D19=\"\",\"\",'様式3N WC'!$D$6)","v":""},{"$f":"IF('様式3N WC'!D19=\"\",\"\",'様式3N WC'!G19)","v":""},{"$f":"IF('様式3N WC'!D19=\"\",\"\",'様式3N WC'!H19)","v":""},{"$f":"IF('様式3N WC'!D19=\"\",\"\",'様式3N WC'!E19)","v":""},{"$f":"IF('様式3N WC'!D19=\"\",\"\",SUBSTITUTE(CONCATENATE(\"ノルディック\",'様式3N WC'!$D$8,'様式3N WC'!$G$8),\"　\",\"\"))","v":""},{"$f":"IF('様式3N WC'!D19=\"\",\"\",'様式3N WC'!B19)","v":""},{"$f":"IF('様式3N WC'!D19=\"\",\"\",IF('様式3N WC'!C19=0,\"\",'様式3N WC'!C19))","v":""}]
[163,{"$f":"IF('様式3N WC'!D20=\"\",\"\",ASC('様式3N WC'!D20))","v":""},{"$f":"IF('様式3N WC'!D20=\"\",\"\",'様式3N WC'!$D$6)","v":""},{"$f":"IF('様式3N WC'!D20=\"\",\"\",'様式3N WC'!G20)","v":""},{"$f":"IF('様式3N WC'!D20=\"\",\"\",'様式3N WC'!H20)","v":""},{"$f":"IF('様式3N WC'!D20=\"\",\"\",'様式3N WC'!E20)","v":""},{"$f":"IF('様式3N WC'!D20=\"\",\"\",SUBSTITUTE(CONCATENATE(\"ノルディック\",'様式3N WC'!$D$8,'様式3N WC'!$G$8),\"　\",\"\"))","v":""},{"$f":"IF('様式3N WC'!D20=\"\",\"\",'様式3N WC'!B20)","v":""},{"$f":"IF('様式3N WC'!D20=\"\",\"\",IF('様式3N WC'!C20=0,\"\",'様式3N WC'!C20))","v":""}]
[164,{"$f":"IF('様式3N WC'!D21=\"\",\"\",ASC('様式3N WC'!D21))","v":""},{"$f":"IF('様式3N WC'!D21=\"\",\"\",'様式3N WC'!$D$6)","v":""},{"$f":"IF('様式3N WC'!D21=\"\",\"\",'様式3N WC'!G21)","v":""},{"$f":"IF('様式3N WC'!D21=\"\",\"\",'様式3N WC'!H21)","v":""},{"$f":"IF('様式3N WC'!D21=\"\",\"\",'様式3N WC'!E21)","v":""},{"$f":"IF('様式3N WC'!D21=\"\",\"\",SUBSTITUTE(CONCATENATE(\"ノルディック\",'様式3N WC'!$D$8,'様式3N WC'!$G$8),\"　\",\"\"))","v":""},{"$f":"IF('様式3N WC'!D21=\"\",\"\",'様式3N WC'!B21)","v":""},{"$f":"IF('様式3N WC'!D21=\"\",\"\",IF('様式3N WC'!C21=0,\"\",'様式3N WC'!C21))","v":""}]
[165,{"$f":"IF('様式3N WC'!D22=\"\",\"\",ASC('様式3N WC'!D22))","v":""},{"$f":"IF('様式3N WC'!D22=\"\",\"\",'様式3N WC'!$D$6)","v":""},{"$f":"IF('様式3N WC'!D22=\"\",\"\",'様式3N WC'!G22)","v":""},{"$f":"IF('様式3N WC'!D22=\"\",\"\",'様式3N WC'!H22)","v":""},{"$f":"IF('様式3N WC'!D22=\"\",\"\",'様式3N WC'!E22)","v":""},{"$f":"IF('様式3N WC'!D22=\"\",\"\",SUBSTITUTE(CONCATENATE(\"ノルディック\",'様式3N WC'!$D$8,'様式3N WC'!$G$8),\"　\",\"\"))","v":""},{"$f":"IF('様式3N WC'!D22=\"\",\"\",'様式3N WC'!B22)","v":""},{"$f":"IF('様式3N WC'!D22=\"\",\"\",IF('様式3N WC'!C22=0,\"\",'様式3N WC'!C22))","v":""}]
[166,{"$f":"IF('様式3N WC'!D23=\"\",\"\",ASC('様式3N WC'!D23))","v":""},{"$f":"IF('様式3N WC'!D23=\"\",\"\",'様式3N WC'!$D$6)","v":""},{"$f":"IF('様式3N WC'!D23=\"\",\"\",'様式3N WC'!G23)","v":""},{"$f":"IF('様式3N WC'!D23=\"\",\"\",'様式3N WC'!H23)","v":""},{"$f":"IF('様式3N WC'!D23=\"\",\"\",'様式3N WC'!E23)","v":""},{"$f":"IF('様式3N WC'!D23=\"\",\"\",SUBSTITUTE(CONCATENATE(\"ノルディック\",'様式3N WC'!$D$8,'様式3N WC'!$G$8),\"　\",\"\"))","v":""},{"$f":"IF('様式3N WC'!D23=\"\",\"\",'様式3N WC'!B23)","v":""},{"$f":"IF('様式3N WC'!D23=\"\",\"\",IF('様式3N WC'!C23=0,\"\",'様式3N WC'!C23))","v":""}]
[167,{"$f":"IF('様式3N WC'!D24=\"\",\"\",ASC('様式3N WC'!D24))","v":""},{"$f":"IF('様式3N WC'!D24=\"\",\"\",'様式3N WC'!$D$6)","v":""},{"$f":"IF('様式3N WC'!D24=\"\",\"\",'様式3N WC'!G24)","v":""},{"$f":"IF('様式3N WC'!D24=\"\",\"\",'様式3N WC'!H24)","v":""},{"$f":"IF('様式3N WC'!D24=\"\",\"\",'様式3N WC'!E24)","v":""},{"$f":"IF('様式3N WC'!D24=\"\",\"\",SUBSTITUTE(CONCATENATE(\"ノルディック\",'様式3N WC'!$D$8,'様式3N WC'!$G$8),\"　\",\"\"))","v":""},{"$f":"IF('様式3N WC'!D24=\"\",\"\",'様式3N WC'!B24)","v":""},{"$f":"IF('様式3N WC'!D24=\"\",\"\",IF('様式3N WC'!C24=0,\"\",'様式3N WC'!C24))","v":""}]
[168,{"$f":"IF('様式3N WC'!D25=\"\",\"\",ASC('様式3N WC'!D25))","v":""},{"$f":"IF('様式3N WC'!D25=\"\",\"\",'様式3N WC'!$D$6)","v":""},{"$f":"IF('様式3N WC'!D25=\"\",\"\",'様式3N WC'!G25)","v":""},{"$f":"IF('様式3N WC'!D25=\"\",\"\",'様式3N WC'!H25)","v":""},{"$f":"IF('様式3N WC'!D25=\"\",\"\",'様式3N WC'!E25)","v":""},{"$f":"IF('様式3N WC'!D25=\"\",\"\",SUBSTITUTE(CONCATENATE(\"ノルディック\",'様式3N WC'!$D$8,'様式3N WC'!$G$8),\"　\",\"\"))","v":""},{"$f":"IF('様式3N WC'!D25=\"\",\"\",'様式3N WC'!B25)","v":""},{"$f":"IF('様式3N WC'!D25=\"\",\"\",IF('様式3N WC'!C25=0,\"\",'様式3N WC'!C25))","v":""}]
[169,{"$f":"IF('様式3N WC'!D26=\"\",\"\",ASC('様式3N WC'!D26))","v":""},{"$f":"IF('様式3N WC'!D26=\"\",\"\",'様式3N WC'!$D$6)","v":""},{"$f":"IF('様式3N WC'!D26=\"\",\"\",'様式3N WC'!G26)","v":""},{"$f":"IF('様式3N WC'!D26=\"\",\"\",'様式3N WC'!H26)","v":""},{"$f":"IF('様式3N WC'!D26=\"\",\"\",'様式3N WC'!E26)","v":""},{"$f":"IF('様式3N WC'!D26=\"\",\"\",SUBSTITUTE(CONCATENATE(\"ノルディック\",'様式3N WC'!$D$8,'様式3N WC'!$G$8),\"　\",\"\"))","v":""},{"$f":"IF('様式3N WC'!D26=\"\",\"\",'様式3N WC'!B26)","v":""},{"$f":"IF('様式3N WC'!D26=\"\",\"\",IF('様式3N WC'!C26=0,\"\",'様式3N WC'!C26))","v":""}]
[170,{"$f":"IF('様式3N WC'!D27=\"\",\"\",ASC('様式3N WC'!D27))","v":""},{"$f":"IF('様式3N WC'!D27=\"\",\"\",'様式3N WC'!$D$6)","v":""},{"$f":"IF('様式3N WC'!D27=\"\",\"\",'様式3N WC'!G27)","v":""},{"$f":"IF('様式3N WC'!D27=\"\",\"\",'様式3N WC'!H27)","v":""},{"$f":"IF('様式3N WC'!D27=\"\",\"\",'様式3N WC'!E27)","v":""},{"$f":"IF('様式3N WC'!D27=\"\",\"\",SUBSTITUTE(CONCATENATE(\"ノルディック\",'様式3N WC'!$D$8,'様式3N WC'!$G$8),\"　\",\"\"))","v":""},{"$f":"IF('様式3N WC'!D27=\"\",\"\",'様式3N WC'!B27)","v":""},{"$f":"IF('様式3N WC'!D27=\"\",\"\",IF('様式3N WC'!C27=0,\"\",'様式3N WC'!C27))","v":""}]
[171,{"$f":"IF('様式3N WC'!D28=\"\",\"\",ASC('様式3N WC'!D28))","v":""},{"$f":"IF('様式3N WC'!D28=\"\",\"\",'様式3N WC'!$D$6)","v":""},{"$f":"IF('様式3N WC'!D28=\"\",\"\",'様式3N WC'!G28)","v":""},{"$f":"IF('様式3N WC'!D28=\"\",\"\",'様式3N WC'!H28)","v":""},{"$f":"IF('様式3N WC'!D28=\"\",\"\",'様式3N WC'!E28)","v":""},{"$f":"IF('様式3N WC'!D28=\"\",\"\",SUBSTITUTE(CONCATENATE(\"ノルディック\",'様式3N WC'!$D$8,'様式3N WC'!$G$8),\"　\",\"\"))","v":""},{"$f":"IF('様式3N WC'!D28=\"\",\"\",'様式3N WC'!B28)","v":""},{"$f":"IF('様式3N WC'!D28=\"\",\"\",IF('様式3N WC'!C28=0,\"\",'様式3N WC'!C28))","v":""}]
[172,{"$f":"IF('様式3N WC'!D29=\"\",\"\",ASC('様式3N WC'!D29))","v":""},{"$f":"IF('様式3N WC'!D29=\"\",\"\",'様式3N WC'!$D$6)","v":""},{"$f":"IF('様式3N WC'!D29=\"\",\"\",'様式3N WC'!G29)","v":""},{"$f":"IF('様式3N WC'!D29=\"\",\"\",'様式3N WC'!H29)","v":""},{"$f":"IF('様式3N WC'!D29=\"\",\"\",'様式3N WC'!E29)","v":""},{"$f":"IF('様式3N WC'!D29=\"\",\"\",SUBSTITUTE(CONCATENATE(\"ノルディック\",'様式3N WC'!$D$8,'様式3N WC'!$G$8),\"　\",\"\"))","v":""},{"$f":"IF('様式3N WC'!D29=\"\",\"\",'様式3N WC'!B29)","v":""},{"$f":"IF('様式3N WC'!D29=\"\",\"\",IF('様式3N WC'!C29=0,\"\",'様式3N WC'!C29))","v":""}]
[173,{"$f":"IF('様式3N WC'!D30=\"\",\"\",ASC('様式3N WC'!D30))","v":""},{"$f":"IF('様式3N WC'!D30=\"\",\"\",'様式3N WC'!$D$6)","v":""},{"$f":"IF('様式3N WC'!D30=\"\",\"\",'様式3N WC'!G30)","v":""},{"$f":"IF('様式3N WC'!D30=\"\",\"\",'様式3N WC'!H30)","v":""},{"$f":"IF('様式3N WC'!D30=\"\",\"\",'様式3N WC'!E30)","v":""},{"$f":"IF('様式3N WC'!D30=\"\",\"\",SUBSTITUTE(CONCATENATE(\"ノルディック\",'様式3N WC'!$D$8,'様式3N WC'!$G$8),\"　\",\"\"))","v":""},{"$f":"IF('様式3N WC'!D30=\"\",\"\",'様式3N WC'!B30)","v":""},{"$f":"IF('様式3N WC'!D30=\"\",\"\",IF('様式3N WC'!C30=0,\"\",'様式3N WC'!C30))","v":""}]
[174,{"$f":"IF('様式3N WC'!D31=\"\",\"\",ASC('様式3N WC'!D31))","v":""},{"$f":"IF('様式3N WC'!D31=\"\",\"\",'様式3N WC'!$D$6)","v":""},{"$f":"IF('様式3N WC'!D31=\"\",\"\",'様式3N WC'!G31)","v":""},{"$f":"IF('様式3N WC'!D31=\"\",\"\",'様式3N WC'!H31)","v":""},{"$f":"IF('様式3N WC'!D31=\"\",\"\",'様式3N WC'!E31)","v":""},{"$f":"IF('様式3N WC'!D31=\"\",\"\",SUBSTITUTE(CONCATENATE(\"ノルディック\",'様式3N WC'!$D$8,'様式3N WC'!$G$8),\"　\",\"\"))","v":""},{"$f":"IF('様式3N WC'!D31=\"\",\"\",'様式3N WC'!B31)","v":""},{"$f":"IF('様式3N WC'!D31=\"\",\"\",IF('様式3N WC'!C31=0,\"\",'様式3N WC'!C31))","v":""}]
[175,{"$f":"IF('様式3N WC'!D32=\"\",\"\",ASC('様式3N WC'!D32))","v":""},{"$f":"IF('様式3N WC'!D32=\"\",\"\",'様式3N WC'!$D$6)","v":""},{"$f":"IF('様式3N WC'!D32=\"\",\"\",'様式3N WC'!G32)","v":""},{"$f":"IF('様式3N WC'!D32=\"\",\"\",'様式3N WC'!H32)","v":""},{"$f":"IF('様式3N WC'!D32=\"\",\"\",'様式3N WC'!E32)","v":""},{"$f":"IF('様式3N WC'!D32=\"\",\"\",SUBSTITUTE(CONCATENATE(\"ノルディック\",'様式3N WC'!$D$8,'様式3N WC'!$G$8),\"　\",\"\"))","v":""},{"$f":"IF('様式3N WC'!D32=\"\",\"\",'様式3N WC'!B32)","v":""},{"$f":"IF('様式3N WC'!D32=\"\",\"\",IF('様式3N WC'!C32=0,\"\",'様式3N WC'!C32))","v":""}]
[176,{"$f":"IF('様式3N WC'!D33=\"\",\"\",ASC('様式3N WC'!D33))","v":""},{"$f":"IF('様式3N WC'!D33=\"\",\"\",'様式3N WC'!$D$6)","v":""},{"$f":"IF('様式3N WC'!D33=\"\",\"\",'様式3N WC'!G33)","v":""},{"$f":"IF('様式3N WC'!D33=\"\",\"\",'様式3N WC'!H33)","v":""},{"$f":"IF('様式3N WC'!D33=\"\",\"\",'様式3N WC'!E33)","v":""},{"$f":"IF('様式3N WC'!D33=\"\",\"\",SUBSTITUTE(CONCATENATE(\"ノルディック\",'様式3N WC'!$D$8,'様式3N WC'!$G$8),\"　\",\"\"))","v":""},{"$f":"IF('様式3N WC'!D33=\"\",\"\",'様式3N WC'!B33)","v":""},{"$f":"IF('様式3N WC'!D33=\"\",\"\",IF('様式3N WC'!C33=0,\"\",'様式3N WC'!C33))","v":""}]
[177]
[178,{"$f":"IF('様式3N SJ'!D11=\"\",\"\",ASC('様式3N SJ'!D11))","v":""},{"$f":"IF('様式3N SJ'!D11=\"\",\"\",'様式3N SJ'!$D$6)","v":""},{"$f":"IF('様式3N SJ'!D11=\"\",\"\",'様式3N SJ'!G11)","v":""},{"$f":"IF('様式3N SJ'!D11=\"\",\"\",'様式3N SJ'!H11)","v":""},{"$f":"IF('様式3N SJ'!D11=\"\",\"\",'様式3N SJ'!E11)","v":""},{"$f":"IF('様式3N SJ'!D11=\"\",\"\",SUBSTITUTE(CONCATENATE(\"ノルディック\",'様式3N SJ'!$D$8,'様式3N SJ'!$G$8),\"　\",\"\"))","v":""},{"$f":"IF('様式3N SJ'!D11=\"\",\"\",'様式3N SJ'!B11)","v":""},{"$f":"IF('様式3N SJ'!D11=\"\",\"\",IF('様式3N SJ'!C11=0,\"\",'様式3N SJ'!C11))","v":""}]
[179,{"$f":"IF('様式3N SJ'!D12=\"\",\"\",ASC('様式3N SJ'!D12))","v":""},{"$f":"IF('様式3N SJ'!D12=\"\",\"\",'様式3N SJ'!$D$6)","v":""},{"$f":"IF('様式3N SJ'!D12=\"\",\"\",'様式3N SJ'!G12)","v":""},{"$f":"IF('様式3N SJ'!D12=\"\",\"\",'様式3N SJ'!H12)","v":""},{"$f":"IF('様式3N SJ'!D12=\"\",\"\",'様式3N SJ'!E12)","v":""},{"$f":"IF('様式3N SJ'!D12=\"\",\"\",SUBSTITUTE(CONCATENATE(\"ノルディック\",'様式3N SJ'!$D$8,'様式3N SJ'!$G$8),\"　\",\"\"))","v":""},{"$f":"IF('様式3N SJ'!D12=\"\",\"\",'様式3N SJ'!B12)","v":""},{"$f":"IF('様式3N SJ'!D12=\"\",\"\",IF('様式3N SJ'!C12=0,\"\",'様式3N SJ'!C12))","v":""}]
[180,{"$f":"IF('様式3N SJ'!D13=\"\",\"\",ASC('様式3N SJ'!D13))","v":""},{"$f":"IF('様式3N SJ'!D13=\"\",\"\",'様式3N SJ'!$D$6)","v":""},{"$f":"IF('様式3N SJ'!D13=\"\",\"\",'様式3N SJ'!G13)","v":""},{"$f":"IF('様式3N SJ'!D13=\"\",\"\",'様式3N SJ'!H13)","v":""},{"$f":"IF('様式3N SJ'!D13=\"\",\"\",'様式3N SJ'!E13)","v":""},{"$f":"IF('様式3N SJ'!D13=\"\",\"\",SUBSTITUTE(CONCATENATE(\"ノルディック\",'様式3N SJ'!$D$8,'様式3N SJ'!$G$8),\"　\",\"\"))","v":""},{"$f":"IF('様式3N SJ'!D13=\"\",\"\",'様式3N SJ'!B13)","v":""},{"$f":"IF('様式3N SJ'!D13=\"\",\"\",IF('様式3N SJ'!C13=0,\"\",'様式3N SJ'!C13))","v":""}]
[181,{"$f":"IF('様式3N SJ'!D14=\"\",\"\",ASC('様式3N SJ'!D14))","v":""},{"$f":"IF('様式3N SJ'!D14=\"\",\"\",'様式3N SJ'!$D$6)","v":""},{"$f":"IF('様式3N SJ'!D14=\"\",\"\",'様式3N SJ'!G14)","v":""},{"$f":"IF('様式3N SJ'!D14=\"\",\"\",'様式3N SJ'!H14)","v":""},{"$f":"IF('様式3N SJ'!D14=\"\",\"\",'様式3N SJ'!E14)","v":""},{"$f":"IF('様式3N SJ'!D14=\"\",\"\",SUBSTITUTE(CONCATENATE(\"ノルディック\",'様式3N SJ'!$D$8,'様式3N SJ'!$G$8),\"　\",\"\"))","v":""},{"$f":"IF('様式3N SJ'!D14=\"\",\"\",'様式3N SJ'!B14)","v":""},{"$f":"IF('様式3N SJ'!D14=\"\",\"\",IF('様式3N SJ'!C14=0,\"\",'様式3N SJ'!C14))","v":""}]
[182,{"$f":"IF('様式3N SJ'!D15=\"\",\"\",ASC('様式3N SJ'!D15))","v":""},{"$f":"IF('様式3N SJ'!D15=\"\",\"\",'様式3N SJ'!$D$6)","v":""},{"$f":"IF('様式3N SJ'!D15=\"\",\"\",'様式3N SJ'!G15)","v":""},{"$f":"IF('様式3N SJ'!D15=\"\",\"\",'様式3N SJ'!H15)","v":""},{"$f":"IF('様式3N SJ'!D15=\"\",\"\",'様式3N SJ'!E15)","v":""},{"$f":"IF('様式3N SJ'!D15=\"\",\"\",SUBSTITUTE(CONCATENATE(\"ノルディック\",'様式3N SJ'!$D$8,'様式3N SJ'!$G$8),\"　\",\"\"))","v":""},{"$f":"IF('様式3N SJ'!D15=\"\",\"\",'様式3N SJ'!B15)","v":""},{"$f":"IF('様式3N SJ'!D15=\"\",\"\",IF('様式3N SJ'!C15=0,\"\",'様式3N SJ'!C15))","v":""}]
[183,{"$f":"IF('様式3N SJ'!D16=\"\",\"\",ASC('様式3N SJ'!D16))","v":""},{"$f":"IF('様式3N SJ'!D16=\"\",\"\",'様式3N SJ'!$D$6)","v":""},{"$f":"IF('様式3N SJ'!D16=\"\",\"\",'様式3N SJ'!G16)","v":""},{"$f":"IF('様式3N SJ'!D16=\"\",\"\",'様式3N SJ'!H16)","v":""},{"$f":"IF('様式3N SJ'!D16=\"\",\"\",'様式3N SJ'!E16)","v":""},{"$f":"IF('様式3N SJ'!D16=\"\",\"\",SUBSTITUTE(CONCATENATE(\"ノルディック\",'様式3N SJ'!$D$8,'様式3N SJ'!$G$8),\"　\",\"\"))","v":""},{"$f":"IF('様式3N SJ'!D16=\"\",\"\",'様式3N SJ'!B16)","v":""},{"$f":"IF('様式3N SJ'!D16=\"\",\"\",IF('様式3N SJ'!C16=0,\"\",'様式3N SJ'!C16))","v":""}]
[184,{"$f":"IF('様式3N SJ'!D17=\"\",\"\",ASC('様式3N SJ'!D17))","v":""},{"$f":"IF('様式3N SJ'!D17=\"\",\"\",'様式3N SJ'!$D$6)","v":""},{"$f":"IF('様式3N SJ'!D17=\"\",\"\",'様式3N SJ'!G17)","v":""},{"$f":"IF('様式3N SJ'!D17=\"\",\"\",'様式3N SJ'!H17)","v":""},{"$f":"IF('様式3N SJ'!D17=\"\",\"\",'様式3N SJ'!E17)","v":""},{"$f":"IF('様式3N SJ'!D17=\"\",\"\",SUBSTITUTE(CONCATENATE(\"ノルディック\",'様式3N SJ'!$D$8,'様式3N SJ'!$G$8),\"　\",\"\"))","v":""},{"$f":"IF('様式3N SJ'!D17=\"\",\"\",'様式3N SJ'!B17)","v":""},{"$f":"IF('様式3N SJ'!D17=\"\",\"\",IF('様式3N SJ'!C17=0,\"\",'様式3N SJ'!C17))","v":""}]
[185,{"$f":"IF('様式3N SJ'!D18=\"\",\"\",ASC('様式3N SJ'!D18))","v":""},{"$f":"IF('様式3N SJ'!D18=\"\",\"\",'様式3N SJ'!$D$6)","v":""},{"$f":"IF('様式3N SJ'!D18=\"\",\"\",'様式3N SJ'!G18)","v":""},{"$f":"IF('様式3N SJ'!D18=\"\",\"\",'様式3N SJ'!H18)","v":""},{"$f":"IF('様式3N SJ'!D18=\"\",\"\",'様式3N SJ'!E18)","v":""},{"$f":"IF('様式3N SJ'!D18=\"\",\"\",SUBSTITUTE(CONCATENATE(\"ノルディック\",'様式3N SJ'!$D$8,'様式3N SJ'!$G$8),\"　\",\"\"))","v":""},{"$f":"IF('様式3N SJ'!D18=\"\",\"\",'様式3N SJ'!B18)","v":""},{"$f":"IF('様式3N SJ'!D18=\"\",\"\",IF('様式3N SJ'!C18=0,\"\",'様式3N SJ'!C18))","v":""}]
[186,{"$f":"IF('様式3N SJ'!D19=\"\",\"\",ASC('様式3N SJ'!D19))","v":""},{"$f":"IF('様式3N SJ'!D19=\"\",\"\",'様式3N SJ'!$D$6)","v":""},{"$f":"IF('様式3N SJ'!D19=\"\",\"\",'様式3N SJ'!G19)","v":""},{"$f":"IF('様式3N SJ'!D19=\"\",\"\",'様式3N SJ'!H19)","v":""},{"$f":"IF('様式3N SJ'!D19=\"\",\"\",'様式3N SJ'!E19)","v":""},{"$f":"IF('様式3N SJ'!D19=\"\",\"\",SUBSTITUTE(CONCATENATE(\"ノルディック\",'様式3N SJ'!$D$8,'様式3N SJ'!$G$8),\"　\",\"\"))","v":""},{"$f":"IF('様式3N SJ'!D19=\"\",\"\",'様式3N SJ'!B19)","v":""},{"$f":"IF('様式3N SJ'!D19=\"\",\"\",IF('様式3N SJ'!C19=0,\"\",'様式3N SJ'!C19))","v":""}]
[187,{"$f":"IF('様式3N SJ'!D20=\"\",\"\",ASC('様式3N SJ'!D20))","v":""},{"$f":"IF('様式3N SJ'!D20=\"\",\"\",'様式3N SJ'!$D$6)","v":""},{"$f":"IF('様式3N SJ'!D20=\"\",\"\",'様式3N SJ'!G20)","v":""},{"$f":"IF('様式3N SJ'!D20=\"\",\"\",'様式3N SJ'!H20)","v":""},{"$f":"IF('様式3N SJ'!D20=\"\",\"\",'様式3N SJ'!E20)","v":""},{"$f":"IF('様式3N SJ'!D20=\"\",\"\",SUBSTITUTE(CONCATENATE(\"ノルディック\",'様式3N SJ'!$D$8,'様式3N SJ'!$G$8),\"　\",\"\"))","v":""},{"$f":"IF('様式3N SJ'!D20=\"\",\"\",'様式3N SJ'!B20)","v":""},{"$f":"IF('様式3N SJ'!D20=\"\",\"\",IF('様式3N SJ'!C20=0,\"\",'様式3N SJ'!C20))","v":""}]
[188,{"$f":"IF('様式3N SJ'!D21=\"\",\"\",ASC('様式3N SJ'!D21))","v":""},{"$f":"IF('様式3N SJ'!D21=\"\",\"\",'様式3N SJ'!$D$6)","v":""},{"$f":"IF('様式3N SJ'!D21=\"\",\"\",'様式3N SJ'!G21)","v":""},{"$f":"IF('様式3N SJ'!D21=\"\",\"\",'様式3N SJ'!H21)","v":""},{"$f":"IF('様式3N SJ'!D21=\"\",\"\",'様式3N SJ'!E21)","v":""},{"$f":"IF('様式3N SJ'!D21=\"\",\"\",SUBSTITUTE(CONCATENATE(\"ノルディック\",'様式3N SJ'!$D$8,'様式3N SJ'!$G$8),\"　\",\"\"))","v":""},{"$f":"IF('様式3N SJ'!D21=\"\",\"\",'様式3N SJ'!B21)","v":""},{"$f":"IF('様式3N SJ'!D21=\"\",\"\",IF('様式3N SJ'!C21=0,\"\",'様式3N SJ'!C21))","v":""}]
[189,{"$f":"IF('様式3N SJ'!D22=\"\",\"\",ASC('様式3N SJ'!D22))","v":""},{"$f":"IF('様式3N SJ'!D22=\"\",\"\",'様式3N SJ'!$D$6)","v":""},{"$f":"IF('様式3N SJ'!D22=\"\",\"\",'様式3N SJ'!G22)","v":""},{"$f":"IF('様式3N SJ'!D22=\"\",\"\",'様式3N SJ'!H22)","v":""},{"$f":"IF('様式3N SJ'!D22=\"\",\"\",'様式3N SJ'!E22)","v":""},{"$f":"IF('様式3N SJ'!D22=\"\",\"\",SUBSTITUTE(CONCATENATE(\"ノルディック\",'様式3N SJ'!$D$8,'様式3N SJ'!$G$8),\"　\",\"\"))","v":""},{"$f":"IF('様式3N SJ'!D22=\"\",\"\",'様式3N SJ'!B22)","v":""},{"$f":"IF('様式3N SJ'!D22=\"\",\"\",IF('様式3N SJ'!C22=0,\"\",'様式3N SJ'!C22))","v":""}]
[190,{"$f":"IF('様式3N SJ'!D23=\"\",\"\",ASC('様式3N SJ'!D23))","v":""},{"$f":"IF('様式3N SJ'!D23=\"\",\"\",'様式3N SJ'!$D$6)","v":""},{"$f":"IF('様式3N SJ'!D23=\"\",\"\",'様式3N SJ'!G23)","v":""},{"$f":"IF('様式3N SJ'!D23=\"\",\"\",'様式3N SJ'!H23)","v":""},{"$f":"IF('様式3N SJ'!D23=\"\",\"\",'様式3N SJ'!E23)","v":""},{"$f":"IF('様式3N SJ'!D23=\"\",\"\",SUBSTITUTE(CONCATENATE(\"ノルディック\",'様式3N SJ'!$D$8,'様式3N SJ'!$G$8),\"　\",\"\"))","v":""},{"$f":"IF('様式3N SJ'!D23=\"\",\"\",'様式3N SJ'!B23)","v":""},{"$f":"IF('様式3N SJ'!D23=\"\",\"\",IF('様式3N SJ'!C23=0,\"\",'様式3N SJ'!C23))","v":""}]
[191,{"$f":"IF('様式3N SJ'!D24=\"\",\"\",ASC('様式3N SJ'!D24))","v":""},{"$f":"IF('様式3N SJ'!D24=\"\",\"\",'様式3N SJ'!$D$6)","v":""},{"$f":"IF('様式3N SJ'!D24=\"\",\"\",'様式3N SJ'!G24)","v":""},{"$f":"IF('様式3N SJ'!D24=\"\",\"\",'様式3N SJ'!H24)","v":""},{"$f":"IF('様式3N SJ'!D24=\"\",\"\",'様式3N SJ'!E24)","v":""},{"$f":"IF('様式3N SJ'!D24=\"\",\"\",SUBSTITUTE(CONCATENATE(\"ノルディック\",'様式3N SJ'!$D$8,'様式3N SJ'!$G$8),\"　\",\"\"))","v":""},{"$f":"IF('様式3N SJ'!D24=\"\",\"\",'様式3N SJ'!B24)","v":""},{"$f":"IF('様式3N SJ'!D24=\"\",\"\",IF('様式3N SJ'!C24=0,\"\",'様式3N SJ'!C24))","v":""}]
[192,{"$f":"IF('様式3N SJ'!D25=\"\",\"\",ASC('様式3N SJ'!D25))","v":""},{"$f":"IF('様式3N SJ'!D25=\"\",\"\",'様式3N SJ'!$D$6)","v":""},{"$f":"IF('様式3N SJ'!D25=\"\",\"\",'様式3N SJ'!G25)","v":""},{"$f":"IF('様式3N SJ'!D25=\"\",\"\",'様式3N SJ'!H25)","v":""},{"$f":"IF('様式3N SJ'!D25=\"\",\"\",'様式3N SJ'!E25)","v":""},{"$f":"IF('様式3N SJ'!D25=\"\",\"\",SUBSTITUTE(CONCATENATE(\"ノルディック\",'様式3N SJ'!$D$8,'様式3N SJ'!$G$8),\"　\",\"\"))","v":""},{"$f":"IF('様式3N SJ'!D25=\"\",\"\",'様式3N SJ'!B25)","v":""},{"$f":"IF('様式3N SJ'!D25=\"\",\"\",IF('様式3N SJ'!C25=0,\"\",'様式3N SJ'!C25))","v":""}]
[193,{"$f":"IF('様式3N SJ'!D26=\"\",\"\",ASC('様式3N SJ'!D26))","v":""},{"$f":"IF('様式3N SJ'!D26=\"\",\"\",'様式3N SJ'!$D$6)","v":""},{"$f":"IF('様式3N SJ'!D26=\"\",\"\",'様式3N SJ'!G26)","v":""},{"$f":"IF('様式3N SJ'!D26=\"\",\"\",'様式3N SJ'!H26)","v":""},{"$f":"IF('様式3N SJ'!D26=\"\",\"\",'様式3N SJ'!E26)","v":""},{"$f":"IF('様式3N SJ'!D26=\"\",\"\",SUBSTITUTE(CONCATENATE(\"ノルディック\",'様式3N SJ'!$D$8,'様式3N SJ'!$G$8),\"　\",\"\"))","v":""},{"$f":"IF('様式3N SJ'!D26=\"\",\"\",'様式3N SJ'!B26)","v":""},{"$f":"IF('様式3N SJ'!D26=\"\",\"\",IF('様式3N SJ'!C26=0,\"\",'様式3N SJ'!C26))","v":""}]
[194,{"$f":"IF('様式3N SJ'!D27=\"\",\"\",ASC('様式3N SJ'!D27))","v":""},{"$f":"IF('様式3N SJ'!D27=\"\",\"\",'様式3N SJ'!$D$6)","v":""},{"$f":"IF('様式3N SJ'!D27=\"\",\"\",'様式3N SJ'!G27)","v":""},{"$f":"IF('様式3N SJ'!D27=\"\",\"\",'様式3N SJ'!H27)","v":""},{"$f":"IF('様式3N SJ'!D27=\"\",\"\",'様式3N SJ'!E27)","v":""},{"$f":"IF('様式3N SJ'!D27=\"\",\"\",SUBSTITUTE(CONCATENATE(\"ノルディック\",'様式3N SJ'!$D$8,'様式3N SJ'!$G$8),\"　\",\"\"))","v":""},{"$f":"IF('様式3N SJ'!D27=\"\",\"\",'様式3N SJ'!B27)","v":""},{"$f":"IF('様式3N SJ'!D27=\"\",\"\",IF('様式3N SJ'!C27=0,\"\",'様式3N SJ'!C27))","v":""}]
[195,{"$f":"IF('様式3N SJ'!D28=\"\",\"\",ASC('様式3N SJ'!D28))","v":""},{"$f":"IF('様式3N SJ'!D28=\"\",\"\",'様式3N SJ'!$D$6)","v":""},{"$f":"IF('様式3N SJ'!D28=\"\",\"\",'様式3N SJ'!G28)","v":""},{"$f":"IF('様式3N SJ'!D28=\"\",\"\",'様式3N SJ'!H28)","v":""},{"$f":"IF('様式3N SJ'!D28=\"\",\"\",'様式3N SJ'!E28)","v":""},{"$f":"IF('様式3N SJ'!D28=\"\",\"\",SUBSTITUTE(CONCATENATE(\"ノルディック\",'様式3N SJ'!$D$8,'様式3N SJ'!$G$8),\"　\",\"\"))","v":""},{"$f":"IF('様式3N SJ'!D28=\"\",\"\",'様式3N SJ'!B28)","v":""},{"$f":"IF('様式3N SJ'!D28=\"\",\"\",IF('様式3N SJ'!C28=0,\"\",'様式3N SJ'!C28))","v":""}]
[196,{"$f":"IF('様式3N SJ'!D29=\"\",\"\",ASC('様式3N SJ'!D29))","v":""},{"$f":"IF('様式3N SJ'!D29=\"\",\"\",'様式3N SJ'!$D$6)","v":""},{"$f":"IF('様式3N SJ'!D29=\"\",\"\",'様式3N SJ'!G29)","v":""},{"$f":"IF('様式3N SJ'!D29=\"\",\"\",'様式3N SJ'!H29)","v":""},{"$f":"IF('様式3N SJ'!D29=\"\",\"\",'様式3N SJ'!E29)","v":""},{"$f":"IF('様式3N SJ'!D29=\"\",\"\",SUBSTITUTE(CONCATENATE(\"ノルディック\",'様式3N SJ'!$D$8,'様式3N SJ'!$G$8),\"　\",\"\"))","v":""},{"$f":"IF('様式3N SJ'!D29=\"\",\"\",'様式3N SJ'!B29)","v":""},{"$f":"IF('様式3N SJ'!D29=\"\",\"\",IF('様式3N SJ'!C29=0,\"\",'様式3N SJ'!C29))","v":""}]
[197,{"$f":"IF('様式3N SJ'!D30=\"\",\"\",ASC('様式3N SJ'!D30))","v":""},{"$f":"IF('様式3N SJ'!D30=\"\",\"\",'様式3N SJ'!$D$6)","v":""},{"$f":"IF('様式3N SJ'!D30=\"\",\"\",'様式3N SJ'!G30)","v":""},{"$f":"IF('様式3N SJ'!D30=\"\",\"\",'様式3N SJ'!H30)","v":""},{"$f":"IF('様式3N SJ'!D30=\"\",\"\",'様式3N SJ'!E30)","v":""},{"$f":"IF('様式3N SJ'!D30=\"\",\"\",SUBSTITUTE(CONCATENATE(\"ノルディック\",'様式3N SJ'!$D$8,'様式3N SJ'!$G$8),\"　\",\"\"))","v":""},{"$f":"IF('様式3N SJ'!D30=\"\",\"\",'様式3N SJ'!B30)","v":""},{"$f":"IF('様式3N SJ'!D30=\"\",\"\",IF('様式3N SJ'!C30=0,\"\",'様式3N SJ'!C30))","v":""}]
[198,{"$f":"IF('様式3N SJ'!D31=\"\",\"\",ASC('様式3N SJ'!D31))","v":""},{"$f":"IF('様式3N SJ'!D31=\"\",\"\",'様式3N SJ'!$D$6)","v":""},{"$f":"IF('様式3N SJ'!D31=\"\",\"\",'様式3N SJ'!G31)","v":""},{"$f":"IF('様式3N SJ'!D31=\"\",\"\",'様式3N SJ'!H31)","v":""},{"$f":"IF('様式3N SJ'!D31=\"\",\"\",'様式3N SJ'!E31)","v":""},{"$f":"IF('様式3N SJ'!D31=\"\",\"\",SUBSTITUTE(CONCATENATE(\"ノルディック\",'様式3N SJ'!$D$8,'様式3N SJ'!$G$8),\"　\",\"\"))","v":""},{"$f":"IF('様式3N SJ'!D31=\"\",\"\",'様式3N SJ'!B31)","v":""},{"$f":"IF('様式3N SJ'!D31=\"\",\"\",IF('様式3N SJ'!C31=0,\"\",'様式3N SJ'!C31))","v":""}]
[199,{"$f":"IF('様式3N SJ'!D32=\"\",\"\",ASC('様式3N SJ'!D32))","v":""},{"$f":"IF('様式3N SJ'!D32=\"\",\"\",'様式3N SJ'!$D$6)","v":""},{"$f":"IF('様式3N SJ'!D32=\"\",\"\",'様式3N SJ'!G32)","v":""},{"$f":"IF('様式3N SJ'!D32=\"\",\"\",'様式3N SJ'!H32)","v":""},{"$f":"IF('様式3N SJ'!D32=\"\",\"\",'様式3N SJ'!E32)","v":""},{"$f":"IF('様式3N SJ'!D32=\"\",\"\",SUBSTITUTE(CONCATENATE(\"ノルディック\",'様式3N SJ'!$D$8,'様式3N SJ'!$G$8),\"　\",\"\"))","v":""},{"$f":"IF('様式3N SJ'!D32=\"\",\"\",'様式3N SJ'!B32)","v":""},{"$f":"IF('様式3N SJ'!D32=\"\",\"\",IF('様式3N SJ'!C32=0,\"\",'様式3N SJ'!C32))","v":""}]
[200,{"$f":"IF('様式3N SJ'!D33=\"\",\"\",ASC('様式3N SJ'!D33))","v":""},{"$f":"IF('様式3N SJ'!D33=\"\",\"\",'様式3N SJ'!$D$6)","v":""},{"$f":"IF('様式3N SJ'!D33=\"\",\"\",'様式3N SJ'!G33)","v":""},{"$f":"IF('様式3N SJ'!D33=\"\",\"\",'様式3N SJ'!H33)","v":""},{"$f":"IF('様式3N SJ'!D33=\"\",\"\",'様式3N SJ'!E33)","v":""},{"$f":"IF('様式3N SJ'!D33=\"\",\"\",SUBSTITUTE(CONCATENATE(\"ノルディック\",'様式3N SJ'!$D$8,'様式3N SJ'!$G$8),\"　\",\"\"))","v":""},{"$f":"IF('様式3N SJ'!D33=\"\",\"\",'様式3N SJ'!B33)","v":""},{"$f":"IF('様式3N SJ'!D33=\"\",\"\",IF('様式3N SJ'!C33=0,\"\",'様式3N SJ'!C33))","v":""}]
[201]
[202,{"$f":"IF('様式3N WSJ'!D11=\"\",\"\",ASC('様式3N WSJ'!D11))","v":""},{"$f":"IF('様式3N WSJ'!D11=\"\",\"\",'様式3N WSJ'!$D$6)","v":""},{"$f":"IF('様式3N WSJ'!D11=\"\",\"\",'様式3N WSJ'!G11)","v":""},{"$f":"IF('様式3N WSJ'!D11=\"\",\"\",'様式3N WSJ'!H11)","v":""},{"$f":"IF('様式3N WSJ'!D11=\"\",\"\",'様式3N WSJ'!E11)","v":""},{"$f":"IF('様式3N WSJ'!D11=\"\",\"\",SUBSTITUTE(CONCATENATE(\"ノルディック\",'様式3N WSJ'!$G$8),\"　\",\"\"))","v":""},{"$f":"IF('様式3N WSJ'!D11=\"\",\"\",'様式3N WSJ'!B11)","v":""},{"$f":"IF('様式3N WSJ'!D11=\"\",\"\",IF('様式3N WSJ'!C11=0,\"\",'様式3N WSJ'!C11))","v":""}]
[203,{"$f":"IF('様式3N WSJ'!D12=\"\",\"\",ASC('様式3N WSJ'!D12))","v":""},{"$f":"IF('様式3N WSJ'!D12=\"\",\"\",'様式3N WSJ'!$D$6)","v":""},{"$f":"IF('様式3N WSJ'!D12=\"\",\"\",'様式3N WSJ'!G12)","v":""},{"$f":"IF('様式3N WSJ'!D12=\"\",\"\",'様式3N WSJ'!H12)","v":""},{"$f":"IF('様式3N WSJ'!D12=\"\",\"\",'様式3N WSJ'!E12)","v":""},{"$f":"IF('様式3N WSJ'!D12=\"\",\"\",SUBSTITUTE(CONCATENATE(\"ノルディック\",'様式3N WSJ'!$G$8),\"　\",\"\"))","v":""},{"$f":"IF('様式3N WSJ'!D12=\"\",\"\",'様式3N WSJ'!B12)","v":""},{"$f":"IF('様式3N WSJ'!D12=\"\",\"\",IF('様式3N WSJ'!C12=0,\"\",'様式3N WSJ'!C12))","v":""}]
[204,{"$f":"IF('様式3N WSJ'!D13=\"\",\"\",ASC('様式3N WSJ'!D13))","v":""},{"$f":"IF('様式3N WSJ'!D13=\"\",\"\",'様式3N WSJ'!$D$6)","v":""},{"$f":"IF('様式3N WSJ'!D13=\"\",\"\",'様式3N WSJ'!G13)","v":""},{"$f":"IF('様式3N WSJ'!D13=\"\",\"\",'様式3N WSJ'!H13)","v":""},{"$f":"IF('様式3N WSJ'!D13=\"\",\"\",'様式3N WSJ'!E13)","v":""},{"$f":"IF('様式3N WSJ'!D13=\"\",\"\",SUBSTITUTE(CONCATENATE(\"ノルディック\",'様式3N WSJ'!$G$8),\"　\",\"\"))","v":""},{"$f":"IF('様式3N WSJ'!D13=\"\",\"\",'様式3N WSJ'!B13)","v":""},{"$f":"IF('様式3N WSJ'!D13=\"\",\"\",IF('様式3N WSJ'!C13=0,\"\",'様式3N WSJ'!C13))","v":""}]
[205,{"$f":"IF('様式3N WSJ'!D14=\"\",\"\",ASC('様式3N WSJ'!D14))","v":""},{"$f":"IF('様式3N WSJ'!D14=\"\",\"\",'様式3N WSJ'!$D$6)","v":""},{"$f":"IF('様式3N WSJ'!D14=\"\",\"\",'様式3N WSJ'!G14)","v":""},{"$f":"IF('様式3N WSJ'!D14=\"\",\"\",'様式3N WSJ'!H14)","v":""},{"$f":"IF('様式3N WSJ'!D14=\"\",\"\",'様式3N WSJ'!E14)","v":""},{"$f":"IF('様式3N WSJ'!D14=\"\",\"\",SUBSTITUTE(CONCATENATE(\"ノルディック\",'様式3N WSJ'!$G$8),\"　\",\"\"))","v":""},{"$f":"IF('様式3N WSJ'!D14=\"\",\"\",'様式3N WSJ'!B14)","v":""},{"$f":"IF('様式3N WSJ'!D14=\"\",\"\",IF('様式3N WSJ'!C14=0,\"\",'様式3N WSJ'!C14))","v":""}]
[206,{"$f":"IF('様式3N WSJ'!D15=\"\",\"\",ASC('様式3N WSJ'!D15))","v":""},{"$f":"IF('様式3N WSJ'!D15=\"\",\"\",'様式3N WSJ'!$D$6)","v":""},{"$f":"IF('様式3N WSJ'!D15=\"\",\"\",'様式3N WSJ'!G15)","v":""},{"$f":"IF('様式3N WSJ'!D15=\"\",\"\",'様式3N WSJ'!H15)","v":""},{"$f":"IF('様式3N WSJ'!D15=\"\",\"\",'様式3N WSJ'!E15)","v":""},{"$f":"IF('様式3N WSJ'!D15=\"\",\"\",SUBSTITUTE(CONCATENATE(\"ノルディック\",'様式3N WSJ'!$G$8),\"　\",\"\"))","v":""},{"$f":"IF('様式3N WSJ'!D15=\"\",\"\",'様式3N WSJ'!B15)","v":""},{"$f":"IF('様式3N WSJ'!D15=\"\",\"\",IF('様式3N WSJ'!C15=0,\"\",'様式3N WSJ'!C15))","v":""}]
[207,{"$f":"IF('様式3N WSJ'!D16=\"\",\"\",ASC('様式3N WSJ'!D16))","v":""},{"$f":"IF('様式3N WSJ'!D16=\"\",\"\",'様式3N WSJ'!$D$6)","v":""},{"$f":"IF('様式3N WSJ'!D16=\"\",\"\",'様式3N WSJ'!G16)","v":""},{"$f":"IF('様式3N WSJ'!D16=\"\",\"\",'様式3N WSJ'!H16)","v":""},{"$f":"IF('様式3N WSJ'!D16=\"\",\"\",'様式3N WSJ'!E16)","v":""},{"$f":"IF('様式3N WSJ'!D16=\"\",\"\",SUBSTITUTE(CONCATENATE(\"ノルディック\",'様式3N WSJ'!$G$8),\"　\",\"\"))","v":""},{"$f":"IF('様式3N WSJ'!D16=\"\",\"\",'様式3N WSJ'!B16)","v":""},{"$f":"IF('様式3N WSJ'!D16=\"\",\"\",IF('様式3N WSJ'!C16=0,\"\",'様式3N WSJ'!C16))","v":""}]
[208,{"$f":"IF('様式3N WSJ'!D17=\"\",\"\",ASC('様式3N WSJ'!D17))","v":""},{"$f":"IF('様式3N WSJ'!D17=\"\",\"\",'様式3N WSJ'!$D$6)","v":""},{"$f":"IF('様式3N WSJ'!D17=\"\",\"\",'様式3N WSJ'!G17)","v":""},{"$f":"IF('様式3N WSJ'!D17=\"\",\"\",'様式3N WSJ'!H17)","v":""},{"$f":"IF('様式3N WSJ'!D17=\"\",\"\",'様式3N WSJ'!E17)","v":""},{"$f":"IF('様式3N WSJ'!D17=\"\",\"\",SUBSTITUTE(CONCATENATE(\"ノルディック\",'様式3N WSJ'!$G$8),\"　\",\"\"))","v":""},{"$f":"IF('様式3N WSJ'!D17=\"\",\"\",'様式3N WSJ'!B17)","v":""},{"$f":"IF('様式3N WSJ'!D17=\"\",\"\",IF('様式3N WSJ'!C17=0,\"\",'様式3N WSJ'!C17))","v":""}]
[209,{"$f":"IF('様式3N WSJ'!D18=\"\",\"\",ASC('様式3N WSJ'!D18))","v":""},{"$f":"IF('様式3N WSJ'!D18=\"\",\"\",'様式3N WSJ'!$D$6)","v":""},{"$f":"IF('様式3N WSJ'!D18=\"\",\"\",'様式3N WSJ'!G18)","v":""},{"$f":"IF('様式3N WSJ'!D18=\"\",\"\",'様式3N WSJ'!H18)","v":""},{"$f":"IF('様式3N WSJ'!D18=\"\",\"\",'様式3N WSJ'!E18)","v":""},{"$f":"IF('様式3N WSJ'!D18=\"\",\"\",SUBSTITUTE(CONCATENATE(\"ノルディック\",'様式3N WSJ'!$G$8),\"　\",\"\"))","v":""},{"$f":"IF('様式3N WSJ'!D18=\"\",\"\",'様式3N WSJ'!B18)","v":""},{"$f":"IF('様式3N WSJ'!D18=\"\",\"\",IF('様式3N WSJ'!C18=0,\"\",'様式3N WSJ'!C18))","v":""}]
[210,{"$f":"IF('様式3N WSJ'!D19=\"\",\"\",ASC('様式3N WSJ'!D19))","v":""},{"$f":"IF('様式3N WSJ'!D19=\"\",\"\",'様式3N WSJ'!$D$6)","v":""},{"$f":"IF('様式3N WSJ'!D19=\"\",\"\",'様式3N WSJ'!G19)","v":""},{"$f":"IF('様式3N WSJ'!D19=\"\",\"\",'様式3N WSJ'!H19)","v":""},{"$f":"IF('様式3N WSJ'!D19=\"\",\"\",'様式3N WSJ'!E19)","v":""},{"$f":"IF('様式3N WSJ'!D19=\"\",\"\",SUBSTITUTE(CONCATENATE(\"ノルディック\",'様式3N WSJ'!$G$8),\"　\",\"\"))","v":""},{"$f":"IF('様式3N WSJ'!D19=\"\",\"\",'様式3N WSJ'!B19)","v":""},{"$f":"IF('様式3N WSJ'!D19=\"\",\"\",IF('様式3N WSJ'!C19=0,\"\",'様式3N WSJ'!C19))","v":""}]
[211]
[212,{"$f":"IF('様式3N NC'!D11=\"\",\"\",ASC('様式3N NC'!D11))","v":""},{"$f":"IF('様式3N NC'!D11=\"\",\"\",'様式3N NC'!$D$6)","v":""},{"$f":"IF('様式3N NC'!D11=\"\",\"\",'様式3N NC'!G11)","v":""},{"$f":"IF('様式3N NC'!D11=\"\",\"\",'様式3N NC'!H11)","v":""},{"$f":"IF('様式3N NC'!D11=\"\",\"\",'様式3N NC'!E11)","v":""},{"$f":"IF('様式3N NC'!D11=\"\",\"\",SUBSTITUTE(CONCATENATE(\"ノルディック\",'様式3N NC'!$D$8,DBCS('様式3N NC'!$G$8)),\"　\",\"\"))","v":""},{"$f":"IF('様式3N NC'!D11=\"\",\"\",'様式3N NC'!B11)","v":""},{"$f":"IF('様式3N NC'!D11=\"\",\"\",IF('様式3N NC'!C11=0,\"\",'様式3N NC'!C11))","v":""}]
[213,{"$f":"IF('様式3N NC'!D12=\"\",\"\",ASC('様式3N NC'!D12))","v":""},{"$f":"IF('様式3N NC'!D12=\"\",\"\",'様式3N NC'!$D$6)","v":""},{"$f":"IF('様式3N NC'!D12=\"\",\"\",'様式3N NC'!G12)","v":""},{"$f":"IF('様式3N NC'!D12=\"\",\"\",'様式3N NC'!H12)","v":""},{"$f":"IF('様式3N NC'!D12=\"\",\"\",'様式3N NC'!E12)","v":""},{"$f":"IF('様式3N NC'!D12=\"\",\"\",SUBSTITUTE(CONCATENATE(\"ノルディック\",'様式3N NC'!$D$8,DBCS('様式3N NC'!$G$8)),\"　\",\"\"))","v":""},{"$f":"IF('様式3N NC'!D12=\"\",\"\",'様式3N NC'!B12)","v":""},{"$f":"IF('様式3N NC'!D12=\"\",\"\",IF('様式3N NC'!C12=0,\"\",'様式3N NC'!C12))","v":""}]
[214,{"$f":"IF('様式3N NC'!D13=\"\",\"\",ASC('様式3N NC'!D13))","v":""},{"$f":"IF('様式3N NC'!D13=\"\",\"\",'様式3N NC'!$D$6)","v":""},{"$f":"IF('様式3N NC'!D13=\"\",\"\",'様式3N NC'!G13)","v":""},{"$f":"IF('様式3N NC'!D13=\"\",\"\",'様式3N NC'!H13)","v":""},{"$f":"IF('様式3N NC'!D13=\"\",\"\",'様式3N NC'!E13)","v":""},{"$f":"IF('様式3N NC'!D13=\"\",\"\",SUBSTITUTE(CONCATENATE(\"ノルディック\",'様式3N NC'!$D$8,DBCS('様式3N NC'!$G$8)),\"　\",\"\"))","v":""},{"$f":"IF('様式3N NC'!D13=\"\",\"\",'様式3N NC'!B13)","v":""},{"$f":"IF('様式3N NC'!D13=\"\",\"\",IF('様式3N NC'!C13=0,\"\",'様式3N NC'!C13))","v":""}]
[215,{"$f":"IF('様式3N NC'!D14=\"\",\"\",ASC('様式3N NC'!D14))","v":""},{"$f":"IF('様式3N NC'!D14=\"\",\"\",'様式3N NC'!$D$6)","v":""},{"$f":"IF('様式3N NC'!D14=\"\",\"\",'様式3N NC'!G14)","v":""},{"$f":"IF('様式3N NC'!D14=\"\",\"\",'様式3N NC'!H14)","v":""},{"$f":"IF('様式3N NC'!D14=\"\",\"\",'様式3N NC'!E14)","v":""},{"$f":"IF('様式3N NC'!D14=\"\",\"\",SUBSTITUTE(CONCATENATE(\"ノルディック\",'様式3N NC'!$D$8,DBCS('様式3N NC'!$G$8)),\"　\",\"\"))","v":""},{"$f":"IF('様式3N NC'!D14=\"\",\"\",'様式3N NC'!B14)","v":""},{"$f":"IF('様式3N NC'!D14=\"\",\"\",IF('様式3N NC'!C14=0,\"\",'様式3N NC'!C14))","v":""}]
[216,{"$f":"IF('様式3N NC'!D15=\"\",\"\",ASC('様式3N NC'!D15))","v":""},{"$f":"IF('様式3N NC'!D15=\"\",\"\",'様式3N NC'!$D$6)","v":""},{"$f":"IF('様式3N NC'!D15=\"\",\"\",'様式3N NC'!G15)","v":""},{"$f":"IF('様式3N NC'!D15=\"\",\"\",'様式3N NC'!H15)","v":""},{"$f":"IF('様式3N NC'!D15=\"\",\"\",'様式3N NC'!E15)","v":""},{"$f":"IF('様式3N NC'!D15=\"\",\"\",SUBSTITUTE(CONCATENATE(\"ノルディック\",'様式3N NC'!$D$8,DBCS('様式3N NC'!$G$8)),\"　\",\"\"))","v":""},{"$f":"IF('様式3N NC'!D15=\"\",\"\",'様式3N NC'!B15)","v":""},{"$f":"IF('様式3N NC'!D15=\"\",\"\",IF('様式3N NC'!C15=0,\"\",'様式3N NC'!C15))","v":""}]
[217,{"$f":"IF('様式3N NC'!D16=\"\",\"\",ASC('様式3N NC'!D16))","v":""},{"$f":"IF('様式3N NC'!D16=\"\",\"\",'様式3N NC'!$D$6)","v":""},{"$f":"IF('様式3N NC'!D16=\"\",\"\",'様式3N NC'!G16)","v":""},{"$f":"IF('様式3N NC'!D16=\"\",\"\",'様式3N NC'!H16)","v":""},{"$f":"IF('様式3N NC'!D16=\"\",\"\",'様式3N NC'!E16)","v":""},{"$f":"IF('様式3N NC'!D16=\"\",\"\",SUBSTITUTE(CONCATENATE(\"ノルディック\",'様式3N NC'!$D$8,DBCS('様式3N NC'!$G$8)),\"　\",\"\"))","v":""},{"$f":"IF('様式3N NC'!D16=\"\",\"\",'様式3N NC'!B16)","v":""},{"$f":"IF('様式3N NC'!D16=\"\",\"\",IF('様式3N NC'!C16=0,\"\",'様式3N NC'!C16))","v":""}]
[218,{"$f":"IF('様式3N NC'!D17=\"\",\"\",ASC('様式3N NC'!D17))","v":""},{"$f":"IF('様式3N NC'!D17=\"\",\"\",'様式3N NC'!$D$6)","v":""},{"$f":"IF('様式3N NC'!D17=\"\",\"\",'様式3N NC'!G17)","v":""},{"$f":"IF('様式3N NC'!D17=\"\",\"\",'様式3N NC'!H17)","v":""},{"$f":"IF('様式3N NC'!D17=\"\",\"\",'様式3N NC'!E17)","v":""},{"$f":"IF('様式3N NC'!D17=\"\",\"\",SUBSTITUTE(CONCATENATE(\"ノルディック\",'様式3N NC'!$D$8,DBCS('様式3N NC'!$G$8)),\"　\",\"\"))","v":""},{"$f":"IF('様式3N NC'!D17=\"\",\"\",'様式3N NC'!B17)","v":""},{"$f":"IF('様式3N NC'!D17=\"\",\"\",IF('様式3N NC'!C17=0,\"\",'様式3N NC'!C17))","v":""}]
[219,{"$f":"IF('様式3N NC'!D18=\"\",\"\",ASC('様式3N NC'!D18))","v":""},{"$f":"IF('様式3N NC'!D18=\"\",\"\",'様式3N NC'!$D$6)","v":""},{"$f":"IF('様式3N NC'!D18=\"\",\"\",'様式3N NC'!G18)","v":""},{"$f":"IF('様式3N NC'!D18=\"\",\"\",'様式3N NC'!H18)","v":""},{"$f":"IF('様式3N NC'!D18=\"\",\"\",'様式3N NC'!E18)","v":""},{"$f":"IF('様式3N NC'!D18=\"\",\"\",SUBSTITUTE(CONCATENATE(\"ノルディック\",'様式3N NC'!$D$8,DBCS('様式3N NC'!$G$8)),\"　\",\"\"))","v":""},{"$f":"IF('様式3N NC'!D18=\"\",\"\",'様式3N NC'!B18)","v":""},{"$f":"IF('様式3N NC'!D18=\"\",\"\",IF('様式3N NC'!C18=0,\"\",'様式3N NC'!C18))","v":""}]
[220,{"$f":"IF('様式3N NC'!D19=\"\",\"\",ASC('様式3N NC'!D19))","v":""},{"$f":"IF('様式3N NC'!D19=\"\",\"\",'様式3N NC'!$D$6)","v":""},{"$f":"IF('様式3N NC'!D19=\"\",\"\",'様式3N NC'!G19)","v":""},{"$f":"IF('様式3N NC'!D19=\"\",\"\",'様式3N NC'!H19)","v":""},{"$f":"IF('様式3N NC'!D19=\"\",\"\",'様式3N NC'!E19)","v":""},{"$f":"IF('様式3N NC'!D19=\"\",\"\",SUBSTITUTE(CONCATENATE(\"ノルディック\",'様式3N NC'!$D$8,DBCS('様式3N NC'!$G$8)),\"　\",\"\"))","v":""},{"$f":"IF('様式3N NC'!D19=\"\",\"\",'様式3N NC'!B19)","v":""},{"$f":"IF('様式3N NC'!D19=\"\",\"\",IF('様式3N NC'!C19=0,\"\",'様式3N NC'!C19))","v":""}]
[221,{"$f":"IF('様式3N NC'!D20=\"\",\"\",ASC('様式3N NC'!D20))","v":""},{"$f":"IF('様式3N NC'!D20=\"\",\"\",'様式3N NC'!$D$6)","v":""},{"$f":"IF('様式3N NC'!D20=\"\",\"\",'様式3N NC'!G20)","v":""},{"$f":"IF('様式3N NC'!D20=\"\",\"\",'様式3N NC'!H20)","v":""},{"$f":"IF('様式3N NC'!D20=\"\",\"\",'様式3N NC'!E20)","v":""},{"$f":"IF('様式3N NC'!D20=\"\",\"\",SUBSTITUTE(CONCATENATE(\"ノルディック\",'様式3N NC'!$D$8,DBCS('様式3N NC'!$G$8)),\"　\",\"\"))","v":""},{"$f":"IF('様式3N NC'!D20=\"\",\"\",'様式3N NC'!B20)","v":""},{"$f":"IF('様式3N NC'!D20=\"\",\"\",IF('様式3N NC'!C20=0,\"\",'様式3N NC'!C20))","v":""}]
[222,{"$f":"IF('様式3N NC'!D21=\"\",\"\",ASC('様式3N NC'!D21))","v":""},{"$f":"IF('様式3N NC'!D21=\"\",\"\",'様式3N NC'!$D$6)","v":""},{"$f":"IF('様式3N NC'!D21=\"\",\"\",'様式3N NC'!G21)","v":""},{"$f":"IF('様式3N NC'!D21=\"\",\"\",'様式3N NC'!H21)","v":""},{"$f":"IF('様式3N NC'!D21=\"\",\"\",'様式3N NC'!E21)","v":""},{"$f":"IF('様式3N NC'!D21=\"\",\"\",SUBSTITUTE(CONCATENATE(\"ノルディック\",'様式3N NC'!$D$8,DBCS('様式3N NC'!$G$8)),\"　\",\"\"))","v":""},{"$f":"IF('様式3N NC'!D21=\"\",\"\",'様式3N NC'!B21)","v":""},{"$f":"IF('様式3N NC'!D21=\"\",\"\",IF('様式3N NC'!C21=0,\"\",'様式3N NC'!C21))","v":""}]
[223,{"$f":"IF('様式3N NC'!D22=\"\",\"\",ASC('様式3N NC'!D22))","v":""},{"$f":"IF('様式3N NC'!D22=\"\",\"\",'様式3N NC'!$D$6)","v":""},{"$f":"IF('様式3N NC'!D22=\"\",\"\",'様式3N NC'!G22)","v":""},{"$f":"IF('様式3N NC'!D22=\"\",\"\",'様式3N NC'!H22)","v":""},{"$f":"IF('様式3N NC'!D22=\"\",\"\",'様式3N NC'!E22)","v":""},{"$f":"IF('様式3N NC'!D22=\"\",\"\",SUBSTITUTE(CONCATENATE(\"ノルディック\",'様式3N NC'!$D$8,DBCS('様式3N NC'!$G$8)),\"　\",\"\"))","v":""},{"$f":"IF('様式3N NC'!D22=\"\",\"\",'様式3N NC'!B22)","v":""},{"$f":"IF('様式3N NC'!D22=\"\",\"\",IF('様式3N NC'!C22=0,\"\",'様式3N NC'!C22))","v":""}]
[224,{"$f":"IF('様式3N NC'!D23=\"\",\"\",ASC('様式3N NC'!D23))","v":""},{"$f":"IF('様式3N NC'!D23=\"\",\"\",'様式3N NC'!$D$6)","v":""},{"$f":"IF('様式3N NC'!D23=\"\",\"\",'様式3N NC'!G23)","v":""},{"$f":"IF('様式3N NC'!D23=\"\",\"\",'様式3N NC'!H23)","v":""},{"$f":"IF('様式3N NC'!D23=\"\",\"\",'様式3N NC'!E23)","v":""},{"$f":"IF('様式3N NC'!D23=\"\",\"\",SUBSTITUTE(CONCATENATE(\"ノルディック\",'様式3N NC'!$D$8,DBCS('様式3N NC'!$G$8)),\"　\",\"\"))","v":""},{"$f":"IF('様式3N NC'!D23=\"\",\"\",'様式3N NC'!B23)","v":""},{"$f":"IF('様式3N NC'!D23=\"\",\"\",IF('様式3N NC'!C23=0,\"\",'様式3N NC'!C23))","v":""}]
[225,{"$f":"IF('様式3N NC'!D24=\"\",\"\",ASC('様式3N NC'!D24))","v":""},{"$f":"IF('様式3N NC'!D24=\"\",\"\",'様式3N NC'!$D$6)","v":""},{"$f":"IF('様式3N NC'!D24=\"\",\"\",'様式3N NC'!G24)","v":""},{"$f":"IF('様式3N NC'!D24=\"\",\"\",'様式3N NC'!H24)","v":""},{"$f":"IF('様式3N NC'!D24=\"\",\"\",'様式3N NC'!E24)","v":""},{"$f":"IF('様式3N NC'!D24=\"\",\"\",SUBSTITUTE(CONCATENATE(\"ノルディック\",'様式3N NC'!$D$8,DBCS('様式3N NC'!$G$8)),\"　\",\"\"))","v":""},{"$f":"IF('様式3N NC'!D24=\"\",\"\",'様式3N NC'!B24)","v":""},{"$f":"IF('様式3N NC'!D24=\"\",\"\",IF('様式3N NC'!C24=0,\"\",'様式3N NC'!C24))","v":""}]
[226,{"$f":"IF('様式3N NC'!D25=\"\",\"\",ASC('様式3N NC'!D25))","v":""},{"$f":"IF('様式3N NC'!D25=\"\",\"\",'様式3N NC'!$D$6)","v":""},{"$f":"IF('様式3N NC'!D25=\"\",\"\",'様式3N NC'!G25)","v":""},{"$f":"IF('様式3N NC'!D25=\"\",\"\",'様式3N NC'!H25)","v":""},{"$f":"IF('様式3N NC'!D25=\"\",\"\",'様式3N NC'!E25)","v":""},{"$f":"IF('様式3N NC'!D25=\"\",\"\",SUBSTITUTE(CONCATENATE(\"ノルディック\",'様式3N NC'!$D$8,DBCS('様式3N NC'!$G$8)),\"　\",\"\"))","v":""},{"$f":"IF('様式3N NC'!D25=\"\",\"\",'様式3N NC'!B25)","v":""},{"$f":"IF('様式3N NC'!D25=\"\",\"\",IF('様式3N NC'!C25=0,\"\",'様式3N NC'!C25))","v":""}]
[227,{"$f":"IF('様式3N NC'!D26=\"\",\"\",ASC('様式3N NC'!D26))","v":""},{"$f":"IF('様式3N NC'!D26=\"\",\"\",'様式3N NC'!$D$6)","v":""},{"$f":"IF('様式3N NC'!D26=\"\",\"\",'様式3N NC'!G26)","v":""},{"$f":"IF('様式3N NC'!D26=\"\",\"\",'様式3N NC'!H26)","v":""},{"$f":"IF('様式3N NC'!D26=\"\",\"\",'様式3N NC'!E26)","v":""},{"$f":"IF('様式3N NC'!D26=\"\",\"\",SUBSTITUTE(CONCATENATE(\"ノルディック\",'様式3N NC'!$D$8,DBCS('様式3N NC'!$G$8)),\"　\",\"\"))","v":""},{"$f":"IF('様式3N NC'!D26=\"\",\"\",'様式3N NC'!B26)","v":""},{"$f":"IF('様式3N NC'!D26=\"\",\"\",IF('様式3N NC'!C26=0,\"\",'様式3N NC'!C26))","v":""}]
[228,{"$f":"IF('様式3N NC'!D27=\"\",\"\",ASC('様式3N NC'!D27))","v":""},{"$f":"IF('様式3N NC'!D27=\"\",\"\",'様式3N NC'!$D$6)","v":""},{"$f":"IF('様式3N NC'!D27=\"\",\"\",'様式3N NC'!G27)","v":""},{"$f":"IF('様式3N NC'!D27=\"\",\"\",'様式3N NC'!H27)","v":""},{"$f":"IF('様式3N NC'!D27=\"\",\"\",'様式3N NC'!E27)","v":""},{"$f":"IF('様式3N NC'!D27=\"\",\"\",SUBSTITUTE(CONCATENATE(\"ノルディック\",'様式3N NC'!$D$8,DBCS('様式3N NC'!$G$8)),\"　\",\"\"))","v":""},{"$f":"IF('様式3N NC'!D27=\"\",\"\",'様式3N NC'!B27)","v":""},{"$f":"IF('様式3N NC'!D27=\"\",\"\",IF('様式3N NC'!C27=0,\"\",'様式3N NC'!C27))","v":""}]
[229,{"$f":"IF('様式3N NC'!D28=\"\",\"\",ASC('様式3N NC'!D28))","v":""},{"$f":"IF('様式3N NC'!D28=\"\",\"\",'様式3N NC'!$D$6)","v":""},{"$f":"IF('様式3N NC'!D28=\"\",\"\",'様式3N NC'!G28)","v":""},{"$f":"IF('様式3N NC'!D28=\"\",\"\",'様式3N NC'!H28)","v":""},{"$f":"IF('様式3N NC'!D28=\"\",\"\",'様式3N NC'!E28)","v":""},{"$f":"IF('様式3N NC'!D28=\"\",\"\",SUBSTITUTE(CONCATENATE(\"ノルディック\",'様式3N NC'!$D$8,DBCS('様式3N NC'!$G$8)),\"　\",\"\"))","v":""},{"$f":"IF('様式3N NC'!D28=\"\",\"\",'様式3N NC'!B28)","v":""},{"$f":"IF('様式3N NC'!D28=\"\",\"\",IF('様式3N NC'!C28=0,\"\",'様式3N NC'!C28))","v":""}]
[230,{"$f":"IF('様式3N NC'!D29=\"\",\"\",ASC('様式3N NC'!D29))","v":""},{"$f":"IF('様式3N NC'!D29=\"\",\"\",'様式3N NC'!$D$6)","v":""},{"$f":"IF('様式3N NC'!D29=\"\",\"\",'様式3N NC'!G29)","v":""},{"$f":"IF('様式3N NC'!D29=\"\",\"\",'様式3N NC'!H29)","v":""},{"$f":"IF('様式3N NC'!D29=\"\",\"\",'様式3N NC'!E29)","v":""},{"$f":"IF('様式3N NC'!D29=\"\",\"\",SUBSTITUTE(CONCATENATE(\"ノルディック\",'様式3N NC'!$D$8,DBCS('様式3N NC'!$G$8)),\"　\",\"\"))","v":""},{"$f":"IF('様式3N NC'!D29=\"\",\"\",'様式3N NC'!B29)","v":""},{"$f":"IF('様式3N NC'!D29=\"\",\"\",IF('様式3N NC'!C29=0,\"\",'様式3N NC'!C29))","v":""}]
[231,{"$f":"IF('様式3N NC'!D30=\"\",\"\",ASC('様式3N NC'!D30))","v":""},{"$f":"IF('様式3N NC'!D30=\"\",\"\",'様式3N NC'!$D$6)","v":""},{"$f":"IF('様式3N NC'!D30=\"\",\"\",'様式3N NC'!G30)","v":""},{"$f":"IF('様式3N NC'!D30=\"\",\"\",'様式3N NC'!H30)","v":""},{"$f":"IF('様式3N NC'!D30=\"\",\"\",'様式3N NC'!E30)","v":""},{"$f":"IF('様式3N NC'!D30=\"\",\"\",SUBSTITUTE(CONCATENATE(\"ノルディック\",'様式3N NC'!$D$8,DBCS('様式3N NC'!$G$8)),\"　\",\"\"))","v":""},{"$f":"IF('様式3N NC'!D30=\"\",\"\",'様式3N NC'!B30)","v":""},{"$f":"IF('様式3N NC'!D30=\"\",\"\",IF('様式3N NC'!C30=0,\"\",'様式3N NC'!C30))","v":""}]
[232,{"$f":"IF('様式3N NC'!D31=\"\",\"\",ASC('様式3N NC'!D31))","v":""},{"$f":"IF('様式3N NC'!D31=\"\",\"\",'様式3N NC'!$D$6)","v":""},{"$f":"IF('様式3N NC'!D31=\"\",\"\",'様式3N NC'!G31)","v":""},{"$f":"IF('様式3N NC'!D31=\"\",\"\",'様式3N NC'!H31)","v":""},{"$f":"IF('様式3N NC'!D31=\"\",\"\",'様式3N NC'!E31)","v":""},{"$f":"IF('様式3N NC'!D31=\"\",\"\",SUBSTITUTE(CONCATENATE(\"ノルディック\",'様式3N NC'!$D$8,DBCS('様式3N NC'!$G$8)),\"　\",\"\"))","v":""},{"$f":"IF('様式3N NC'!D31=\"\",\"\",'様式3N NC'!B31)","v":""},{"$f":"IF('様式3N NC'!D31=\"\",\"\",IF('様式3N NC'!C31=0,\"\",'様式3N NC'!C31))","v":""}]
[233,{"$f":"IF('様式3N NC'!D32=\"\",\"\",ASC('様式3N NC'!D32))","v":""},{"$f":"IF('様式3N NC'!D32=\"\",\"\",'様式3N NC'!$D$6)","v":""},{"$f":"IF('様式3N NC'!D32=\"\",\"\",'様式3N NC'!G32)","v":""},{"$f":"IF('様式3N NC'!D32=\"\",\"\",'様式3N NC'!H32)","v":""},{"$f":"IF('様式3N NC'!D32=\"\",\"\",'様式3N NC'!E32)","v":""},{"$f":"IF('様式3N NC'!D32=\"\",\"\",SUBSTITUTE(CONCATENATE(\"ノルディック\",'様式3N NC'!$D$8,DBCS('様式3N NC'!$G$8)),\"　\",\"\"))","v":""},{"$f":"IF('様式3N NC'!D32=\"\",\"\",'様式3N NC'!B32)","v":""},{"$f":"IF('様式3N NC'!D32=\"\",\"\",IF('様式3N NC'!C32=0,\"\",'様式3N NC'!C32))","v":""}]
[234,{"$f":"IF('様式3N NC'!D33=\"\",\"\",ASC('様式3N NC'!D33))","v":""},{"$f":"IF('様式3N NC'!D33=\"\",\"\",'様式3N NC'!$D$6)","v":""},{"$f":"IF('様式3N NC'!D33=\"\",\"\",'様式3N NC'!G33)","v":""},{"$f":"IF('様式3N NC'!D33=\"\",\"\",'様式3N NC'!H33)","v":""},{"$f":"IF('様式3N NC'!D33=\"\",\"\",'様式3N NC'!E33)","v":""},{"$f":"IF('様式3N NC'!D33=\"\",\"\",SUBSTITUTE(CONCATENATE(\"ノルディック\",'様式3N NC'!$D$8,DBCS('様式3N NC'!$G$8)),\"　\",\"\"))","v":""},{"$f":"IF('様式3N NC'!D33=\"\",\"\",'様式3N NC'!B33)","v":""},{"$f":"IF('様式3N NC'!D33=\"\",\"\",IF('様式3N NC'!C33=0,\"\",'様式3N NC'!C33))","v":""}]
[235]
[236,{"$f":"IF('様式3A MGS'!D11=\"\",\"\",ASC('様式3A MGS'!D11))","v":""},{"$f":"IF('様式3A MGS'!D11=\"\",\"\",'様式3A MGS'!$D$6)","v":""},{"$f":"IF('様式3A MGS'!D11=\"\",\"\",'様式3A MGS'!G11)","v":""},{"$f":"IF('様式3A MGS'!D11=\"\",\"\",'様式3A MGS'!H11)","v":""},{"$f":"IF('様式3A MGS'!D11=\"\",\"\",'様式3A MGS'!E11)","v":""},{"$f":"IF('様式3A MGS'!D11=\"\",\"\",SUBSTITUTE(CONCATENATE(\"アルペン\",'様式3A MGS'!$D$8,DBCS('様式3A MGS'!$G$8)),\"　\",\"\"))","v":""},{"$f":"IF('様式3A MGS'!D11=\"\",\"\",'様式3A MGS'!$B11)","v":""},{"$f":"IF('様式3A MGS'!D11=\"\",\"\",IF('様式3A MGS'!$C11=0,\"\",'様式3A MGS'!$C11))","v":""}]
[237,{"$f":"IF('様式3A MGS'!D12=\"\",\"\",ASC('様式3A MGS'!D12))","v":""},{"$f":"IF('様式3A MGS'!D12=\"\",\"\",'様式3A MGS'!$D$6)","v":""},{"$f":"IF('様式3A MGS'!D12=\"\",\"\",'様式3A MGS'!G12)","v":""},{"$f":"IF('様式3A MGS'!D12=\"\",\"\",'様式3A MGS'!H12)","v":""},{"$f":"IF('様式3A MGS'!D12=\"\",\"\",'様式3A MGS'!E12)","v":""},{"$f":"IF('様式3A MGS'!D12=\"\",\"\",SUBSTITUTE(CONCATENATE(\"アルペン\",'様式3A MGS'!$D$8,DBCS('様式3A MGS'!$G$8)),\"　\",\"\"))","v":""},{"$f":"IF('様式3A MGS'!D12=\"\",\"\",'様式3A MGS'!$B12)","v":""},{"$f":"IF('様式3A MGS'!D12=\"\",\"\",IF('様式3A MGS'!$C12=0,\"\",'様式3A MGS'!$C12))","v":""}]
[238,{"$f":"IF('様式3A MGS'!D13=\"\",\"\",ASC('様式3A MGS'!D13))","v":""},{"$f":"IF('様式3A MGS'!D13=\"\",\"\",'様式3A MGS'!$D$6)","v":""},{"$f":"IF('様式3A MGS'!D13=\"\",\"\",'様式3A MGS'!G13)","v":""},{"$f":"IF('様式3A MGS'!D13=\"\",\"\",'様式3A MGS'!H13)","v":""},{"$f":"IF('様式3A MGS'!D13=\"\",\"\",'様式3A MGS'!E13)","v":""},{"$f":"IF('様式3A MGS'!D13=\"\",\"\",SUBSTITUTE(CONCATENATE(\"アルペン\",'様式3A MGS'!$D$8,DBCS('様式3A MGS'!$G$8)),\"　\",\"\"))","v":""},{"$f":"IF('様式3A MGS'!D13=\"\",\"\",'様式3A MGS'!$B13)","v":""},{"$f":"IF('様式3A MGS'!D13=\"\",\"\",IF('様式3A MGS'!$C13=0,\"\",'様式3A MGS'!$C13))","v":""}]
[239,{"$f":"IF('様式3A MGS'!D14=\"\",\"\",ASC('様式3A MGS'!D14))","v":""},{"$f":"IF('様式3A MGS'!D14=\"\",\"\",'様式3A MGS'!$D$6)","v":""},{"$f":"IF('様式3A MGS'!D14=\"\",\"\",'様式3A MGS'!G14)","v":""},{"$f":"IF('様式3A MGS'!D14=\"\",\"\",'様式3A MGS'!H14)","v":""},{"$f":"IF('様式3A MGS'!D14=\"\",\"\",'様式3A MGS'!E14)","v":""},{"$f":"IF('様式3A MGS'!D14=\"\",\"\",SUBSTITUTE(CONCATENATE(\"アルペン\",'様式3A MGS'!$D$8,DBCS('様式3A MGS'!$G$8)),\"　\",\"\"))","v":""},{"$f":"IF('様式3A MGS'!D14=\"\",\"\",'様式3A MGS'!$B14)","v":""},{"$f":"IF('様式3A MGS'!D14=\"\",\"\",IF('様式3A MGS'!$C14=0,\"\",'様式3A MGS'!$C14))","v":""}]
[240,{"$f":"IF('様式3A MGS'!D15=\"\",\"\",ASC('様式3A MGS'!D15))","v":""},{"$f":"IF('様式3A MGS'!D15=\"\",\"\",'様式3A MGS'!$D$6)","v":""},{"$f":"IF('様式3A MGS'!D15=\"\",\"\",'様式3A MGS'!G15)","v":""},{"$f":"IF('様式3A MGS'!D15=\"\",\"\",'様式3A MGS'!H15)","v":""},{"$f":"IF('様式3A MGS'!D15=\"\",\"\",'様式3A MGS'!E15)","v":""},{"$f":"IF('様式3A MGS'!D15=\"\",\"\",SUBSTITUTE(CONCATENATE(\"アルペン\",'様式3A MGS'!$D$8,DBCS('様式3A MGS'!$G$8)),\"　\",\"\"))","v":""},{"$f":"IF('様式3A MGS'!D15=\"\",\"\",'様式3A MGS'!$B15)","v":""},{"$f":"IF('様式3A MGS'!D15=\"\",\"\",IF('様式3A MGS'!$C15=0,\"\",'様式3A MGS'!$C15))","v":""}]
[241,{"$f":"IF('様式3A MGS'!D16=\"\",\"\",ASC('様式3A MGS'!D16))","v":""},{"$f":"IF('様式3A MGS'!D16=\"\",\"\",'様式3A MGS'!$D$6)","v":""},{"$f":"IF('様式3A MGS'!D16=\"\",\"\",'様式3A MGS'!G16)","v":""},{"$f":"IF('様式3A MGS'!D16=\"\",\"\",'様式3A MGS'!H16)","v":""},{"$f":"IF('様式3A MGS'!D16=\"\",\"\",'様式3A MGS'!E16)","v":""},{"$f":"IF('様式3A MGS'!D16=\"\",\"\",SUBSTITUTE(CONCATENATE(\"アルペン\",'様式3A MGS'!$D$8,DBCS('様式3A MGS'!$G$8)),\"　\",\"\"))","v":""},{"$f":"IF('様式3A MGS'!D16=\"\",\"\",'様式3A MGS'!$B16)","v":""},{"$f":"IF('様式3A MGS'!D16=\"\",\"\",IF('様式3A MGS'!$C16=0,\"\",'様式3A MGS'!$C16))","v":""}]
[242,{"$f":"IF('様式3A MGS'!D17=\"\",\"\",ASC('様式3A MGS'!D17))","v":""},{"$f":"IF('様式3A MGS'!D17=\"\",\"\",'様式3A MGS'!$D$6)","v":""},{"$f":"IF('様式3A MGS'!D17=\"\",\"\",'様式3A MGS'!G17)","v":""},{"$f":"IF('様式3A MGS'!D17=\"\",\"\",'様式3A MGS'!H17)","v":""},{"$f":"IF('様式3A MGS'!D17=\"\",\"\",'様式3A MGS'!E17)","v":""},{"$f":"IF('様式3A MGS'!D17=\"\",\"\",SUBSTITUTE(CONCATENATE(\"アルペン\",'様式3A MGS'!$D$8,DBCS('様式3A MGS'!$G$8)),\"　\",\"\"))","v":""},{"$f":"IF('様式3A MGS'!D17=\"\",\"\",'様式3A MGS'!$B17)","v":""},{"$f":"IF('様式3A MGS'!D17=\"\",\"\",IF('様式3A MGS'!$C17=0,\"\",'様式3A MGS'!$C17))","v":""}]
[243,{"$f":"IF('様式3A MGS'!D18=\"\",\"\",ASC('様式3A MGS'!D18))","v":""},{"$f":"IF('様式3A MGS'!D18=\"\",\"\",'様式3A MGS'!$D$6)","v":""},{"$f":"IF('様式3A MGS'!D18=\"\",\"\",'様式3A MGS'!G18)","v":""},{"$f":"IF('様式3A MGS'!D18=\"\",\"\",'様式3A MGS'!H18)","v":""},{"$f":"IF('様式3A MGS'!D18=\"\",\"\",'様式3A MGS'!E18)","v":""},{"$f":"IF('様式3A MGS'!D18=\"\",\"\",SUBSTITUTE(CONCATENATE(\"アルペン\",'様式3A MGS'!$D$8,DBCS('様式3A MGS'!$G$8)),\"　\",\"\"))","v":""},{"$f":"IF('様式3A MGS'!D18=\"\",\"\",'様式3A MGS'!$B18)","v":""},{"$f":"IF('様式3A MGS'!D18=\"\",\"\",IF('様式3A MGS'!$C18=0,\"\",'様式3A MGS'!$C18))","v":""}]
[244,{"$f":"IF('様式3A MGS'!D19=\"\",\"\",ASC('様式3A MGS'!D19))","v":""},{"$f":"IF('様式3A MGS'!D19=\"\",\"\",'様式3A MGS'!$D$6)","v":""},{"$f":"IF('様式3A MGS'!D19=\"\",\"\",'様式3A MGS'!G19)","v":""},{"$f":"IF('様式3A MGS'!D19=\"\",\"\",'様式3A MGS'!H19)","v":""},{"$f":"IF('様式3A MGS'!D19=\"\",\"\",'様式3A MGS'!E19)","v":""},{"$f":"IF('様式3A MGS'!D19=\"\",\"\",SUBSTITUTE(CONCATENATE(\"アルペン\",'様式3A MGS'!$D$8,DBCS('様式3A MGS'!$G$8)),\"　\",\"\"))","v":""},{"$f":"IF('様式3A MGS'!D19=\"\",\"\",'様式3A MGS'!$B19)","v":""},{"$f":"IF('様式3A MGS'!D19=\"\",\"\",IF('様式3A MGS'!$C19=0,\"\",'様式3A MGS'!$C19))","v":""}]
[245,{"$f":"IF('様式3A MGS'!D20=\"\",\"\",ASC('様式3A MGS'!D20))","v":""},{"$f":"IF('様式3A MGS'!D20=\"\",\"\",'様式3A MGS'!$D$6)","v":""},{"$f":"IF('様式3A MGS'!D20=\"\",\"\",'様式3A MGS'!G20)","v":""},{"$f":"IF('様式3A MGS'!D20=\"\",\"\",'様式3A MGS'!H20)","v":""},{"$f":"IF('様式3A MGS'!D20=\"\",\"\",'様式3A MGS'!E20)","v":""},{"$f":"IF('様式3A MGS'!D20=\"\",\"\",SUBSTITUTE(CONCATENATE(\"アルペン\",'様式3A MGS'!$D$8,DBCS('様式3A MGS'!$G$8)),\"　\",\"\"))","v":""},{"$f":"IF('様式3A MGS'!D20=\"\",\"\",'様式3A MGS'!$B20)","v":""},{"$f":"IF('様式3A MGS'!D20=\"\",\"\",IF('様式3A MGS'!$C20=0,\"\",'様式3A MGS'!$C20))","v":""}]
[246,{"$f":"IF('様式3A MGS'!D21=\"\",\"\",ASC('様式3A MGS'!D21))","v":""},{"$f":"IF('様式3A MGS'!D21=\"\",\"\",'様式3A MGS'!$D$6)","v":""},{"$f":"IF('様式3A MGS'!D21=\"\",\"\",'様式3A MGS'!G21)","v":""},{"$f":"IF('様式3A MGS'!D21=\"\",\"\",'様式3A MGS'!H21)","v":""},{"$f":"IF('様式3A MGS'!D21=\"\",\"\",'様式3A MGS'!E21)","v":""},{"$f":"IF('様式3A MGS'!D21=\"\",\"\",SUBSTITUTE(CONCATENATE(\"アルペン\",'様式3A MGS'!$D$8,DBCS('様式3A MGS'!$G$8)),\"　\",\"\"))","v":""},{"$f":"IF('様式3A MGS'!D21=\"\",\"\",'様式3A MGS'!$B21)","v":""},{"$f":"IF('様式3A MGS'!D21=\"\",\"\",IF('様式3A MGS'!$C21=0,\"\",'様式3A MGS'!$C21))","v":""}]
[247,{"$f":"IF('様式3A MGS'!D22=\"\",\"\",ASC('様式3A MGS'!D22))","v":""},{"$f":"IF('様式3A MGS'!D22=\"\",\"\",'様式3A MGS'!$D$6)","v":""},{"$f":"IF('様式3A MGS'!D22=\"\",\"\",'様式3A MGS'!G22)","v":""},{"$f":"IF('様式3A MGS'!D22=\"\",\"\",'様式3A MGS'!H22)","v":""},{"$f":"IF('様式3A MGS'!D22=\"\",\"\",'様式3A MGS'!E22)","v":""},{"$f":"IF('様式3A MGS'!D22=\"\",\"\",SUBSTITUTE(CONCATENATE(\"アルペン\",'様式3A MGS'!$D$8,DBCS('様式3A MGS'!$G$8)),\"　\",\"\"))","v":""},{"$f":"IF('様式3A MGS'!D22=\"\",\"\",'様式3A MGS'!$B22)","v":""},{"$f":"IF('様式3A MGS'!D22=\"\",\"\",IF('様式3A MGS'!$C22=0,\"\",'様式3A MGS'!$C22))","v":""}]
[248,{"$f":"IF('様式3A MGS'!D23=\"\",\"\",ASC('様式3A MGS'!D23))","v":""},{"$f":"IF('様式3A MGS'!D23=\"\",\"\",'様式3A MGS'!$D$6)","v":""},{"$f":"IF('様式3A MGS'!D23=\"\",\"\",'様式3A MGS'!G23)","v":""},{"$f":"IF('様式3A MGS'!D23=\"\",\"\",'様式3A MGS'!H23)","v":""},{"$f":"IF('様式3A MGS'!D23=\"\",\"\",'様式3A MGS'!E23)","v":""},{"$f":"IF('様式3A MGS'!D23=\"\",\"\",SUBSTITUTE(CONCATENATE(\"アルペン\",'様式3A MGS'!$D$8,DBCS('様式3A MGS'!$G$8)),\"　\",\"\"))","v":""},{"$f":"IF('様式3A MGS'!D23=\"\",\"\",'様式3A MGS'!$B23)","v":""},{"$f":"IF('様式3A MGS'!D23=\"\",\"\",IF('様式3A MGS'!$C23=0,\"\",'様式3A MGS'!$C23))","v":""}]
[249,{"$f":"IF('様式3A MGS'!D24=\"\",\"\",ASC('様式3A MGS'!D24))","v":""},{"$f":"IF('様式3A MGS'!D24=\"\",\"\",'様式3A MGS'!$D$6)","v":""},{"$f":"IF('様式3A MGS'!D24=\"\",\"\",'様式3A MGS'!G24)","v":""},{"$f":"IF('様式3A MGS'!D24=\"\",\"\",'様式3A MGS'!H24)","v":""},{"$f":"IF('様式3A MGS'!D24=\"\",\"\",'様式3A MGS'!E24)","v":""},{"$f":"IF('様式3A MGS'!D24=\"\",\"\",SUBSTITUTE(CONCATENATE(\"アルペン\",'様式3A MGS'!$D$8,DBCS('様式3A MGS'!$G$8)),\"　\",\"\"))","v":""},{"$f":"IF('様式3A MGS'!D24=\"\",\"\",'様式3A MGS'!$B24)","v":""},{"$f":"IF('様式3A MGS'!D24=\"\",\"\",IF('様式3A MGS'!$C24=0,\"\",'様式3A MGS'!$C24))","v":""}]
[250,{"$f":"IF('様式3A MGS'!D25=\"\",\"\",ASC('様式3A MGS'!D25))","v":""},{"$f":"IF('様式3A MGS'!D25=\"\",\"\",'様式3A MGS'!$D$6)","v":""},{"$f":"IF('様式3A MGS'!D25=\"\",\"\",'様式3A MGS'!G25)","v":""},{"$f":"IF('様式3A MGS'!D25=\"\",\"\",'様式3A MGS'!H25)","v":""},{"$f":"IF('様式3A MGS'!D25=\"\",\"\",'様式3A MGS'!E25)","v":""},{"$f":"IF('様式3A MGS'!D25=\"\",\"\",SUBSTITUTE(CONCATENATE(\"アルペン\",'様式3A MGS'!$D$8,DBCS('様式3A MGS'!$G$8)),\"　\",\"\"))","v":""},{"$f":"IF('様式3A MGS'!D25=\"\",\"\",'様式3A MGS'!$B25)","v":""},{"$f":"IF('様式3A MGS'!D25=\"\",\"\",IF('様式3A MGS'!$C25=0,\"\",'様式3A MGS'!$C25))","v":""}]
[251,{"$f":"IF('様式3A MGS'!D26=\"\",\"\",ASC('様式3A MGS'!D26))","v":""},{"$f":"IF('様式3A MGS'!D26=\"\",\"\",'様式3A MGS'!$D$6)","v":""},{"$f":"IF('様式3A MGS'!D26=\"\",\"\",'様式3A MGS'!G26)","v":""},{"$f":"IF('様式3A MGS'!D26=\"\",\"\",'様式3A MGS'!H26)","v":""},{"$f":"IF('様式3A MGS'!D26=\"\",\"\",'様式3A MGS'!E26)","v":""},{"$f":"IF('様式3A MGS'!D26=\"\",\"\",SUBSTITUTE(CONCATENATE(\"アルペン\",'様式3A MGS'!$D$8,DBCS('様式3A MGS'!$G$8)),\"　\",\"\"))","v":""},{"$f":"IF('様式3A MGS'!D26=\"\",\"\",'様式3A MGS'!$B26)","v":""},{"$f":"IF('様式3A MGS'!D26=\"\",\"\",IF('様式3A MGS'!$C26=0,\"\",'様式3A MGS'!$C26))","v":""}]
[252,{"$f":"IF('様式3A MGS'!D27=\"\",\"\",ASC('様式3A MGS'!D27))","v":""},{"$f":"IF('様式3A MGS'!D27=\"\",\"\",'様式3A MGS'!$D$6)","v":""},{"$f":"IF('様式3A MGS'!D27=\"\",\"\",'様式3A MGS'!G27)","v":""},{"$f":"IF('様式3A MGS'!D27=\"\",\"\",'様式3A MGS'!H27)","v":""},{"$f":"IF('様式3A MGS'!D27=\"\",\"\",'様式3A MGS'!E27)","v":""},{"$f":"IF('様式3A MGS'!D27=\"\",\"\",SUBSTITUTE(CONCATENATE(\"アルペン\",'様式3A MGS'!$D$8,DBCS('様式3A MGS'!$G$8)),\"　\",\"\"))","v":""},{"$f":"IF('様式3A MGS'!D27=\"\",\"\",'様式3A MGS'!$B27)","v":""},{"$f":"IF('様式3A MGS'!D27=\"\",\"\",IF('様式3A MGS'!$C27=0,\"\",'様式3A MGS'!$C27))","v":""}]
[253,{"$f":"IF('様式3A MGS'!D28=\"\",\"\",ASC('様式3A MGS'!D28))","v":""},{"$f":"IF('様式3A MGS'!D28=\"\",\"\",'様式3A MGS'!$D$6)","v":""},{"$f":"IF('様式3A MGS'!D28=\"\",\"\",'様式3A MGS'!G28)","v":""},{"$f":"IF('様式3A MGS'!D28=\"\",\"\",'様式3A MGS'!H28)","v":""},{"$f":"IF('様式3A MGS'!D28=\"\",\"\",'様式3A MGS'!E28)","v":""},{"$f":"IF('様式3A MGS'!D28=\"\",\"\",SUBSTITUTE(CONCATENATE(\"アルペン\",'様式3A MGS'!$D$8,DBCS('様式3A MGS'!$G$8)),\"　\",\"\"))","v":""},{"$f":"IF('様式3A MGS'!D28=\"\",\"\",'様式3A MGS'!$B28)","v":""},{"$f":"IF('様式3A MGS'!D28=\"\",\"\",IF('様式3A MGS'!$C28=0,\"\",'様式3A MGS'!$C28))","v":""}]
[254,{"$f":"IF('様式3A MGS'!D29=\"\",\"\",ASC('様式3A MGS'!D29))","v":""},{"$f":"IF('様式3A MGS'!D29=\"\",\"\",'様式3A MGS'!$D$6)","v":""},{"$f":"IF('様式3A MGS'!D29=\"\",\"\",'様式3A MGS'!G29)","v":""},{"$f":"IF('様式3A MGS'!D29=\"\",\"\",'様式3A MGS'!H29)","v":""},{"$f":"IF('様式3A MGS'!D29=\"\",\"\",'様式3A MGS'!E29)","v":""},{"$f":"IF('様式3A MGS'!D29=\"\",\"\",SUBSTITUTE(CONCATENATE(\"アルペン\",'様式3A MGS'!$D$8,DBCS('様式3A MGS'!$G$8)),\"　\",\"\"))","v":""},{"$f":"IF('様式3A MGS'!D29=\"\",\"\",'様式3A MGS'!$B29)","v":""},{"$f":"IF('様式3A MGS'!D29=\"\",\"\",IF('様式3A MGS'!$C29=0,\"\",'様式3A MGS'!$C29))","v":""}]
[255,{"$f":"IF('様式3A MGS'!D30=\"\",\"\",ASC('様式3A MGS'!D30))","v":""},{"$f":"IF('様式3A MGS'!D30=\"\",\"\",'様式3A MGS'!$D$6)","v":""},{"$f":"IF('様式3A MGS'!D30=\"\",\"\",'様式3A MGS'!G30)","v":""},{"$f":"IF('様式3A MGS'!D30=\"\",\"\",'様式3A MGS'!H30)","v":""},{"$f":"IF('様式3A MGS'!D30=\"\",\"\",'様式3A MGS'!E30)","v":""},{"$f":"IF('様式3A MGS'!D30=\"\",\"\",SUBSTITUTE(CONCATENATE(\"アルペン\",'様式3A MGS'!$D$8,DBCS('様式3A MGS'!$G$8)),\"　\",\"\"))","v":""},{"$f":"IF('様式3A MGS'!D30=\"\",\"\",'様式3A MGS'!$B30)","v":""},{"$f":"IF('様式3A MGS'!D30=\"\",\"\",IF('様式3A MGS'!$C30=0,\"\",'様式3A MGS'!$C30))","v":""}]
[256,{"$f":"IF('様式3A MGS'!D31=\"\",\"\",ASC('様式3A MGS'!D31))","v":""},{"$f":"IF('様式3A MGS'!D31=\"\",\"\",'様式3A MGS'!$D$6)","v":""},{"$f":"IF('様式3A MGS'!D31=\"\",\"\",'様式3A MGS'!G31)","v":""},{"$f":"IF('様式3A MGS'!D31=\"\",\"\",'様式3A MGS'!H31)","v":""},{"$f":"IF('様式3A MGS'!D31=\"\",\"\",'様式3A MGS'!E31)","v":""},{"$f":"IF('様式3A MGS'!D31=\"\",\"\",SUBSTITUTE(CONCATENATE(\"アルペン\",'様式3A MGS'!$D$8,DBCS('様式3A MGS'!$G$8)),\"　\",\"\"))","v":""},{"$f":"IF('様式3A MGS'!D31=\"\",\"\",'様式3A MGS'!$B31)","v":""},{"$f":"IF('様式3A MGS'!D31=\"\",\"\",IF('様式3A MGS'!$C31=0,\"\",'様式3A MGS'!$C31))","v":""}]
[257,{"$f":"IF('様式3A MGS'!D32=\"\",\"\",ASC('様式3A MGS'!D32))","v":""},{"$f":"IF('様式3A MGS'!D32=\"\",\"\",'様式3A MGS'!$D$6)","v":""},{"$f":"IF('様式3A MGS'!D32=\"\",\"\",'様式3A MGS'!G32)","v":""},{"$f":"IF('様式3A MGS'!D32=\"\",\"\",'様式3A MGS'!H32)","v":""},{"$f":"IF('様式3A MGS'!D32=\"\",\"\",'様式3A MGS'!E32)","v":""},{"$f":"IF('様式3A MGS'!D32=\"\",\"\",SUBSTITUTE(CONCATENATE(\"アルペン\",'様式3A MGS'!$D$8,DBCS('様式3A MGS'!$G$8)),\"　\",\"\"))","v":""},{"$f":"IF('様式3A MGS'!D32=\"\",\"\",'様式3A MGS'!$B32)","v":""},{"$f":"IF('様式3A MGS'!D32=\"\",\"\",IF('様式3A MGS'!$C32=0,\"\",'様式3A MGS'!$C32))","v":""}]
[258,{"$f":"IF('様式3A MGS'!D33=\"\",\"\",ASC('様式3A MGS'!D33))","v":""},{"$f":"IF('様式3A MGS'!D33=\"\",\"\",'様式3A MGS'!$D$6)","v":""},{"$f":"IF('様式3A MGS'!D33=\"\",\"\",'様式3A MGS'!G33)","v":""},{"$f":"IF('様式3A MGS'!D33=\"\",\"\",'様式3A MGS'!H33)","v":""},{"$f":"IF('様式3A MGS'!D33=\"\",\"\",'様式3A MGS'!E33)","v":""},{"$f":"IF('様式3A MGS'!D33=\"\",\"\",SUBSTITUTE(CONCATENATE(\"アルペン\",'様式3A MGS'!$D$8,DBCS('様式3A MGS'!$G$8)),\"　\",\"\"))","v":""},{"$f":"IF('様式3A MGS'!D33=\"\",\"\",'様式3A MGS'!$B33)","v":""},{"$f":"IF('様式3A MGS'!D33=\"\",\"\",IF('様式3A MGS'!$C33=0,\"\",'様式3A MGS'!$C33))","v":""}]
[259]
[260,{"$f":"IF('様式3A WGS'!D11=\"\",\"\",ASC('様式3A WGS'!D11))","v":""},{"$f":"IF('様式3A WGS'!D11=\"\",\"\",'様式3A WGS'!$D$6)","v":""},{"$f":"IF('様式3A WGS'!D11=\"\",\"\",'様式3A WGS'!G11)","v":""},{"$f":"IF('様式3A WGS'!D11=\"\",\"\",'様式3A WGS'!H11)","v":""},{"$f":"IF('様式3A WGS'!D11=\"\",\"\",'様式3A WGS'!E11)","v":""},{"$f":"IF('様式3A WGS'!D11=\"\",\"\",SUBSTITUTE(CONCATENATE(\"アルペン\",'様式3A WGS'!$D$8,DBCS('様式3A WGS'!$G$8)),\"　\",\"\"))","v":""},{"$f":"IF('様式3A WGS'!D11=\"\",\"\",'様式3A WGS'!B11)","v":""},{"$f":"IF('様式3A WGS'!D11=\"\",\"\",IF('様式3A WGS'!C11=0,\"\",'様式3A WGS'!C11))","v":""}]
[261,{"$f":"IF('様式3A WGS'!D12=\"\",\"\",ASC('様式3A WGS'!D12))","v":""},{"$f":"IF('様式3A WGS'!D12=\"\",\"\",'様式3A WGS'!$D$6)","v":""},{"$f":"IF('様式3A WGS'!D12=\"\",\"\",'様式3A WGS'!G12)","v":""},{"$f":"IF('様式3A WGS'!D12=\"\",\"\",'様式3A WGS'!H12)","v":""},{"$f":"IF('様式3A WGS'!D12=\"\",\"\",'様式3A WGS'!E12)","v":""},{"$f":"IF('様式3A WGS'!D12=\"\",\"\",SUBSTITUTE(CONCATENATE(\"アルペン\",'様式3A WGS'!$D$8,DBCS('様式3A WGS'!$G$8)),\"　\",\"\"))","v":""},{"$f":"IF('様式3A WGS'!D12=\"\",\"\",'様式3A WGS'!B12)","v":""},{"$f":"IF('様式3A WGS'!D12=\"\",\"\",IF('様式3A WGS'!C12=0,\"\",'様式3A WGS'!C12))","v":""}]
[262,{"$f":"IF('様式3A WGS'!D13=\"\",\"\",ASC('様式3A WGS'!D13))","v":""},{"$f":"IF('様式3A WGS'!D13=\"\",\"\",'様式3A WGS'!$D$6)","v":""},{"$f":"IF('様式3A WGS'!D13=\"\",\"\",'様式3A WGS'!G13)","v":""},{"$f":"IF('様式3A WGS'!D13=\"\",\"\",'様式3A WGS'!H13)","v":""},{"$f":"IF('様式3A WGS'!D13=\"\",\"\",'様式3A WGS'!E13)","v":""},{"$f":"IF('様式3A WGS'!D13=\"\",\"\",SUBSTITUTE(CONCATENATE(\"アルペン\",'様式3A WGS'!$D$8,DBCS('様式3A WGS'!$G$8)),\"　\",\"\"))","v":""},{"$f":"IF('様式3A WGS'!D13=\"\",\"\",'様式3A WGS'!B13)","v":""},{"$f":"IF('様式3A WGS'!D13=\"\",\"\",IF('様式3A WGS'!C13=0,\"\",'様式3A WGS'!C13))","v":""}]
[263,{"$f":"IF('様式3A WGS'!D14=\"\",\"\",ASC('様式3A WGS'!D14))","v":""},{"$f":"IF('様式3A WGS'!D14=\"\",\"\",'様式3A WGS'!$D$6)","v":""},{"$f":"IF('様式3A WGS'!D14=\"\",\"\",'様式3A WGS'!G14)","v":""},{"$f":"IF('様式3A WGS'!D14=\"\",\"\",'様式3A WGS'!H14)","v":""},{"$f":"IF('様式3A WGS'!D14=\"\",\"\",'様式3A WGS'!E14)","v":""},{"$f":"IF('様式3A WGS'!D14=\"\",\"\",SUBSTITUTE(CONCATENATE(\"アルペン\",'様式3A WGS'!$D$8,DBCS('様式3A WGS'!$G$8)),\"　\",\"\"))","v":""},{"$f":"IF('様式3A WGS'!D14=\"\",\"\",'様式3A WGS'!B14)","v":""},{"$f":"IF('様式3A WGS'!D14=\"\",\"\",IF('様式3A WGS'!C14=0,\"\",'様式3A WGS'!C14))","v":""}]
[264,{"$f":"IF('様式3A WGS'!D15=\"\",\"\",ASC('様式3A WGS'!D15))","v":""},{"$f":"IF('様式3A WGS'!D15=\"\",\"\",'様式3A WGS'!$D$6)","v":""},{"$f":"IF('様式3A WGS'!D15=\"\",\"\",'様式3A WGS'!G15)","v":""},{"$f":"IF('様式3A WGS'!D15=\"\",\"\",'様式3A WGS'!H15)","v":""},{"$f":"IF('様式3A WGS'!D15=\"\",\"\",'様式3A WGS'!E15)","v":""},{"$f":"IF('様式3A WGS'!D15=\"\",\"\",SUBSTITUTE(CONCATENATE(\"アルペン\",'様式3A WGS'!$D$8,DBCS('様式3A WGS'!$G$8)),\"　\",\"\"))","v":""},{"$f":"IF('様式3A WGS'!D15=\"\",\"\",'様式3A WGS'!B15)","v":""},{"$f":"IF('様式3A WGS'!D15=\"\",\"\",IF('様式3A WGS'!C15=0,\"\",'様式3A WGS'!C15))","v":""}]
[265,{"$f":"IF('様式3A WGS'!D16=\"\",\"\",ASC('様式3A WGS'!D16))","v":""},{"$f":"IF('様式3A WGS'!D16=\"\",\"\",'様式3A WGS'!$D$6)","v":""},{"$f":"IF('様式3A WGS'!D16=\"\",\"\",'様式3A WGS'!G16)","v":""},{"$f":"IF('様式3A WGS'!D16=\"\",\"\",'様式3A WGS'!H16)","v":""},{"$f":"IF('様式3A WGS'!D16=\"\",\"\",'様式3A WGS'!E16)","v":""},{"$f":"IF('様式3A WGS'!D16=\"\",\"\",SUBSTITUTE(CONCATENATE(\"アルペン\",'様式3A WGS'!$D$8,DBCS('様式3A WGS'!$G$8)),\"　\",\"\"))","v":""},{"$f":"IF('様式3A WGS'!D16=\"\",\"\",'様式3A WGS'!B16)","v":""},{"$f":"IF('様式3A WGS'!D16=\"\",\"\",IF('様式3A WGS'!C16=0,\"\",'様式3A WGS'!C16))","v":""}]
[266,{"$f":"IF('様式3A WGS'!D17=\"\",\"\",ASC('様式3A WGS'!D17))","v":""},{"$f":"IF('様式3A WGS'!D17=\"\",\"\",'様式3A WGS'!$D$6)","v":""},{"$f":"IF('様式3A WGS'!D17=\"\",\"\",'様式3A WGS'!G17)","v":""},{"$f":"IF('様式3A WGS'!D17=\"\",\"\",'様式3A WGS'!H17)","v":""},{"$f":"IF('様式3A WGS'!D17=\"\",\"\",'様式3A WGS'!E17)","v":""},{"$f":"IF('様式3A WGS'!D17=\"\",\"\",SUBSTITUTE(CONCATENATE(\"アルペン\",'様式3A WGS'!$D$8,DBCS('様式3A WGS'!$G$8)),\"　\",\"\"))","v":""},{"$f":"IF('様式3A WGS'!D17=\"\",\"\",'様式3A WGS'!B17)","v":""},{"$f":"IF('様式3A WGS'!D17=\"\",\"\",IF('様式3A WGS'!C17=0,\"\",'様式3A WGS'!C17))","v":""}]
[267,{"$f":"IF('様式3A WGS'!D18=\"\",\"\",ASC('様式3A WGS'!D18))","v":""},{"$f":"IF('様式3A WGS'!D18=\"\",\"\",'様式3A WGS'!$D$6)","v":""},{"$f":"IF('様式3A WGS'!D18=\"\",\"\",'様式3A WGS'!G18)","v":""},{"$f":"IF('様式3A WGS'!D18=\"\",\"\",'様式3A WGS'!H18)","v":""},{"$f":"IF('様式3A WGS'!D18=\"\",\"\",'様式3A WGS'!E18)","v":""},{"$f":"IF('様式3A WGS'!D18=\"\",\"\",SUBSTITUTE(CONCATENATE(\"アルペン\",'様式3A WGS'!$D$8,DBCS('様式3A WGS'!$G$8)),\"　\",\"\"))","v":""},{"$f":"IF('様式3A WGS'!D18=\"\",\"\",'様式3A WGS'!B18)","v":""},{"$f":"IF('様式3A WGS'!D18=\"\",\"\",IF('様式3A WGS'!C18=0,\"\",'様式3A WGS'!C18))","v":""}]
[268,{"$f":"IF('様式3A WGS'!D19=\"\",\"\",ASC('様式3A WGS'!D19))","v":""},{"$f":"IF('様式3A WGS'!D19=\"\",\"\",'様式3A WGS'!$D$6)","v":""},{"$f":"IF('様式3A WGS'!D19=\"\",\"\",'様式3A WGS'!G19)","v":""},{"$f":"IF('様式3A WGS'!D19=\"\",\"\",'様式3A WGS'!H19)","v":""},{"$f":"IF('様式3A WGS'!D19=\"\",\"\",'様式3A WGS'!E19)","v":""},{"$f":"IF('様式3A WGS'!D19=\"\",\"\",SUBSTITUTE(CONCATENATE(\"アルペン\",'様式3A WGS'!$D$8,DBCS('様式3A WGS'!$G$8)),\"　\",\"\"))","v":""},{"$f":"IF('様式3A WGS'!D19=\"\",\"\",'様式3A WGS'!B19)","v":""},{"$f":"IF('様式3A WGS'!D19=\"\",\"\",IF('様式3A WGS'!C19=0,\"\",'様式3A WGS'!C19))","v":""}]
[269,{"$f":"IF('様式3A WGS'!D20=\"\",\"\",ASC('様式3A WGS'!D20))","v":""},{"$f":"IF('様式3A WGS'!D20=\"\",\"\",'様式3A WGS'!$D$6)","v":""},{"$f":"IF('様式3A WGS'!D20=\"\",\"\",'様式3A WGS'!G20)","v":""},{"$f":"IF('様式3A WGS'!D20=\"\",\"\",'様式3A WGS'!H20)","v":""},{"$f":"IF('様式3A WGS'!D20=\"\",\"\",'様式3A WGS'!E20)","v":""},{"$f":"IF('様式3A WGS'!D20=\"\",\"\",SUBSTITUTE(CONCATENATE(\"アルペン\",'様式3A WGS'!$D$8,DBCS('様式3A WGS'!$G$8)),\"　\",\"\"))","v":""},{"$f":"IF('様式3A WGS'!D20=\"\",\"\",'様式3A WGS'!B20)","v":""},{"$f":"IF('様式3A WGS'!D20=\"\",\"\",IF('様式3A WGS'!C20=0,\"\",'様式3A WGS'!C20))","v":""}]
[270,{"$f":"IF('様式3A WGS'!D21=\"\",\"\",ASC('様式3A WGS'!D21))","v":""},{"$f":"IF('様式3A WGS'!D21=\"\",\"\",'様式3A WGS'!$D$6)","v":""},{"$f":"IF('様式3A WGS'!D21=\"\",\"\",'様式3A WGS'!G21)","v":""},{"$f":"IF('様式3A WGS'!D21=\"\",\"\",'様式3A WGS'!H21)","v":""},{"$f":"IF('様式3A WGS'!D21=\"\",\"\",'様式3A WGS'!E21)","v":""},{"$f":"IF('様式3A WGS'!D21=\"\",\"\",SUBSTITUTE(CONCATENATE(\"アルペン\",'様式3A WGS'!$D$8,DBCS('様式3A WGS'!$G$8)),\"　\",\"\"))","v":""},{"$f":"IF('様式3A WGS'!D21=\"\",\"\",'様式3A WGS'!B21)","v":""},{"$f":"IF('様式3A WGS'!D21=\"\",\"\",IF('様式3A WGS'!C21=0,\"\",'様式3A WGS'!C21))","v":""}]
[271,{"$f":"IF('様式3A WGS'!D22=\"\",\"\",ASC('様式3A WGS'!D22))","v":""},{"$f":"IF('様式3A WGS'!D22=\"\",\"\",'様式3A WGS'!$D$6)","v":""},{"$f":"IF('様式3A WGS'!D22=\"\",\"\",'様式3A WGS'!G22)","v":""},{"$f":"IF('様式3A WGS'!D22=\"\",\"\",'様式3A WGS'!H22)","v":""},{"$f":"IF('様式3A WGS'!D22=\"\",\"\",'様式3A WGS'!E22)","v":""},{"$f":"IF('様式3A WGS'!D22=\"\",\"\",SUBSTITUTE(CONCATENATE(\"アルペン\",'様式3A WGS'!$D$8,DBCS('様式3A WGS'!$G$8)),\"　\",\"\"))","v":""},{"$f":"IF('様式3A WGS'!D22=\"\",\"\",'様式3A WGS'!B22)","v":""},{"$f":"IF('様式3A WGS'!D22=\"\",\"\",IF('様式3A WGS'!C22=0,\"\",'様式3A WGS'!C22))","v":""}]
[272,{"$f":"IF('様式3A WGS'!D23=\"\",\"\",ASC('様式3A WGS'!D23))","v":""},{"$f":"IF('様式3A WGS'!D23=\"\",\"\",'様式3A WGS'!$D$6)","v":""},{"$f":"IF('様式3A WGS'!D23=\"\",\"\",'様式3A WGS'!G23)","v":""},{"$f":"IF('様式3A WGS'!D23=\"\",\"\",'様式3A WGS'!H23)","v":""},{"$f":"IF('様式3A WGS'!D23=\"\",\"\",'様式3A WGS'!E23)","v":""},{"$f":"IF('様式3A WGS'!D23=\"\",\"\",SUBSTITUTE(CONCATENATE(\"アルペン\",'様式3A WGS'!$D$8,DBCS('様式3A WGS'!$G$8)),\"　\",\"\"))","v":""},{"$f":"IF('様式3A WGS'!D23=\"\",\"\",'様式3A WGS'!B23)","v":""},{"$f":"IF('様式3A WGS'!D23=\"\",\"\",IF('様式3A WGS'!C23=0,\"\",'様式3A WGS'!C23))","v":""}]
[273,{"$f":"IF('様式3A WGS'!D24=\"\",\"\",ASC('様式3A WGS'!D24))","v":""},{"$f":"IF('様式3A WGS'!D24=\"\",\"\",'様式3A WGS'!$D$6)","v":""},{"$f":"IF('様式3A WGS'!D24=\"\",\"\",'様式3A WGS'!G24)","v":""},{"$f":"IF('様式3A WGS'!D24=\"\",\"\",'様式3A WGS'!H24)","v":""},{"$f":"IF('様式3A WGS'!D24=\"\",\"\",'様式3A WGS'!E24)","v":""},{"$f":"IF('様式3A WGS'!D24=\"\",\"\",SUBSTITUTE(CONCATENATE(\"アルペン\",'様式3A WGS'!$D$8,DBCS('様式3A WGS'!$G$8)),\"　\",\"\"))","v":""},{"$f":"IF('様式3A WGS'!D24=\"\",\"\",'様式3A WGS'!B24)","v":""},{"$f":"IF('様式3A WGS'!D24=\"\",\"\",IF('様式3A WGS'!C24=0,\"\",'様式3A WGS'!C24))","v":""}]
[274,{"$f":"IF('様式3A WGS'!D25=\"\",\"\",ASC('様式3A WGS'!D25))","v":""},{"$f":"IF('様式3A WGS'!D25=\"\",\"\",'様式3A WGS'!$D$6)","v":""},{"$f":"IF('様式3A WGS'!D25=\"\",\"\",'様式3A WGS'!G25)","v":""},{"$f":"IF('様式3A WGS'!D25=\"\",\"\",'様式3A WGS'!H25)","v":""},{"$f":"IF('様式3A WGS'!D25=\"\",\"\",'様式3A WGS'!E25)","v":""},{"$f":"IF('様式3A WGS'!D25=\"\",\"\",SUBSTITUTE(CONCATENATE(\"アルペン\",'様式3A WGS'!$D$8,DBCS('様式3A WGS'!$G$8)),\"　\",\"\"))","v":""},{"$f":"IF('様式3A WGS'!D25=\"\",\"\",'様式3A WGS'!B25)","v":""},{"$f":"IF('様式3A WGS'!D25=\"\",\"\",IF('様式3A WGS'!C25=0,\"\",'様式3A WGS'!C25))","v":""}]
[275,{"$f":"IF('様式3A WGS'!D26=\"\",\"\",ASC('様式3A WGS'!D26))","v":""},{"$f":"IF('様式3A WGS'!D26=\"\",\"\",'様式3A WGS'!$D$6)","v":""},{"$f":"IF('様式3A WGS'!D26=\"\",\"\",'様式3A WGS'!G26)","v":""},{"$f":"IF('様式3A WGS'!D26=\"\",\"\",'様式3A WGS'!H26)","v":""},{"$f":"IF('様式3A WGS'!D26=\"\",\"\",'様式3A WGS'!E26)","v":""},{"$f":"IF('様式3A WGS'!D26=\"\",\"\",SUBSTITUTE(CONCATENATE(\"アルペン\",'様式3A WGS'!$D$8,DBCS('様式3A WGS'!$G$8)),\"　\",\"\"))","v":""},{"$f":"IF('様式3A WGS'!D26=\"\",\"\",'様式3A WGS'!B26)","v":""},{"$f":"IF('様式3A WGS'!D26=\"\",\"\",IF('様式3A WGS'!C26=0,\"\",'様式3A WGS'!C26))","v":""}]
[276,{"$f":"IF('様式3A WGS'!D27=\"\",\"\",ASC('様式3A WGS'!D27))","v":""},{"$f":"IF('様式3A WGS'!D27=\"\",\"\",'様式3A WGS'!$D$6)","v":""},{"$f":"IF('様式3A WGS'!D27=\"\",\"\",'様式3A WGS'!G27)","v":""},{"$f":"IF('様式3A WGS'!D27=\"\",\"\",'様式3A WGS'!H27)","v":""},{"$f":"IF('様式3A WGS'!D27=\"\",\"\",'様式3A WGS'!E27)","v":""},{"$f":"IF('様式3A WGS'!D27=\"\",\"\",SUBSTITUTE(CONCATENATE(\"アルペン\",'様式3A WGS'!$D$8,DBCS('様式3A WGS'!$G$8)),\"　\",\"\"))","v":""},{"$f":"IF('様式3A WGS'!D27=\"\",\"\",'様式3A WGS'!B27)","v":""},{"$f":"IF('様式3A WGS'!D27=\"\",\"\",IF('様式3A WGS'!C27=0,\"\",'様式3A WGS'!C27))","v":""}]
[277,{"$f":"IF('様式3A WGS'!D28=\"\",\"\",ASC('様式3A WGS'!D28))","v":""},{"$f":"IF('様式3A WGS'!D28=\"\",\"\",'様式3A WGS'!$D$6)","v":""},{"$f":"IF('様式3A WGS'!D28=\"\",\"\",'様式3A WGS'!G28)","v":""},{"$f":"IF('様式3A WGS'!D28=\"\",\"\",'様式3A WGS'!H28)","v":""},{"$f":"IF('様式3A WGS'!D28=\"\",\"\",'様式3A WGS'!E28)","v":""},{"$f":"IF('様式3A WGS'!D28=\"\",\"\",SUBSTITUTE(CONCATENATE(\"アルペン\",'様式3A WGS'!$D$8,DBCS('様式3A WGS'!$G$8)),\"　\",\"\"))","v":""},{"$f":"IF('様式3A WGS'!D28=\"\",\"\",'様式3A WGS'!B28)","v":""},{"$f":"IF('様式3A WGS'!D28=\"\",\"\",IF('様式3A WGS'!C28=0,\"\",'様式3A WGS'!C28))","v":""}]
[278,{"$f":"IF('様式3A WGS'!D29=\"\",\"\",ASC('様式3A WGS'!D29))","v":""},{"$f":"IF('様式3A WGS'!D29=\"\",\"\",'様式3A WGS'!$D$6)","v":""},{"$f":"IF('様式3A WGS'!D29=\"\",\"\",'様式3A WGS'!G29)","v":""},{"$f":"IF('様式3A WGS'!D29=\"\",\"\",'様式3A WGS'!H29)","v":""},{"$f":"IF('様式3A WGS'!D29=\"\",\"\",'様式3A WGS'!E29)","v":""},{"$f":"IF('様式3A WGS'!D29=\"\",\"\",SUBSTITUTE(CONCATENATE(\"アルペン\",'様式3A WGS'!$D$8,DBCS('様式3A WGS'!$G$8)),\"　\",\"\"))","v":""},{"$f":"IF('様式3A WGS'!D29=\"\",\"\",'様式3A WGS'!B29)","v":""},{"$f":"IF('様式3A WGS'!D29=\"\",\"\",IF('様式3A WGS'!C29=0,\"\",'様式3A WGS'!C29))","v":""}]
[279,{"$f":"IF('様式3A WGS'!D30=\"\",\"\",ASC('様式3A WGS'!D30))","v":""},{"$f":"IF('様式3A WGS'!D30=\"\",\"\",'様式3A WGS'!$D$6)","v":""},{"$f":"IF('様式3A WGS'!D30=\"\",\"\",'様式3A WGS'!G30)","v":""},{"$f":"IF('様式3A WGS'!D30=\"\",\"\",'様式3A WGS'!H30)","v":""},{"$f":"IF('様式3A WGS'!D30=\"\",\"\",'様式3A WGS'!E30)","v":""},{"$f":"IF('様式3A WGS'!D30=\"\",\"\",SUBSTITUTE(CONCATENATE(\"アルペン\",'様式3A WGS'!$D$8,DBCS('様式3A WGS'!$G$8)),\"　\",\"\"))","v":""},{"$f":"IF('様式3A WGS'!D30=\"\",\"\",'様式3A WGS'!B30)","v":""},{"$f":"IF('様式3A WGS'!D30=\"\",\"\",IF('様式3A WGS'!C30=0,\"\",'様式3A WGS'!C30))","v":""}]
[280,{"$f":"IF('様式3A WGS'!D31=\"\",\"\",ASC('様式3A WGS'!D31))","v":""},{"$f":"IF('様式3A WGS'!D31=\"\",\"\",'様式3A WGS'!$D$6)","v":""},{"$f":"IF('様式3A WGS'!D31=\"\",\"\",'様式3A WGS'!G31)","v":""},{"$f":"IF('様式3A WGS'!D31=\"\",\"\",'様式3A WGS'!H31)","v":""},{"$f":"IF('様式3A WGS'!D31=\"\",\"\",'様式3A WGS'!E31)","v":""},{"$f":"IF('様式3A WGS'!D31=\"\",\"\",SUBSTITUTE(CONCATENATE(\"アルペン\",'様式3A WGS'!$D$8,DBCS('様式3A WGS'!$G$8)),\"　\",\"\"))","v":""},{"$f":"IF('様式3A WGS'!D31=\"\",\"\",'様式3A WGS'!B31)","v":""},{"$f":"IF('様式3A WGS'!D31=\"\",\"\",IF('様式3A WGS'!C31=0,\"\",'様式3A WGS'!C31))","v":""}]
[281,{"$f":"IF('様式3A WGS'!D32=\"\",\"\",ASC('様式3A WGS'!D32))","v":""},{"$f":"IF('様式3A WGS'!D32=\"\",\"\",'様式3A WGS'!$D$6)","v":""},{"$f":"IF('様式3A WGS'!D32=\"\",\"\",'様式3A WGS'!G32)","v":""},{"$f":"IF('様式3A WGS'!D32=\"\",\"\",'様式3A WGS'!H32)","v":""},{"$f":"IF('様式3A WGS'!D32=\"\",\"\",'様式3A WGS'!E32)","v":""},{"$f":"IF('様式3A WGS'!D32=\"\",\"\",SUBSTITUTE(CONCATENATE(\"アルペン\",'様式3A WGS'!$D$8,DBCS('様式3A WGS'!$G$8)),\"　\",\"\"))","v":""},{"$f":"IF('様式3A WGS'!D32=\"\",\"\",'様式3A WGS'!B32)","v":""},{"$f":"IF('様式3A WGS'!D32=\"\",\"\",IF('様式3A WGS'!C32=0,\"\",'様式3A WGS'!C32))","v":""}]
[282,{"$f":"IF('様式3A WGS'!D33=\"\",\"\",ASC('様式3A WGS'!D33))","v":""},{"$f":"IF('様式3A WGS'!D33=\"\",\"\",'様式3A WGS'!$D$6)","v":""},{"$f":"IF('様式3A WGS'!D33=\"\",\"\",'様式3A WGS'!G33)","v":""},{"$f":"IF('様式3A WGS'!D33=\"\",\"\",'様式3A WGS'!H33)","v":""},{"$f":"IF('様式3A WGS'!D33=\"\",\"\",'様式3A WGS'!E33)","v":""},{"$f":"IF('様式3A WGS'!D33=\"\",\"\",SUBSTITUTE(CONCATENATE(\"アルペン\",'様式3A WGS'!$D$8,DBCS('様式3A WGS'!$G$8)),\"　\",\"\"))","v":""},{"$f":"IF('様式3A WGS'!D33=\"\",\"\",'様式3A WGS'!B33)","v":""},{"$f":"IF('様式3A WGS'!D33=\"\",\"\",IF('様式3A WGS'!C33=0,\"\",'様式3A WGS'!C33))","v":""}]
[283]
[284,{"$f":"IF('様式3A MSL'!D11=\"\",\"\",ASC('様式3A MSL'!D11))","v":""},{"$f":"IF('様式3A MSL'!D11=\"\",\"\",'様式3A MSL'!$D$6)","v":""},{"$f":"IF('様式3A MSL'!D11=\"\",\"\",'様式3A MSL'!G11)","v":""},{"$f":"IF('様式3A MSL'!D11=\"\",\"\",'様式3A MSL'!H11)","v":""},{"$f":"IF('様式3A MSL'!D11=\"\",\"\",'様式3A MSL'!E11)","v":""},{"$f":"IF('様式3A MSL'!D11=\"\",\"\",SUBSTITUTE(CONCATENATE(\"アルペン\",'様式3A MSL'!$D$8,DBCS('様式3A MSL'!$G$8)),\"　\",\"\"))","v":""},{"$f":"IF('様式3A MSL'!D11=\"\",\"\",'様式3A MSL'!B11)","v":""},{"$f":"IF('様式3A MSL'!D11=\"\",\"\",IF('様式3A MSL'!C11=0,\"\",'様式3A MSL'!C11))","v":""}]
[285,{"$f":"IF('様式3A MSL'!D12=\"\",\"\",ASC('様式3A MSL'!D12))","v":""},{"$f":"IF('様式3A MSL'!D12=\"\",\"\",'様式3A MSL'!$D$6)","v":""},{"$f":"IF('様式3A MSL'!D12=\"\",\"\",'様式3A MSL'!G12)","v":""},{"$f":"IF('様式3A MSL'!D12=\"\",\"\",'様式3A MSL'!H12)","v":""},{"$f":"IF('様式3A MSL'!D12=\"\",\"\",'様式3A MSL'!E12)","v":""},{"$f":"IF('様式3A MSL'!D12=\"\",\"\",SUBSTITUTE(CONCATENATE(\"アルペン\",'様式3A MSL'!$D$8,DBCS('様式3A MSL'!$G$8)),\"　\",\"\"))","v":""},{"$f":"IF('様式3A MSL'!D12=\"\",\"\",'様式3A MSL'!B12)","v":""},{"$f":"IF('様式3A MSL'!D12=\"\",\"\",IF('様式3A MSL'!C12=0,\"\",'様式3A MSL'!C12))","v":""}]
[286,{"$f":"IF('様式3A MSL'!D13=\"\",\"\",ASC('様式3A MSL'!D13))","v":""},{"$f":"IF('様式3A MSL'!D13=\"\",\"\",'様式3A MSL'!$D$6)","v":""},{"$f":"IF('様式3A MSL'!D13=\"\",\"\",'様式3A MSL'!G13)","v":""},{"$f":"IF('様式3A MSL'!D13=\"\",\"\",'様式3A MSL'!H13)","v":""},{"$f":"IF('様式3A MSL'!D13=\"\",\"\",'様式3A MSL'!E13)","v":""},{"$f":"IF('様式3A MSL'!D13=\"\",\"\",SUBSTITUTE(CONCATENATE(\"アルペン\",'様式3A MSL'!$D$8,DBCS('様式3A MSL'!$G$8)),\"　\",\"\"))","v":""},{"$f":"IF('様式3A MSL'!D13=\"\",\"\",'様式3A MSL'!B13)","v":""},{"$f":"IF('様式3A MSL'!D13=\"\",\"\",IF('様式3A MSL'!C13=0,\"\",'様式3A MSL'!C13))","v":""}]
[287,{"$f":"IF('様式3A MSL'!D14=\"\",\"\",ASC('様式3A MSL'!D14))","v":""},{"$f":"IF('様式3A MSL'!D14=\"\",\"\",'様式3A MSL'!$D$6)","v":""},{"$f":"IF('様式3A MSL'!D14=\"\",\"\",'様式3A MSL'!G14)","v":""},{"$f":"IF('様式3A MSL'!D14=\"\",\"\",'様式3A MSL'!H14)","v":""},{"$f":"IF('様式3A MSL'!D14=\"\",\"\",'様式3A MSL'!E14)","v":""},{"$f":"IF('様式3A MSL'!D14=\"\",\"\",SUBSTITUTE(CONCATENATE(\"アルペン\",'様式3A MSL'!$D$8,DBCS('様式3A MSL'!$G$8)),\"　\",\"\"))","v":""},{"$f":"IF('様式3A MSL'!D14=\"\",\"\",'様式3A MSL'!B14)","v":""},{"$f":"IF('様式3A MSL'!D14=\"\",\"\",IF('様式3A MSL'!C14=0,\"\",'様式3A MSL'!C14))","v":""}]
[288,{"$f":"IF('様式3A MSL'!D15=\"\",\"\",ASC('様式3A MSL'!D15))","v":""},{"$f":"IF('様式3A MSL'!D15=\"\",\"\",'様式3A MSL'!$D$6)","v":""},{"$f":"IF('様式3A MSL'!D15=\"\",\"\",'様式3A MSL'!G15)","v":""},{"$f":"IF('様式3A MSL'!D15=\"\",\"\",'様式3A MSL'!H15)","v":""},{"$f":"IF('様式3A MSL'!D15=\"\",\"\",'様式3A MSL'!E15)","v":""},{"$f":"IF('様式3A MSL'!D15=\"\",\"\",SUBSTITUTE(CONCATENATE(\"アルペン\",'様式3A MSL'!$D$8,DBCS('様式3A MSL'!$G$8)),\"　\",\"\"))","v":""},{"$f":"IF('様式3A MSL'!D15=\"\",\"\",'様式3A MSL'!B15)","v":""},{"$f":"IF('様式3A MSL'!D15=\"\",\"\",IF('様式3A MSL'!C15=0,\"\",'様式3A MSL'!C15))","v":""}]
[289,{"$f":"IF('様式3A MSL'!D16=\"\",\"\",ASC('様式3A MSL'!D16))","v":""},{"$f":"IF('様式3A MSL'!D16=\"\",\"\",'様式3A MSL'!$D$6)","v":""},{"$f":"IF('様式3A MSL'!D16=\"\",\"\",'様式3A MSL'!G16)","v":""},{"$f":"IF('様式3A MSL'!D16=\"\",\"\",'様式3A MSL'!H16)","v":""},{"$f":"IF('様式3A MSL'!D16=\"\",\"\",'様式3A MSL'!E16)","v":""},{"$f":"IF('様式3A MSL'!D16=\"\",\"\",SUBSTITUTE(CONCATENATE(\"アルペン\",'様式3A MSL'!$D$8,DBCS('様式3A MSL'!$G$8)),\"　\",\"\"))","v":""},{"$f":"IF('様式3A MSL'!D16=\"\",\"\",'様式3A MSL'!B16)","v":""},{"$f":"IF('様式3A MSL'!D16=\"\",\"\",IF('様式3A MSL'!C16=0,\"\",'様式3A MSL'!C16))","v":""}]
[290,{"$f":"IF('様式3A MSL'!D17=\"\",\"\",ASC('様式3A MSL'!D17))","v":""},{"$f":"IF('様式3A MSL'!D17=\"\",\"\",'様式3A MSL'!$D$6)","v":""},{"$f":"IF('様式3A MSL'!D17=\"\",\"\",'様式3A MSL'!G17)","v":""},{"$f":"IF('様式3A MSL'!D17=\"\",\"\",'様式3A MSL'!H17)","v":""},{"$f":"IF('様式3A MSL'!D17=\"\",\"\",'様式3A MSL'!E17)","v":""},{"$f":"IF('様式3A MSL'!D17=\"\",\"\",SUBSTITUTE(CONCATENATE(\"アルペン\",'様式3A MSL'!$D$8,DBCS('様式3A MSL'!$G$8)),\"　\",\"\"))","v":""},{"$f":"IF('様式3A MSL'!D17=\"\",\"\",'様式3A MSL'!B17)","v":""},{"$f":"IF('様式3A MSL'!D17=\"\",\"\",IF('様式3A MSL'!C17=0,\"\",'様式3A MSL'!C17))","v":""}]
[291,{"$f":"IF('様式3A MSL'!D18=\"\",\"\",ASC('様式3A MSL'!D18))","v":""},{"$f":"IF('様式3A MSL'!D18=\"\",\"\",'様式3A MSL'!$D$6)","v":""},{"$f":"IF('様式3A MSL'!D18=\"\",\"\",'様式3A MSL'!G18)","v":""},{"$f":"IF('様式3A MSL'!D18=\"\",\"\",'様式3A MSL'!H18)","v":""},{"$f":"IF('様式3A MSL'!D18=\"\",\"\",'様式3A MSL'!E18)","v":""},{"$f":"IF('様式3A MSL'!D18=\"\",\"\",SUBSTITUTE(CONCATENATE(\"アルペン\",'様式3A MSL'!$D$8,DBCS('様式3A MSL'!$G$8)),\"　\",\"\"))","v":""},{"$f":"IF('様式3A MSL'!D18=\"\",\"\",'様式3A MSL'!B18)","v":""},{"$f":"IF('様式3A MSL'!D18=\"\",\"\",IF('様式3A MSL'!C18=0,\"\",'様式3A MSL'!C18))","v":""}]
[292,{"$f":"IF('様式3A MSL'!D19=\"\",\"\",ASC('様式3A MSL'!D19))","v":""},{"$f":"IF('様式3A MSL'!D19=\"\",\"\",'様式3A MSL'!$D$6)","v":""},{"$f":"IF('様式3A MSL'!D19=\"\",\"\",'様式3A MSL'!G19)","v":""},{"$f":"IF('様式3A MSL'!D19=\"\",\"\",'様式3A MSL'!H19)","v":""},{"$f":"IF('様式3A MSL'!D19=\"\",\"\",'様式3A MSL'!E19)","v":""},{"$f":"IF('様式3A MSL'!D19=\"\",\"\",SUBSTITUTE(CONCATENATE(\"アルペン\",'様式3A MSL'!$D$8,DBCS('様式3A MSL'!$G$8)),\"　\",\"\"))","v":""},{"$f":"IF('様式3A MSL'!D19=\"\",\"\",'様式3A MSL'!B19)","v":""},{"$f":"IF('様式3A MSL'!D19=\"\",\"\",IF('様式3A MSL'!C19=0,\"\",'様式3A MSL'!C19))","v":""}]
[293,{"$f":"IF('様式3A MSL'!D20=\"\",\"\",ASC('様式3A MSL'!D20))","v":""},{"$f":"IF('様式3A MSL'!D20=\"\",\"\",'様式3A MSL'!$D$6)","v":""},{"$f":"IF('様式3A MSL'!D20=\"\",\"\",'様式3A MSL'!G20)","v":""},{"$f":"IF('様式3A MSL'!D20=\"\",\"\",'様式3A MSL'!H20)","v":""},{"$f":"IF('様式3A MSL'!D20=\"\",\"\",'様式3A MSL'!E20)","v":""},{"$f":"IF('様式3A MSL'!D20=\"\",\"\",SUBSTITUTE(CONCATENATE(\"アルペン\",'様式3A MSL'!$D$8,DBCS('様式3A MSL'!$G$8)),\"　\",\"\"))","v":""},{"$f":"IF('様式3A MSL'!D20=\"\",\"\",'様式3A MSL'!B20)","v":""},{"$f":"IF('様式3A MSL'!D20=\"\",\"\",IF('様式3A MSL'!C20=0,\"\",'様式3A MSL'!C20))","v":""}]
[294,{"$f":"IF('様式3A MSL'!D21=\"\",\"\",ASC('様式3A MSL'!D21))","v":""},{"$f":"IF('様式3A MSL'!D21=\"\",\"\",'様式3A MSL'!$D$6)","v":""},{"$f":"IF('様式3A MSL'!D21=\"\",\"\",'様式3A MSL'!G21)","v":""},{"$f":"IF('様式3A MSL'!D21=\"\",\"\",'様式3A MSL'!H21)","v":""},{"$f":"IF('様式3A MSL'!D21=\"\",\"\",'様式3A MSL'!E21)","v":""},{"$f":"IF('様式3A MSL'!D21=\"\",\"\",SUBSTITUTE(CONCATENATE(\"アルペン\",'様式3A MSL'!$D$8,DBCS('様式3A MSL'!$G$8)),\"　\",\"\"))","v":""},{"$f":"IF('様式3A MSL'!D21=\"\",\"\",'様式3A MSL'!B21)","v":""},{"$f":"IF('様式3A MSL'!D21=\"\",\"\",IF('様式3A MSL'!C21=0,\"\",'様式3A MSL'!C21))","v":""}]
[295,{"$f":"IF('様式3A MSL'!D22=\"\",\"\",ASC('様式3A MSL'!D22))","v":""},{"$f":"IF('様式3A MSL'!D22=\"\",\"\",'様式3A MSL'!$D$6)","v":""},{"$f":"IF('様式3A MSL'!D22=\"\",\"\",'様式3A MSL'!G22)","v":""},{"$f":"IF('様式3A MSL'!D22=\"\",\"\",'様式3A MSL'!H22)","v":""},{"$f":"IF('様式3A MSL'!D22=\"\",\"\",'様式3A MSL'!E22)","v":""},{"$f":"IF('様式3A MSL'!D22=\"\",\"\",SUBSTITUTE(CONCATENATE(\"アルペン\",'様式3A MSL'!$D$8,DBCS('様式3A MSL'!$G$8)),\"　\",\"\"))","v":""},{"$f":"IF('様式3A MSL'!D22=\"\",\"\",'様式3A MSL'!B22)","v":""},{"$f":"IF('様式3A MSL'!D22=\"\",\"\",IF('様式3A MSL'!C22=0,\"\",'様式3A MSL'!C22))","v":""}]
[296,{"$f":"IF('様式3A MSL'!D23=\"\",\"\",ASC('様式3A MSL'!D23))","v":""},{"$f":"IF('様式3A MSL'!D23=\"\",\"\",'様式3A MSL'!$D$6)","v":""},{"$f":"IF('様式3A MSL'!D23=\"\",\"\",'様式3A MSL'!G23)","v":""},{"$f":"IF('様式3A MSL'!D23=\"\",\"\",'様式3A MSL'!H23)","v":""},{"$f":"IF('様式3A MSL'!D23=\"\",\"\",'様式3A MSL'!E23)","v":""},{"$f":"IF('様式3A MSL'!D23=\"\",\"\",SUBSTITUTE(CONCATENATE(\"アルペン\",'様式3A MSL'!$D$8,DBCS('様式3A MSL'!$G$8)),\"　\",\"\"))","v":""},{"$f":"IF('様式3A MSL'!D23=\"\",\"\",'様式3A MSL'!B23)","v":""},{"$f":"IF('様式3A MSL'!D23=\"\",\"\",IF('様式3A MSL'!C23=0,\"\",'様式3A MSL'!C23))","v":""}]
[297,{"$f":"IF('様式3A MSL'!D24=\"\",\"\",ASC('様式3A MSL'!D24))","v":""},{"$f":"IF('様式3A MSL'!D24=\"\",\"\",'様式3A MSL'!$D$6)","v":""},{"$f":"IF('様式3A MSL'!D24=\"\",\"\",'様式3A MSL'!G24)","v":""},{"$f":"IF('様式3A MSL'!D24=\"\",\"\",'様式3A MSL'!H24)","v":""},{"$f":"IF('様式3A MSL'!D24=\"\",\"\",'様式3A MSL'!E24)","v":""},{"$f":"IF('様式3A MSL'!D24=\"\",\"\",SUBSTITUTE(CONCATENATE(\"アルペン\",'様式3A MSL'!$D$8,DBCS('様式3A MSL'!$G$8)),\"　\",\"\"))","v":""},{"$f":"IF('様式3A MSL'!D24=\"\",\"\",'様式3A MSL'!B24)","v":""},{"$f":"IF('様式3A MSL'!D24=\"\",\"\",IF('様式3A MSL'!C24=0,\"\",'様式3A MSL'!C24))","v":""}]
[298,{"$f":"IF('様式3A MSL'!D25=\"\",\"\",ASC('様式3A MSL'!D25))","v":""},{"$f":"IF('様式3A MSL'!D25=\"\",\"\",'様式3A MSL'!$D$6)","v":""},{"$f":"IF('様式3A MSL'!D25=\"\",\"\",'様式3A MSL'!G25)","v":""},{"$f":"IF('様式3A MSL'!D25=\"\",\"\",'様式3A MSL'!H25)","v":""},{"$f":"IF('様式3A MSL'!D25=\"\",\"\",'様式3A MSL'!E25)","v":""},{"$f":"IF('様式3A MSL'!D25=\"\",\"\",SUBSTITUTE(CONCATENATE(\"アルペン\",'様式3A MSL'!$D$8,DBCS('様式3A MSL'!$G$8)),\"　\",\"\"))","v":""},{"$f":"IF('様式3A MSL'!D25=\"\",\"\",'様式3A MSL'!B25)","v":""},{"$f":"IF('様式3A MSL'!D25=\"\",\"\",IF('様式3A MSL'!C25=0,\"\",'様式3A MSL'!C25))","v":""}]
[299,{"$f":"IF('様式3A MSL'!D26=\"\",\"\",ASC('様式3A MSL'!D26))","v":""},{"$f":"IF('様式3A MSL'!D26=\"\",\"\",'様式3A MSL'!$D$6)","v":""},{"$f":"IF('様式3A MSL'!D26=\"\",\"\",'様式3A MSL'!G26)","v":""},{"$f":"IF('様式3A MSL'!D26=\"\",\"\",'様式3A MSL'!H26)","v":""},{"$f":"IF('様式3A MSL'!D26=\"\",\"\",'様式3A MSL'!E26)","v":""},{"$f":"IF('様式3A MSL'!D26=\"\",\"\",SUBSTITUTE(CONCATENATE(\"アルペン\",'様式3A MSL'!$D$8,DBCS('様式3A MSL'!$G$8)),\"　\",\"\"))","v":""},{"$f":"IF('様式3A MSL'!D26=\"\",\"\",'様式3A MSL'!B26)","v":""},{"$f":"IF('様式3A MSL'!D26=\"\",\"\",IF('様式3A MSL'!C26=0,\"\",'様式3A MSL'!C26))","v":""}]
[300,{"$f":"IF('様式3A MSL'!D27=\"\",\"\",ASC('様式3A MSL'!D27))","v":""},{"$f":"IF('様式3A MSL'!D27=\"\",\"\",'様式3A MSL'!$D$6)","v":""},{"$f":"IF('様式3A MSL'!D27=\"\",\"\",'様式3A MSL'!G27)","v":""},{"$f":"IF('様式3A MSL'!D27=\"\",\"\",'様式3A MSL'!H27)","v":""},{"$f":"IF('様式3A MSL'!D27=\"\",\"\",'様式3A MSL'!E27)","v":""},{"$f":"IF('様式3A MSL'!D27=\"\",\"\",SUBSTITUTE(CONCATENATE(\"アルペン\",'様式3A MSL'!$D$8,DBCS('様式3A MSL'!$G$8)),\"　\",\"\"))","v":""},{"$f":"IF('様式3A MSL'!D27=\"\",\"\",'様式3A MSL'!B27)","v":""},{"$f":"IF('様式3A MSL'!D27=\"\",\"\",IF('様式3A MSL'!C27=0,\"\",'様式3A MSL'!C27))","v":""}]
[301,{"$f":"IF('様式3A MSL'!D28=\"\",\"\",ASC('様式3A MSL'!D28))","v":""},{"$f":"IF('様式3A MSL'!D28=\"\",\"\",'様式3A MSL'!$D$6)","v":""},{"$f":"IF('様式3A MSL'!D28=\"\",\"\",'様式3A MSL'!G28)","v":""},{"$f":"IF('様式3A MSL'!D28=\"\",\"\",'様式3A MSL'!H28)","v":""},{"$f":"IF('様式3A MSL'!D28=\"\",\"\",'様式3A MSL'!E28)","v":""},{"$f":"IF('様式3A MSL'!D28=\"\",\"\",SUBSTITUTE(CONCATENATE(\"アルペン\",'様式3A MSL'!$D$8,DBCS('様式3A MSL'!$G$8)),\"　\",\"\"))","v":""},{"$f":"IF('様式3A MSL'!D28=\"\",\"\",'様式3A MSL'!B28)","v":""},{"$f":"IF('様式3A MSL'!D28=\"\",\"\",IF('様式3A MSL'!C28=0,\"\",'様式3A MSL'!C28))","v":""}]
[302,{"$f":"IF('様式3A MSL'!D29=\"\",\"\",ASC('様式3A MSL'!D29))","v":""},{"$f":"IF('様式3A MSL'!D29=\"\",\"\",'様式3A MSL'!$D$6)","v":""},{"$f":"IF('様式3A MSL'!D29=\"\",\"\",'様式3A MSL'!G29)","v":""},{"$f":"IF('様式3A MSL'!D29=\"\",\"\",'様式3A MSL'!H29)","v":""},{"$f":"IF('様式3A MSL'!D29=\"\",\"\",'様式3A MSL'!E29)","v":""},{"$f":"IF('様式3A MSL'!D29=\"\",\"\",SUBSTITUTE(CONCATENATE(\"アルペン\",'様式3A MSL'!$D$8,DBCS('様式3A MSL'!$G$8)),\"　\",\"\"))","v":""},{"$f":"IF('様式3A MSL'!D29=\"\",\"\",'様式3A MSL'!B29)","v":""},{"$f":"IF('様式3A MSL'!D29=\"\",\"\",IF('様式3A MSL'!C29=0,\"\",'様式3A MSL'!C29))","v":""}]
[303,{"$f":"IF('様式3A MSL'!D30=\"\",\"\",ASC('様式3A MSL'!D30))","v":""},{"$f":"IF('様式3A MSL'!D30=\"\",\"\",'様式3A MSL'!$D$6)","v":""},{"$f":"IF('様式3A MSL'!D30=\"\",\"\",'様式3A MSL'!G30)","v":""},{"$f":"IF('様式3A MSL'!D30=\"\",\"\",'様式3A MSL'!H30)","v":""},{"$f":"IF('様式3A MSL'!D30=\"\",\"\",'様式3A MSL'!E30)","v":""},{"$f":"IF('様式3A MSL'!D30=\"\",\"\",SUBSTITUTE(CONCATENATE(\"アルペン\",'様式3A MSL'!$D$8,DBCS('様式3A MSL'!$G$8)),\"　\",\"\"))","v":""},{"$f":"IF('様式3A MSL'!D30=\"\",\"\",'様式3A MSL'!B30)","v":""},{"$f":"IF('様式3A MSL'!D30=\"\",\"\",IF('様式3A MSL'!C30=0,\"\",'様式3A MSL'!C30))","v":""}]
[304,{"$f":"IF('様式3A MSL'!D31=\"\",\"\",ASC('様式3A MSL'!D31))","v":""},{"$f":"IF('様式3A MSL'!D31=\"\",\"\",'様式3A MSL'!$D$6)","v":""},{"$f":"IF('様式3A MSL'!D31=\"\",\"\",'様式3A MSL'!G31)","v":""},{"$f":"IF('様式3A MSL'!D31=\"\",\"\",'様式3A MSL'!H31)","v":""},{"$f":"IF('様式3A MSL'!D31=\"\",\"\",'様式3A MSL'!E31)","v":""},{"$f":"IF('様式3A MSL'!D31=\"\",\"\",SUBSTITUTE(CONCATENATE(\"アルペン\",'様式3A MSL'!$D$8,DBCS('様式3A MSL'!$G$8)),\"　\",\"\"))","v":""},{"$f":"IF('様式3A MSL'!D31=\"\",\"\",'様式3A MSL'!B31)","v":""},{"$f":"IF('様式3A MSL'!D31=\"\",\"\",IF('様式3A MSL'!C31=0,\"\",'様式3A MSL'!C31))","v":""}]
[305,{"$f":"IF('様式3A MSL'!D32=\"\",\"\",ASC('様式3A MSL'!D32))","v":""},{"$f":"IF('様式3A MSL'!D32=\"\",\"\",'様式3A MSL'!$D$6)","v":""},{"$f":"IF('様式3A MSL'!D32=\"\",\"\",'様式3A MSL'!G32)","v":""},{"$f":"IF('様式3A MSL'!D32=\"\",\"\",'様式3A MSL'!H32)","v":""},{"$f":"IF('様式3A MSL'!D32=\"\",\"\",'様式3A MSL'!E32)","v":""},{"$f":"IF('様式3A MSL'!D32=\"\",\"\",SUBSTITUTE(CONCATENATE(\"アルペン\",'様式3A MSL'!$D$8,DBCS('様式3A MSL'!$G$8)),\"　\",\"\"))","v":""},{"$f":"IF('様式3A MSL'!D32=\"\",\"\",'様式3A MSL'!B32)","v":""},{"$f":"IF('様式3A MSL'!D32=\"\",\"\",IF('様式3A MSL'!C32=0,\"\",'様式3A MSL'!C32))","v":""}]
[306,{"$f":"IF('様式3A MSL'!D33=\"\",\"\",ASC('様式3A MSL'!D33))","v":""},{"$f":"IF('様式3A MSL'!D33=\"\",\"\",'様式3A MSL'!$D$6)","v":""},{"$f":"IF('様式3A MSL'!D33=\"\",\"\",'様式3A MSL'!G33)","v":""},{"$f":"IF('様式3A MSL'!D33=\"\",\"\",'様式3A MSL'!H33)","v":""},{"$f":"IF('様式3A MSL'!D33=\"\",\"\",'様式3A MSL'!E33)","v":""},{"$f":"IF('様式3A MSL'!D33=\"\",\"\",SUBSTITUTE(CONCATENATE(\"アルペン\",'様式3A MSL'!$D$8,DBCS('様式3A MSL'!$G$8)),\"　\",\"\"))","v":""},{"$f":"IF('様式3A MSL'!D33=\"\",\"\",'様式3A MSL'!B33)","v":""},{"$f":"IF('様式3A MSL'!D33=\"\",\"\",IF('様式3A MSL'!C33=0,\"\",'様式3A MSL'!C33))","v":""}]
[307]
[308,{"$f":"IF('様式3A WSL'!D11=\"\",\"\",ASC('様式3A WSL'!D11))","v":""},{"$f":"IF('様式3A WSL'!D11=\"\",\"\",'様式3A WSL'!$D$6)","v":""},{"$f":"IF('様式3A WSL'!D11=\"\",\"\",'様式3A WSL'!G11)","v":""},{"$f":"IF('様式3A WSL'!D11=\"\",\"\",'様式3A WSL'!H11)","v":""},{"$f":"IF('様式3A WSL'!D11=\"\",\"\",'様式3A WSL'!E11)","v":""},{"$f":"IF('様式3A WSL'!D11=\"\",\"\",SUBSTITUTE(CONCATENATE(\"アルペン\",'様式3A WSL'!$D$8,DBCS('様式3A WSL'!$G$8)),\"　\",\"\"))","v":""},{"$f":"IF('様式3A WSL'!D11=\"\",\"\",'様式3A WSL'!B11)","v":""},{"$f":"IF('様式3A WSL'!D11=\"\",\"\",IF('様式3A WSL'!C11=0,\"\",'様式3A WSL'!C11))","v":""}]
[309,{"$f":"IF('様式3A WSL'!D12=\"\",\"\",ASC('様式3A WSL'!D12))","v":""},{"$f":"IF('様式3A WSL'!D12=\"\",\"\",'様式3A WSL'!$D$6)","v":""},{"$f":"IF('様式3A WSL'!D12=\"\",\"\",'様式3A WSL'!G12)","v":""},{"$f":"IF('様式3A WSL'!D12=\"\",\"\",'様式3A WSL'!H12)","v":""},{"$f":"IF('様式3A WSL'!D12=\"\",\"\",'様式3A WSL'!E12)","v":""},{"$f":"IF('様式3A WSL'!D12=\"\",\"\",SUBSTITUTE(CONCATENATE(\"アルペン\",'様式3A WSL'!$D$8,DBCS('様式3A WSL'!$G$8)),\"　\",\"\"))","v":""},{"$f":"IF('様式3A WSL'!D12=\"\",\"\",'様式3A WSL'!B12)","v":""},{"$f":"IF('様式3A WSL'!D12=\"\",\"\",IF('様式3A WSL'!C12=0,\"\",'様式3A WSL'!C12))","v":""}]
[310,{"$f":"IF('様式3A WSL'!D13=\"\",\"\",ASC('様式3A WSL'!D13))","v":""},{"$f":"IF('様式3A WSL'!D13=\"\",\"\",'様式3A WSL'!$D$6)","v":""},{"$f":"IF('様式3A WSL'!D13=\"\",\"\",'様式3A WSL'!G13)","v":""},{"$f":"IF('様式3A WSL'!D13=\"\",\"\",'様式3A WSL'!H13)","v":""},{"$f":"IF('様式3A WSL'!D13=\"\",\"\",'様式3A WSL'!E13)","v":""},{"$f":"IF('様式3A WSL'!D13=\"\",\"\",SUBSTITUTE(CONCATENATE(\"アルペン\",'様式3A WSL'!$D$8,DBCS('様式3A WSL'!$G$8)),\"　\",\"\"))","v":""},{"$f":"IF('様式3A WSL'!D13=\"\",\"\",'様式3A WSL'!B13)","v":""},{"$f":"IF('様式3A WSL'!D13=\"\",\"\",IF('様式3A WSL'!C13=0,\"\",'様式3A WSL'!C13))","v":""}]
[311,{"$f":"IF('様式3A WSL'!D14=\"\",\"\",ASC('様式3A WSL'!D14))","v":""},{"$f":"IF('様式3A WSL'!D14=\"\",\"\",'様式3A WSL'!$D$6)","v":""},{"$f":"IF('様式3A WSL'!D14=\"\",\"\",'様式3A WSL'!G14)","v":""},{"$f":"IF('様式3A WSL'!D14=\"\",\"\",'様式3A WSL'!H14)","v":""},{"$f":"IF('様式3A WSL'!D14=\"\",\"\",'様式3A WSL'!E14)","v":""},{"$f":"IF('様式3A WSL'!D14=\"\",\"\",SUBSTITUTE(CONCATENATE(\"アルペン\",'様式3A WSL'!$D$8,DBCS('様式3A WSL'!$G$8)),\"　\",\"\"))","v":""},{"$f":"IF('様式3A WSL'!D14=\"\",\"\",'様式3A WSL'!B14)","v":""},{"$f":"IF('様式3A WSL'!D14=\"\",\"\",IF('様式3A WSL'!C14=0,\"\",'様式3A WSL'!C14))","v":""}]
[312,{"$f":"IF('様式3A WSL'!D15=\"\",\"\",ASC('様式3A WSL'!D15))","v":""},{"$f":"IF('様式3A WSL'!D15=\"\",\"\",'様式3A WSL'!$D$6)","v":""},{"$f":"IF('様式3A WSL'!D15=\"\",\"\",'様式3A WSL'!G15)","v":""},{"$f":"IF('様式3A WSL'!D15=\"\",\"\",'様式3A WSL'!H15)","v":""},{"$f":"IF('様式3A WSL'!D15=\"\",\"\",'様式3A WSL'!E15)","v":""},{"$f":"IF('様式3A WSL'!D15=\"\",\"\",SUBSTITUTE(CONCATENATE(\"アルペン\",'様式3A WSL'!$D$8,DBCS('様式3A WSL'!$G$8)),\"　\",\"\"))","v":""},{"$f":"IF('様式3A WSL'!D15=\"\",\"\",'様式3A WSL'!B15)","v":""},{"$f":"IF('様式3A WSL'!D15=\"\",\"\",IF('様式3A WSL'!C15=0,\"\",'様式3A WSL'!C15))","v":""}]
[313,{"$f":"IF('様式3A WSL'!D16=\"\",\"\",ASC('様式3A WSL'!D16))","v":""},{"$f":"IF('様式3A WSL'!D16=\"\",\"\",'様式3A WSL'!$D$6)","v":""},{"$f":"IF('様式3A WSL'!D16=\"\",\"\",'様式3A WSL'!G16)","v":""},{"$f":"IF('様式3A WSL'!D16=\"\",\"\",'様式3A WSL'!H16)","v":""},{"$f":"IF('様式3A WSL'!D16=\"\",\"\",'様式3A WSL'!E16)","v":""},{"$f":"IF('様式3A WSL'!D16=\"\",\"\",SUBSTITUTE(CONCATENATE(\"アルペン\",'様式3A WSL'!$D$8,DBCS('様式3A WSL'!$G$8)),\"　\",\"\"))","v":""},{"$f":"IF('様式3A WSL'!D16=\"\",\"\",'様式3A WSL'!B16)","v":""},{"$f":"IF('様式3A WSL'!D16=\"\",\"\",IF('様式3A WSL'!C16=0,\"\",'様式3A WSL'!C16))","v":""}]
[314,{"$f":"IF('様式3A WSL'!D17=\"\",\"\",ASC('様式3A WSL'!D17))","v":""},{"$f":"IF('様式3A WSL'!D17=\"\",\"\",'様式3A WSL'!$D$6)","v":""},{"$f":"IF('様式3A WSL'!D17=\"\",\"\",'様式3A WSL'!G17)","v":""},{"$f":"IF('様式3A WSL'!D17=\"\",\"\",'様式3A WSL'!H17)","v":""},{"$f":"IF('様式3A WSL'!D17=\"\",\"\",'様式3A WSL'!E17)","v":""},{"$f":"IF('様式3A WSL'!D17=\"\",\"\",SUBSTITUTE(CONCATENATE(\"アルペン\",'様式3A WSL'!$D$8,DBCS('様式3A WSL'!$G$8)),\"　\",\"\"))","v":""},{"$f":"IF('様式3A WSL'!D17=\"\",\"\",'様式3A WSL'!B17)","v":""},{"$f":"IF('様式3A WSL'!D17=\"\",\"\",IF('様式3A WSL'!C17=0,\"\",'様式3A WSL'!C17))","v":""}]
[315,{"$f":"IF('様式3A WSL'!D18=\"\",\"\",ASC('様式3A WSL'!D18))","v":""},{"$f":"IF('様式3A WSL'!D18=\"\",\"\",'様式3A WSL'!$D$6)","v":""},{"$f":"IF('様式3A WSL'!D18=\"\",\"\",'様式3A WSL'!G18)","v":""},{"$f":"IF('様式3A WSL'!D18=\"\",\"\",'様式3A WSL'!H18)","v":""},{"$f":"IF('様式3A WSL'!D18=\"\",\"\",'様式3A WSL'!E18)","v":""},{"$f":"IF('様式3A WSL'!D18=\"\",\"\",SUBSTITUTE(CONCATENATE(\"アルペン\",'様式3A WSL'!$D$8,DBCS('様式3A WSL'!$G$8)),\"　\",\"\"))","v":""},{"$f":"IF('様式3A WSL'!D18=\"\",\"\",'様式3A WSL'!B18)","v":""},{"$f":"IF('様式3A WSL'!D18=\"\",\"\",IF('様式3A WSL'!C18=0,\"\",'様式3A WSL'!C18))","v":""}]
[316,{"$f":"IF('様式3A WSL'!D19=\"\",\"\",ASC('様式3A WSL'!D19))","v":""},{"$f":"IF('様式3A WSL'!D19=\"\",\"\",'様式3A WSL'!$D$6)","v":""},{"$f":"IF('様式3A WSL'!D19=\"\",\"\",'様式3A WSL'!G19)","v":""},{"$f":"IF('様式3A WSL'!D19=\"\",\"\",'様式3A WSL'!H19)","v":""},{"$f":"IF('様式3A WSL'!D19=\"\",\"\",'様式3A WSL'!E19)","v":""},{"$f":"IF('様式3A WSL'!D19=\"\",\"\",SUBSTITUTE(CONCATENATE(\"アルペン\",'様式3A WSL'!$D$8,DBCS('様式3A WSL'!$G$8)),\"　\",\"\"))","v":""},{"$f":"IF('様式3A WSL'!D19=\"\",\"\",'様式3A WSL'!B19)","v":""},{"$f":"IF('様式3A WSL'!D19=\"\",\"\",IF('様式3A WSL'!C19=0,\"\",'様式3A WSL'!C19))","v":""}]
[317,{"$f":"IF('様式3A WSL'!D20=\"\",\"\",ASC('様式3A WSL'!D20))","v":""},{"$f":"IF('様式3A WSL'!D20=\"\",\"\",'様式3A WSL'!$D$6)","v":""},{"$f":"IF('様式3A WSL'!D20=\"\",\"\",'様式3A WSL'!G20)","v":""},{"$f":"IF('様式3A WSL'!D20=\"\",\"\",'様式3A WSL'!H20)","v":""},{"$f":"IF('様式3A WSL'!D20=\"\",\"\",'様式3A WSL'!E20)","v":""},{"$f":"IF('様式3A WSL'!D20=\"\",\"\",SUBSTITUTE(CONCATENATE(\"アルペン\",'様式3A WSL'!$D$8,DBCS('様式3A WSL'!$G$8)),\"　\",\"\"))","v":""},{"$f":"IF('様式3A WSL'!D20=\"\",\"\",'様式3A WSL'!B20)","v":""},{"$f":"IF('様式3A WSL'!D20=\"\",\"\",IF('様式3A WSL'!C20=0,\"\",'様式3A WSL'!C20))","v":""}]
[318,{"$f":"IF('様式3A WSL'!D21=\"\",\"\",ASC('様式3A WSL'!D21))","v":""},{"$f":"IF('様式3A WSL'!D21=\"\",\"\",'様式3A WSL'!$D$6)","v":""},{"$f":"IF('様式3A WSL'!D21=\"\",\"\",'様式3A WSL'!G21)","v":""},{"$f":"IF('様式3A WSL'!D21=\"\",\"\",'様式3A WSL'!H21)","v":""},{"$f":"IF('様式3A WSL'!D21=\"\",\"\",'様式3A WSL'!E21)","v":""},{"$f":"IF('様式3A WSL'!D21=\"\",\"\",SUBSTITUTE(CONCATENATE(\"アルペン\",'様式3A WSL'!$D$8,DBCS('様式3A WSL'!$G$8)),\"　\",\"\"))","v":""},{"$f":"IF('様式3A WSL'!D21=\"\",\"\",'様式3A WSL'!B21)","v":""},{"$f":"IF('様式3A WSL'!D21=\"\",\"\",IF('様式3A WSL'!C21=0,\"\",'様式3A WSL'!C21))","v":""}]
[319,{"$f":"IF('様式3A WSL'!D22=\"\",\"\",ASC('様式3A WSL'!D22))","v":""},{"$f":"IF('様式3A WSL'!D22=\"\",\"\",'様式3A WSL'!$D$6)","v":""},{"$f":"IF('様式3A WSL'!D22=\"\",\"\",'様式3A WSL'!G22)","v":""},{"$f":"IF('様式3A WSL'!D22=\"\",\"\",'様式3A WSL'!H22)","v":""},{"$f":"IF('様式3A WSL'!D22=\"\",\"\",'様式3A WSL'!E22)","v":""},{"$f":"IF('様式3A WSL'!D22=\"\",\"\",SUBSTITUTE(CONCATENATE(\"アルペン\",'様式3A WSL'!$D$8,DBCS('様式3A WSL'!$G$8)),\"　\",\"\"))","v":""},{"$f":"IF('様式3A WSL'!D22=\"\",\"\",'様式3A WSL'!B22)","v":""},{"$f":"IF('様式3A WSL'!D22=\"\",\"\",IF('様式3A WSL'!C22=0,\"\",'様式3A WSL'!C22))","v":""}]
[320,{"$f":"IF('様式3A WSL'!D23=\"\",\"\",ASC('様式3A WSL'!D23))","v":""},{"$f":"IF('様式3A WSL'!D23=\"\",\"\",'様式3A WSL'!$D$6)","v":""},{"$f":"IF('様式3A WSL'!D23=\"\",\"\",'様式3A WSL'!G23)","v":""},{"$f":"IF('様式3A WSL'!D23=\"\",\"\",'様式3A WSL'!H23)","v":""},{"$f":"IF('様式3A WSL'!D23=\"\",\"\",'様式3A WSL'!E23)","v":""},{"$f":"IF('様式3A WSL'!D23=\"\",\"\",SUBSTITUTE(CONCATENATE(\"アルペン\",'様式3A WSL'!$D$8,DBCS('様式3A WSL'!$G$8)),\"　\",\"\"))","v":""},{"$f":"IF('様式3A WSL'!D23=\"\",\"\",'様式3A WSL'!B23)","v":""},{"$f":"IF('様式3A WSL'!D23=\"\",\"\",IF('様式3A WSL'!C23=0,\"\",'様式3A WSL'!C23))","v":""}]
[321,{"$f":"IF('様式3A WSL'!D24=\"\",\"\",ASC('様式3A WSL'!D24))","v":""},{"$f":"IF('様式3A WSL'!D24=\"\",\"\",'様式3A WSL'!$D$6)","v":""},{"$f":"IF('様式3A WSL'!D24=\"\",\"\",'様式3A WSL'!G24)","v":""},{"$f":"IF('様式3A WSL'!D24=\"\",\"\",'様式3A WSL'!H24)","v":""},{"$f":"IF('様式3A WSL'!D24=\"\",\"\",'様式3A WSL'!E24)","v":""},{"$f":"IF('様式3A WSL'!D24=\"\",\"\",SUBSTITUTE(CONCATENATE(\"アルペン\",'様式3A WSL'!$D$8,DBCS('様式3A WSL'!$G$8)),\"　\",\"\"))","v":""},{"$f":"IF('様式3A WSL'!D24=\"\",\"\",'様式3A WSL'!B24)","v":""},{"$f":"IF('様式3A WSL'!D24=\"\",\"\",IF('様式3A WSL'!C24=0,\"\",'様式3A WSL'!C24))","v":""}]
[322,{"$f":"IF('様式3A WSL'!D25=\"\",\"\",ASC('様式3A WSL'!D25))","v":""},{"$f":"IF('様式3A WSL'!D25=\"\",\"\",'様式3A WSL'!$D$6)","v":""},{"$f":"IF('様式3A WSL'!D25=\"\",\"\",'様式3A WSL'!G25)","v":""},{"$f":"IF('様式3A WSL'!D25=\"\",\"\",'様式3A WSL'!H25)","v":""},{"$f":"IF('様式3A WSL'!D25=\"\",\"\",'様式3A WSL'!E25)","v":""},{"$f":"IF('様式3A WSL'!D25=\"\",\"\",SUBSTITUTE(CONCATENATE(\"アルペン\",'様式3A WSL'!$D$8,DBCS('様式3A WSL'!$G$8)),\"　\",\"\"))","v":""},{"$f":"IF('様式3A WSL'!D25=\"\",\"\",'様式3A WSL'!B25)","v":""},{"$f":"IF('様式3A WSL'!D25=\"\",\"\",IF('様式3A WSL'!C25=0,\"\",'様式3A WSL'!C25))","v":""}]
[323,{"$f":"IF('様式3A WSL'!D26=\"\",\"\",ASC('様式3A WSL'!D26))","v":""},{"$f":"IF('様式3A WSL'!D26=\"\",\"\",'様式3A WSL'!$D$6)","v":""},{"$f":"IF('様式3A WSL'!D26=\"\",\"\",'様式3A WSL'!G26)","v":""},{"$f":"IF('様式3A WSL'!D26=\"\",\"\",'様式3A WSL'!H26)","v":""},{"$f":"IF('様式3A WSL'!D26=\"\",\"\",'様式3A WSL'!E26)","v":""},{"$f":"IF('様式3A WSL'!D26=\"\",\"\",SUBSTITUTE(CONCATENATE(\"アルペン\",'様式3A WSL'!$D$8,DBCS('様式3A WSL'!$G$8)),\"　\",\"\"))","v":""},{"$f":"IF('様式3A WSL'!D26=\"\",\"\",'様式3A WSL'!B26)","v":""},{"$f":"IF('様式3A WSL'!D26=\"\",\"\",IF('様式3A WSL'!C26=0,\"\",'様式3A WSL'!C26))","v":""}]
[324,{"$f":"IF('様式3A WSL'!D27=\"\",\"\",ASC('様式3A WSL'!D27))","v":""},{"$f":"IF('様式3A WSL'!D27=\"\",\"\",'様式3A WSL'!$D$6)","v":""},{"$f":"IF('様式3A WSL'!D27=\"\",\"\",'様式3A WSL'!G27)","v":""},{"$f":"IF('様式3A WSL'!D27=\"\",\"\",'様式3A WSL'!H27)","v":""},{"$f":"IF('様式3A WSL'!D27=\"\",\"\",'様式3A WSL'!E27)","v":""},{"$f":"IF('様式3A WSL'!D27=\"\",\"\",SUBSTITUTE(CONCATENATE(\"アルペン\",'様式3A WSL'!$D$8,DBCS('様式3A WSL'!$G$8)),\"　\",\"\"))","v":""},{"$f":"IF('様式3A WSL'!D27=\"\",\"\",'様式3A WSL'!B27)","v":""},{"$f":"IF('様式3A WSL'!D27=\"\",\"\",IF('様式3A WSL'!C27=0,\"\",'様式3A WSL'!C27))","v":""}]
[325,{"$f":"IF('様式3A WSL'!D28=\"\",\"\",ASC('様式3A WSL'!D28))","v":""},{"$f":"IF('様式3A WSL'!D28=\"\",\"\",'様式3A WSL'!$D$6)","v":""},{"$f":"IF('様式3A WSL'!D28=\"\",\"\",'様式3A WSL'!G28)","v":""},{"$f":"IF('様式3A WSL'!D28=\"\",\"\",'様式3A WSL'!H28)","v":""},{"$f":"IF('様式3A WSL'!D28=\"\",\"\",'様式3A WSL'!E28)","v":""},{"$f":"IF('様式3A WSL'!D28=\"\",\"\",SUBSTITUTE(CONCATENATE(\"アルペン\",'様式3A WSL'!$D$8,DBCS('様式3A WSL'!$G$8)),\"　\",\"\"))","v":""},{"$f":"IF('様式3A WSL'!D28=\"\",\"\",'様式3A WSL'!B28)","v":""},{"$f":"IF('様式3A WSL'!D28=\"\",\"\",IF('様式3A WSL'!C28=0,\"\",'様式3A WSL'!C28))","v":""}]
[326,{"$f":"IF('様式3A WSL'!D29=\"\",\"\",ASC('様式3A WSL'!D29))","v":""},{"$f":"IF('様式3A WSL'!D29=\"\",\"\",'様式3A WSL'!$D$6)","v":""},{"$f":"IF('様式3A WSL'!D29=\"\",\"\",'様式3A WSL'!G29)","v":""},{"$f":"IF('様式3A WSL'!D29=\"\",\"\",'様式3A WSL'!H29)","v":""},{"$f":"IF('様式3A WSL'!D29=\"\",\"\",'様式3A WSL'!E29)","v":""},{"$f":"IF('様式3A WSL'!D29=\"\",\"\",SUBSTITUTE(CONCATENATE(\"アルペン\",'様式3A WSL'!$D$8,DBCS('様式3A WSL'!$G$8)),\"　\",\"\"))","v":""},{"$f":"IF('様式3A WSL'!D29=\"\",\"\",'様式3A WSL'!B29)","v":""},{"$f":"IF('様式3A WSL'!D29=\"\",\"\",IF('様式3A WSL'!C29=0,\"\",'様式3A WSL'!C29))","v":""}]
[327,{"$f":"IF('様式3A WSL'!D30=\"\",\"\",ASC('様式3A WSL'!D30))","v":""},{"$f":"IF('様式3A WSL'!D30=\"\",\"\",'様式3A WSL'!$D$6)","v":""},{"$f":"IF('様式3A WSL'!D30=\"\",\"\",'様式3A WSL'!G30)","v":""},{"$f":"IF('様式3A WSL'!D30=\"\",\"\",'様式3A WSL'!H30)","v":""},{"$f":"IF('様式3A WSL'!D30=\"\",\"\",'様式3A WSL'!E30)","v":""},{"$f":"IF('様式3A WSL'!D30=\"\",\"\",SUBSTITUTE(CONCATENATE(\"アルペン\",'様式3A WSL'!$D$8,DBCS('様式3A WSL'!$G$8)),\"　\",\"\"))","v":""},{"$f":"IF('様式3A WSL'!D30=\"\",\"\",'様式3A WSL'!B30)","v":""},{"$f":"IF('様式3A WSL'!D30=\"\",\"\",IF('様式3A WSL'!C30=0,\"\",'様式3A WSL'!C30))","v":""}]
[328,{"$f":"IF('様式3A WSL'!D31=\"\",\"\",ASC('様式3A WSL'!D31))","v":""},{"$f":"IF('様式3A WSL'!D31=\"\",\"\",'様式3A WSL'!$D$6)","v":""},{"$f":"IF('様式3A WSL'!D31=\"\",\"\",'様式3A WSL'!G31)","v":""},{"$f":"IF('様式3A WSL'!D31=\"\",\"\",'様式3A WSL'!H31)","v":""},{"$f":"IF('様式3A WSL'!D31=\"\",\"\",'様式3A WSL'!E31)","v":""},{"$f":"IF('様式3A WSL'!D31=\"\",\"\",SUBSTITUTE(CONCATENATE(\"アルペン\",'様式3A WSL'!$D$8,DBCS('様式3A WSL'!$G$8)),\"　\",\"\"))","v":""},{"$f":"IF('様式3A WSL'!D31=\"\",\"\",'様式3A WSL'!B31)","v":""},{"$f":"IF('様式3A WSL'!D31=\"\",\"\",IF('様式3A WSL'!C31=0,\"\",'様式3A WSL'!C31))","v":""}]
[329,{"$f":"IF('様式3A WSL'!D32=\"\",\"\",ASC('様式3A WSL'!D32))","v":""},{"$f":"IF('様式3A WSL'!D32=\"\",\"\",'様式3A WSL'!$D$6)","v":""},{"$f":"IF('様式3A WSL'!D32=\"\",\"\",'様式3A WSL'!G32)","v":""},{"$f":"IF('様式3A WSL'!D32=\"\",\"\",'様式3A WSL'!H32)","v":""},{"$f":"IF('様式3A WSL'!D32=\"\",\"\",'様式3A WSL'!E32)","v":""},{"$f":"IF('様式3A WSL'!D32=\"\",\"\",SUBSTITUTE(CONCATENATE(\"アルペン\",'様式3A WSL'!$D$8,DBCS('様式3A WSL'!$G$8)),\"　\",\"\"))","v":""},{"$f":"IF('様式3A WSL'!D32=\"\",\"\",'様式3A WSL'!B32)","v":""},{"$f":"IF('様式3A WSL'!D32=\"\",\"\",IF('様式3A WSL'!C32=0,\"\",'様式3A WSL'!C32))","v":""}]
[330,{"$f":"IF('様式3A WSL'!D33=\"\",\"\",ASC('様式3A WSL'!D33))","v":""},{"$f":"IF('様式3A WSL'!D33=\"\",\"\",'様式3A WSL'!$D$6)","v":""},{"$f":"IF('様式3A WSL'!D33=\"\",\"\",'様式3A WSL'!G33)","v":""},{"$f":"IF('様式3A WSL'!D33=\"\",\"\",'様式3A WSL'!H33)","v":""},{"$f":"IF('様式3A WSL'!D33=\"\",\"\",'様式3A WSL'!E33)","v":""},{"$f":"IF('様式3A WSL'!D33=\"\",\"\",SUBSTITUTE(CONCATENATE(\"アルペン\",'様式3A WSL'!$D$8,DBCS('様式3A WSL'!$G$8)),\"　\",\"\"))","v":""},{"$f":"IF('様式3A WSL'!D33=\"\",\"\",'様式3A WSL'!B33)","v":""},{"$f":"IF('様式3A WSL'!D33=\"\",\"\",IF('様式3A WSL'!C33=0,\"\",'様式3A WSL'!C33))","v":""}]

{"sheet":"編集用①","index":1,"n_rows":330,"n_cols":9,"rows_kept":330,"cut":false,"hidden":true,"merged":[]}
[1]
[2,"01304672","青森県","野辺地",3,"小笠原有規","リレー男子",1]
[3,"01304671","青森県","野辺地",2,"久保蓮","リレー男子",1]
[4,"01304670","青森県","野辺地",2,"甲地尚哉","リレー男子",1]
[5,"01304669","青森県","野辺地",2,"野田頭扶","リレー男子",1]
[6,"01305139","青森県","野辺地",1,"髙野幹也","リレー男子",1]
[7,"01305142","青森県","野辺地",1,"小比類巻遼","リレー男子",1]
[8,"","","","","","",""]
[9]
[10,"01306193","青森県","弘前工業",2,"佐藤彪流","リレー男子",2]
[11,"01306886","青森県","弘前工業",1,"木村樹","リレー男子",2]
[12,"01306887","青森県","弘前工業",1,"算用子勇悟","リレー男子",2]
[13,"01306765","青森県","弘前工業",2,"神優作","リレー男子",2]
[14,"","","","","","",""]
[15,"","","","","","",""]
[16,"","","","","","",""]
[17]
[18,"","","","","","",""]
[19,"","","","","","",""]
[20,"","","","","","",""]
[21,"","","","","","",""]
[22,"","","","","","",""]
[23,"","","","","","",""]
[24,"","","","","","",""]
[25]
[26,"","","","","","",""]
[27,"","","","","","",""]
[28,"","","","","","",""]
[29,"","","","","","",""]
[30,"","","","","","",""]
[31,"","","","","","",""]
[32,"","","","","","",""]
[33]
[34,"","","","","","",""]
[35,"","","","","","",""]
[36,"","","","","","",""]
[37,"","","","","","",""]
[38,"","","","","","",""]
[39,"","","","","","",""]
[40,"","","","","","",""]
[41]
[42,"01303997","青森県","野辺地",3,"荒川愛花","リレー女子",1]
[43,"01305146","青森県","野辺地",1,"横濵汐莉","リレー女子",1]
[44,"01305147","青森県","野辺地",1,"佐藤千亜希","リレー女子",1]
[45,"01306888","青森県","野辺地",2,"熊谷ひより","リレー女子",1]
[46,"","","","","","",""]
[47,"","","","","","",""]
[48,"","","","","","",""]
[49]
[50,"","","","","","",""]
[51,"","","","","","",""]
[52,"","","","","","",""]
[53,"","","","","","",""]
[54,"","","","","","",""]
[55,"","","","","","",""]
[56,"","","","","","",""]
[57]
[58,"","","","","","",""]
[59,"","","","","","",""]
[60,"","","","","","",""]
[61,"","","","","","",""]
[62,"","","","","","",""]
[63,"","","","","","",""]
[64,"","","","","","",""]
[65]
[66,"","","","","","",""]
[67,"","","","","","",""]
[68,"","","","","","",""]
[69,"","","","","","",""]
[70,"","","","","","",""]
[71,"","","","","","",""]
[72,"","","","","","",""]
[73]
[74,"","","","","","",""]
[75,"","","","","","",""]
[76,"","","","","","",""]
[77,"","","","","","",""]
[78,"","","","","","",""]
[79,"","","","","","",""]
[80,"","","","","","",""]
[81]
[82,"01304672","青森県","野辺地",3,"小笠原有規","ノルディック男子フリー10km",230,""]
[83,"01304677","青森県","東奥義塾",2,"境晃平","ノルディック男子フリー10km",205,""]
[84,"01304671","青森県","野辺地",2,"久保蓮","ノルディック男子フリー10km",200,""]
[85,"01305139","青森県","野辺地",1,"髙野幹也","ノルディック男子フリー10km",181,""]
[86,"","","","","","","",""]
[87,"01304673","青森県","東奥義塾",2,"松山日向","ノルディック男子フリー10km",156,""]
[88,"01306169","青森県","東奥義塾",2,"中野淳","ノルディック男子フリー10km",142,""]
[89,"01306887","青森県","弘前工業",1,"算用子勇悟","ノルディック男子フリー10km",125,""]
[90,"","","","","","","",""]
[91,"","","","","","","",""]
[92,"01306193","青森県","弘前工業",2,"佐藤彪流","ノルディック男子フリー10km",106,""]
[93,"01306886","青森県","弘前工業",1,"木村樹","ノルディック男子フリー10km",95,""]
[94,"","","","","","","",""]
[95,"","","","","","","",""]
[96,"","","","","","","",""]
[97,"","","","","","","",""]
[98,"","","","","","","",""]
[99,"","","","","","","",""]
[100,"01304670","青森県","野辺地",2,"甲地尚哉","ノルディック男子フリー10km","補欠",""]
[101,"","","","","","","",""]
[102,"","","","","","","",""]
[103,"","","","","","","",""]
[104,"","","","","","","",""]
[105]
[106,"01305146","青森県","野辺地",1,"横濵汐莉","ノルディック女子フリー5km",200,""]
[107,"01303997","青森県","野辺地",3,"荒川愛花","ノルディック女子フリー5km",187,""]
[108,"01304686","青森県","東奥義塾",2,"水木彩","ノルディック女子フリー5km",172,""]
[109,"","","","","","","",""]
[110,"","","","","","","",""]
[111,"01305147","青森県","野辺地",1,"佐藤千亜希","ノルディック女子フリー5km",159,""]
[112,"","","","","","","",""]
[113,"","","","","","","",""]
[114,"","","","","","","",""]
[115,"","","","","","","",""]
[116,"","","","","","","",""]
[117,"","","","","","","",""]
[118,"","","","","","","",""]
[119,"","","","","","","",""]
[120,"","","","","","","",""]
[121,"","","","","","","",""]
[122,"","","","","","","",""]
[123,"","","","","","","",""]
[124,"","","","","","","",""]
[125,"","","","","","","",""]
[126,"","","","","","","",""]
[127,"","","","","","","",""]
[128,"","","","","","","",""]
[129]
[130,"01304671","青森県","野辺地",2,"久保蓮","ノルディック男子クラシカル10km",197,""]
[131,"01304672","青森県","野辺地",3,"小笠原有規","ノルディック男子クラシカル10km",188,""]
[132,"01305139","青森県","野辺地",1,"髙野幹也","ノルディック男子クラシカル10km",186,""]
[133,"","","","","","","",""]
[134,"","","","","","","",""]
[135,"01304677","青森県","東奥義塾",2,"境晃平","ノルディック男子クラシカル10km",173,""]
[136,"01304673","青森県","東奥義塾",2,"松山日向","ノルディック男子クラシカル10km",160,""]
[137,"01306169","青森県","東奥義塾",2,"中野淳","ノルディック男子クラシカル10km",136,""]
[138,"","","","","","","",""]
[139,"","","","","","","",""]
[140,"01306193","青森県","弘前工業",2,"佐藤彪流","ノルディック男子クラシカル10km",91,""]
[141,"01306887","青森県","弘前工業",1,"算用子勇悟","ノルディック男子クラシカル10km",73,""]
[142,"01306886","青森県","弘前工業",1,"木村樹","ノルディック男子クラシカル10km",67,""]
[143,"","","","","","","",""]
[144,"","","","","","","",""]
[145,"","","","","","","",""]
[146,"","","","","","","",""]
[147,"","","","","","","",""]
[148,"01305142","青森県","野辺地",1,"小比類巻遼","ノルディック男子クラシカル10km","補欠",""]
[149,"","","","","","","",""]
[150,"","","","","","","",""]
[151,"","","","","","","",""]
[152,"","","","","","","",""]
[153]
[154,"01305146","青森県","野辺地",1,"横濵汐莉","ノルディック女子クラシカル5km",207,""]
[155,"01303997","青森県","野辺地",3,"荒川愛花","ノルディック女子クラシカル5km",185,""]
[156,"01304686","青森県","東奥義塾",2,"水木彩","ノルディック女子クラシカル5km",175,""]
[157,"","","","","","","",""]
[158,"","","","","","","",""]
[159,"01305147","青森県","野辺地",1,"佐藤千亜希","ノルディック女子クラシカル5km",146,""]
[160,"","","","","","","",""]
[161,"","","","","","","",""]
[162,"","","","","","","",""]
[163,"","","","","","","",""]
[164,"","","","","","","",""]
[165,"","","","","","","",""]
[166,"","","","","","","",""]
[167,"","","","","","","",""]
[168,"","","","","","","",""]
[169,"","","","","","","",""]
[170,"","","","","","","",""]
[171,"","","","","","","",""]
[172,"","","","","","","",""]
[173,"","","","","","","",""]
[174,"","","","","","","",""]
[175,"","","","","","","",""]
[176,"","","","","","","",""]
[177]
[178,"01100595","青森県","五所川原農林",2,"山中隆寛","ノルディック男子スペシャルジャンプ",36,""]
[179,"","","","","","","",""]
[180,"","","","","","","",""]
[181,"","","","","","","",""]
[182,"","","","","","","",""]
[183,"","","","","","","",""]
[184,"","","","","","","",""]
[185,"","","","","","","",""]
[186,"","","","","","","",""]
[187,"","","","","","","",""]
[188,"","","","","","","",""]
[189,"","","","","","","",""]
[190,"","","","","","","",""]
[191,"","","","","","","",""]
[192,"","","","","","","",""]
[193,"","","","","","","",""]
[194,"","","","","","","",""]
[195,"","","","","","","",""]
[196,"","","","","","","",""]
[197,"","","","","","","",""]
[198,"","","","","","","",""]
[199,"","","","","","","",""]
[200,"","","","","","","",""]
[201]
[202,"","","","","","","",""]
[203,"","","","","","","",""]
[204,"","","","","","","",""]
[205,"","","","","","","",""]
[206,"","","","","","","",""]
[207,"","","","","","","",""]
[208,"","","","","","","",""]
[209,"","","","","","","",""]
[210,"","","","","","","",""]
[211]
[212,"01200425","青森県","五所川原農林",2,"山中隆寛","ノルディック男子ノルディックコンバインド",27,""]
[213,"","","","","","","",""]
[214,"","","","","","","",""]
[215,"","","","","","","",""]
[216,"","","","","","","",""]
[217,"","","","","","","",""]
[218,"","","","","","","",""]
[219,"","","","","","","",""]
[220,"","","","","","","",""]
[221,"","","","","","","",""]
[222,"","","","","","","",""]
[223,"","","","","","","",""]
[224,"","","","","","","",""]
[225,"","","","","","","",""]
[226,"","","","","","","",""]
[227,"","","","","","","",""]
[228,"","","","","","","",""]
[229,"","","","","","","",""]
[230,"","","","","","","",""]
[231,"","","","","","","",""]
[232,"","","","","","","",""]
[233,"","","","","","","",""]
[234,"","","","","","","",""]
[235]
[236,"03009452","青森県","東奥義塾",3,"中平　賢郷","アルペン男子ジャイアントスラローム",1,"特"]
[237,"03009240","青森県","東奥義塾",3,"山田　椋喬","アルペン男子ジャイアントスラローム",2,""]
[238,"","","","","","","",""]
[239,"03010849","青森県","青森",1,"川村　修輝","アルペン男子ジャイアントスラローム",3,""]
[240,"","","","","","","",""]
[241,"","","","","","","",""]
[242,"03011104","青森県","東奥義塾",1,"永田　翔希","アルペン男子ジャイアントスラローム",4,""]
[243,"","","","","","","",""]
[244,"","","","","","","",""]
[245,"03012120","青森県","青森山田",1,"今泉　悠弥","アルペン男子ジャイアントスラローム",5,""]
[246,"","","","","","","",""]
[247,"","","","","","","",""]
[248,"03008976","青森県","弘前学院聖愛",3,"塚本　宙仁","アルペン男子ジャイアントスラローム",7,""]
[249,"","","","","","","",""]
[250,"","","","","","","",""]
[251,"03012510","青森県","五所川原農林",1,"奈良　祐哉","アルペン男子ジャイアントスラローム",9,""]
[252,"","","","","","","",""]
[253,"","","","","","","",""]
[254,"03008978","青森県","東奥義塾",3,"三浦　賢人","アルペン男子ジャイアントスラローム","補欠",""]
[255,"","","","","","","",""]
[256,"","","","","","","",""]
[257,"","","","","","","",""]
[258,"","","","","","","",""]
[259]
[260,"03010524","青森県","柴田女子",2,"秦　麗ら","アルペン女子ジャイアントスラローム",1,""]
[261,"03010449","青森県","東奥義塾",3,"佐藤　春香","アルペン女子ジャイアントスラローム",2,""]
[262,"","","","","","","",""]
[263,"03008286","青森県","柴田女子",3,"廣瀬　菜実","アルペン女子ジャイアントスラローム",3,""]
[264,"","","","","","","",""]
[265,"","","","","","","",""]
[266,"03010165","青森県","柴田女子",1,"蛯原　杏奈","アルペン女子ジャイアントスラローム",4,""]
[267,"","","","","","","",""]
[268,"","","","","","","",""]
[269,"03009455","青森県","七戸",3,"大池　唯華","アルペン女子ジャイアントスラローム",5,""]
[270,"","","","","","","",""]
[271,"","","","","","","",""]
[272,"03011044","青森県","弘前実業",2,"竹村　歩巳","アルペン女子ジャイアントスラローム",6,""]
[273,"","","","","","","",""]
[274,"","","","","","","",""]
[275,"03010864","青森県","弘前実業",2,"山内　新菜","アルペン女子ジャイアントスラローム",8,""]
[276,"","","","","","","",""]
[277,"","","","","","","",""]
[278,"03009197","青森県","柴田女子",3,"折口　美沙","アルペン女子ジャイアントスラローム","補欠",""]
[279,"","","","","","","",""]
[280,"","","","","","","",""]
[281,"","","","","","","",""]
[282,"","","","","","","",""]
[283]
[284,"03009452","青森県","東奥義塾",3,"中平　賢郷","アルペン男子スラローム",1,""]
[285,"03009240","青森県","東奥義塾",3,"山田　椋喬","アルペン男子スラローム",2,""]
[286,"","","","","","","",""]
[287,"03012947","青森県","東奥義塾",1,"平井　翔","アルペン男子スラローム",3,""]
[288,"03008976","青森県","弘前学院聖愛",3,"塚本　宙仁","アルペン男子スラローム",4,""]
[289,"","","","","","","",""]
[290,"03010849","青森県","青森",1,"川村　修輝","アルペン男子スラローム",5,""]
[291,"","","","","","","",""]
[292,"","","","","","","",""]
[293,"03012120","青森県","青森山田",1,"今泉　悠弥","アルペン男子スラローム",6,""]
[294,"","","","","","","",""]
[295,"","","","","","","",""]
[296,"03012510","青森県","五所川原農林",1,"奈良　祐哉","アルペン男子スラローム",7,""]
[297,"","","","","","","",""]
[298,"","","","","","","",""]
[299,"03010847","青森県","十和田工業",2,"大池　黎","アルペン男子スラローム",8,""]
[300,"","","","","","","",""]
[301,"","","","","","","",""]
[302,"","","","","","","",""]
[303,"","","","","","","",""]
[304,"","","","","","","",""]
[305,"","","","","","","",""]
[306,"","","","","","","",""]
[307]
[308,"03010524","青森県","柴田女子",2,"秦　麗ら","アルペン女子スラローム",1,""]
[309,"03009455","青森県","七戸",3,"大池　唯華","アルペン女子スラローム",2,""]
[310,"","","","","","","",""]
[311,"03011044","青森県","弘前実業",2,"竹村　歩巳","アルペン女子スラローム",3,""]
[312,"03010165","青森県","柴田女子",1,"蛯原　杏奈","アルペン女子スラローム",4,""]
[313,"","","","","","","",""]
[314,"03009197","青森県","柴田女子",3,"折口　美沙","アルペン女子スラローム",5,""]
[315,"","","","","","","",""]
[316,"","","","","","","",""]
[317,"03010864","青森県","弘前実業",2,"山内　新菜","アルペン女子スラローム",6,""]
[318,"","","","","","","",""]
[319,"","","","","","","",""]
[320,"03012144","青森県","五所川原農林",1,"マロンメンゲ杏","アルペン女子スラローム",7,""]
[321,"","","","","","","",""]
[322,"","","","","","","",""]
[323,"03009757","青森県","青森山田",3,"鳴海　怜奈","アルペン女子スラローム",8,""]
[324,"","","","","","","",""]
[325,"","","","","","","",""]
[326,"","","","","","","",""]
[327,"","","","","","","",""]
[328,"","","","","","","",""]
[329,"","","","","","","",""]
[330,"","","","","","","",""]

{"sheet":"ソート①","index":2,"n_rows":330,"n_cols":9,"rows_kept":330,"cut":false,"hidden":true,"merged":[]}
[178,"01100595","青森県","五所川原農林",2,"山中隆寛","ノルディック男子スペシャルジャンプ",36,""]
[212,"01200425","青森県","五所川原農林",2,"山中隆寛","ノルディック男子ノルディックコンバインド",27,""]
[42,"01303997","青森県","野辺地",3,"荒川愛花","リレー女子",1]
[107,"01303997","青森県","野辺地",3,"荒川愛花","ノルディック女子フリー5km",187,""]
[155,"01303997","青森県","野辺地",3,"荒川愛花","ノルディック女子クラシカル5km",185,""]
[5,"01304669","青森県","野辺地",2,"野田頭扶","リレー男子",1]
[4,"01304670","青森県","野辺地",2,"甲地尚哉","リレー男子",1]
[100,"01304670","青森県","野辺地",2,"甲地尚哉","ノルディック男子フリー10km","補欠",""]
[3,"01304671","青森県","野辺地",2,"久保蓮","リレー男子",1]
[84,"01304671","青森県","野辺地",2,"久保蓮","ノルディック男子フリー10km",200,""]
[130,"01304671","青森県","野辺地",2,"久保蓮","ノルディック男子クラシカル10km",197,""]
[2,"01304672","青森県","野辺地",3,"小笠原有規","リレー男子",1]
[82,"01304672","青森県","野辺地",3,"小笠原有規","ノルディック男子フリー10km",230,""]
[131,"01304672","青森県","野辺地",3,"小笠原有規","ノルディック男子クラシカル10km",188,""]
[87,"01304673","青森県","東奥義塾",2,"松山日向","ノルディック男子フリー10km",156,""]
[136,"01304673","青森県","東奥義塾",2,"松山日向","ノルディック男子クラシカル10km",160,""]
[83,"01304677","青森県","東奥義塾",2,"境晃平","ノルディック男子フリー10km",205,""]
[135,"01304677","青森県","東奥義塾",2,"境晃平","ノルディック男子クラシカル10km",173,""]
[108,"01304686","青森県","東奥義塾",2,"水木彩","ノルディック女子フリー5km",172,""]
[156,"01304686","青森県","東奥義塾",2,"水木彩","ノルディック女子クラシカル5km",175,""]
[6,"01305139","青森県","野辺地",1,"髙野幹也","リレー男子",1]
[85,"01305139","青森県","野辺地",1,"髙野幹也","ノルディック男子フリー10km",181,""]
[132,"01305139","青森県","野辺地",1,"髙野幹也","ノルディック男子クラシカル10km",186,""]
[7,"01305142","青森県","野辺地",1,"小比類巻遼","リレー男子",1]
[148,"01305142","青森県","野辺地",1,"小比類巻遼","ノルディック男子クラシカル10km","補欠",""]
[43,"01305146","青森県","野辺地",1,"横濵汐莉","リレー女子",1]
[106,"01305146","青森県","野辺地",1,"横濵汐莉","ノルディック女子フリー5km",200,""]
[154,"01305146","青森県","野辺地",1,"横濵汐莉","ノルディック女子クラシカル5km",207,""]
[44,"01305147","青森県","野辺地",1,"佐藤千亜希","リレー女子",1]
[111,"01305147","青森県","野辺地",1,"佐藤千亜希","ノルディック女子フリー5km",159,""]
[159,"01305147","青森県","野辺地",1,"佐藤千亜希","ノルディック女子クラシカル5km",146,""]
[88,"01306169","青森県","東奥義塾",2,"中野淳","ノルディック男子フリー10km",142,""]
[137,"01306169","青森県","東奥義塾",2,"中野淳","ノルディック男子クラシカル10km",136,""]
[10,"01306193","青森県","弘前工業",2,"佐藤彪流","リレー男子",2]
[92,"01306193","青森県","弘前工業",2,"佐藤彪流","ノルディック男子フリー10km",106,""]
[140,"01306193","青森県","弘前工業",2,"佐藤彪流","ノルディック男子クラシカル10km",91,""]
[13,"01306765","青森県","弘前工業",2,"神優作","リレー男子",2]
[11,"01306886","青森県","弘前工業",1,"木村樹","リレー男子",2]
[93,"01306886","青森県","弘前工業",1,"木村樹","ノルディック男子フリー10km",95,""]
[142,"01306886","青森県","弘前工業",1,"木村樹","ノルディック男子クラシカル10km",67,""]
[12,"01306887","青森県","弘前工業",1,"算用子勇悟","リレー男子",2]
[89,"01306887","青森県","弘前工業",1,"算用子勇悟","ノルディック男子フリー10km",125,""]
[141,"01306887","青森県","弘前工業",1,"算用子勇悟","ノルディック男子クラシカル10km",73,""]
[45,"01306888","青森県","野辺地",2,"熊谷ひより","リレー女子",1]
[263,"03008286","青森県","柴田女子",3,"廣瀬　菜実","アルペン女子ジャイアントスラローム",3,""]
[248,"03008976","青森県","弘前学院聖愛",3,"塚本　宙仁","アルペン男子ジャイアントスラローム",7,""]
[288,"03008976","青森県","弘前学院聖愛",3,"塚本　宙仁","アルペン男子スラローム",4,""]
[254,"03008978","青森県","東奥義塾",3,"三浦　賢人","アルペン男子ジャイアントスラローム","補欠",""]
[278,"03009197","青森県","柴田女子",3,"折口　美沙","アルペン女子ジャイアントスラローム","補欠",""]
[314,"03009197","青森県","柴田女子",3,"折口　美沙","アルペン女子スラローム",5,""]
[237,"03009240","青森県","東奥義塾",3,"山田　椋喬","アルペン男子ジャイアントスラローム",2,""]
[285,"03009240","青森県","東奥義塾",3,"山田　椋喬","アルペン男子スラローム",2,""]
[236,"03009452","青森県","東奥義塾",3,"中平　賢郷","アルペン男子ジャイアントスラローム",1,"特"]
[284,"03009452","青森県","東奥義塾",3,"中平　賢郷","アルペン男子スラローム",1,""]
[269,"03009455","青森県","七戸",3,"大池　唯華","アルペン女子ジャイアントスラローム",5,""]
[309,"03009455","青森県","七戸",3,"大池　唯華","アルペン女子スラローム",2,""]
[323,"03009757","青森県","青森山田",3,"鳴海　怜奈","アルペン女子スラローム",8,""]
[266,"03010165","青森県","柴田女子",1,"蛯原　杏奈","アルペン女子ジャイアントスラローム",4,""]
[312,"03010165","青森県","柴田女子",1,"蛯原　杏奈","アルペン女子スラローム",4,""]
[261,"03010449","青森県","東奥義塾",3,"佐藤　春香","アルペン女子ジャイアントスラローム",2,""]
[260,"03010524","青森県","柴田女子",2,"秦　麗ら","アルペン女子ジャイアントスラローム",1,""]
[308,"03010524","青森県","柴田女子",2,"秦　麗ら","アルペン女子スラローム",1,""]
[299,"03010847","青森県","十和田工業",2,"大池　黎","アルペン男子スラローム",8,""]
[239,"03010849","青森県","青森",1,"川村　修輝","アルペン男子ジャイアントスラローム",3,""]
[290,"03010849","青森県","青森",1,"川村　修輝","アルペン男子スラローム",5,""]
[275,"03010864","青森県","弘前実業",2,"山内　新菜","アルペン女子ジャイアントスラローム",8,""]
[317,"03010864","青森県","弘前実業",2,"山内　新菜","アルペン女子スラローム",6,""]
[272,"03011044","青森県","弘前実業",2,"竹村　歩巳","アルペン女子ジャイアントスラローム",6,""]
[311,"03011044","青森県","弘前実業",2,"竹村　歩巳","アルペン女子スラローム",3,""]
[242,"03011104","青森県","東奥義塾",1,"永田　翔希","アルペン男子ジャイアントスラローム",4,""]
[245,"03012120","青森県","青森山田",1,"今泉　悠弥","アルペン男子ジャイアントスラローム",5,""]
[293,"03012120","青森県","青森山田",1,"今泉　悠弥","アルペン男子スラローム",6,""]
[320,"03012144","青森県","五所川原農林",1,"マロンメンゲ杏","アルペン女子スラローム",7,""]
[251,"03012510","青森県","五所川原農林",1,"奈良　祐哉","アルペン男子ジャイアントスラローム",9,""]
[296,"03012510","青森県","五所川原農林",1,"奈良　祐哉","アルペン男子スラローム",7,""]
[287,"03012947","青森県","東奥義塾",1,"平井　翔","アルペン男子スラローム",3,""]
[8,"","","","","","",""]
[14,"","","","","","",""]
[15,"","","","","","",""]
[16,"","","","","","",""]
[18,"","","","","","",""]
[19,"","","","","","",""]
[20,"","","","","","",""]
[21,"","","","","","",""]
[22,"","","","","","",""]
[23,"","","","","","",""]
[24,"","","","","","",""]
[26,"","","","","","",""]
[27,"","","","","","",""]
[28,"","","","","","",""]
[29,"","","","","","",""]
[30,"","","","","","",""]
[31,"","","","","","",""]
[32,"","","","","","",""]
[34,"","","","","","",""]
[35,"","","","","","",""]
[36,"","","","","","",""]
[37,"","","","","","",""]
[38,"","","","","","",""]
[39,"","","","","","",""]
[40,"","","","","","",""]
[46,"","","","","","",""]
[47,"","","","","","",""]
[48,"","","","","","",""]
[50,"","","","","","",""]
[51,"","","","","","",""]
[52,"","","","","","",""]
[53,"","","","","","",""]
[54,"","","","","","",""]
[55,"","","","","","",""]
[56,"","","","","","",""]
[58,"","","","","","",""]
[59,"","","","","","",""]
[60,"","","","","","",""]
[61,"","","","","","",""]
[62,"","","","","","",""]
[63,"","","","","","",""]
[64,"","","","","","",""]
[66,"","","","","","",""]
[67,"","","","","","",""]
[68,"","","","","","",""]
[69,"","","","","","",""]
[70,"","","","","","",""]
[71,"","","","","","",""]
[72,"","","","","","",""]
[74,"","","","","","",""]
[75,"","","","","","",""]
[76,"","","","","","",""]
[77,"","","","","","",""]
[78,"","","","","","",""]
[79,"","","","","","",""]
[80,"","","","","","",""]
[86,"","","","","","","",""]
[90,"","","","","","","",""]
[91,"","","","","","","",""]
[94,"","","","","","","",""]
[95,"","","","","","","",""]
[96,"","","","","","","",""]
[97,"","","","","","","",""]
[98,"","","","","","","",""]
[99,"","","","","","","",""]
[101,"","","","","","","",""]
[102,"","","","","","","",""]
[103,"","","","","","","",""]
[104,"","","","","","","",""]
[109,"","","","","","","",""]
[110,"","","","","","","",""]
[112,"","","","","","","",""]
[113,"","","","","","","",""]
[114,"","","","","","","",""]
[115,"","","","","","","",""]
[116,"","","","","","","",""]
[117,"","","","","","","",""]
[118,"","","","","","","",""]
[119,"","","","","","","",""]
[120,"","","","","","","",""]
[121,"","","","","","","",""]
[122,"","","","","","","",""]
[123,"","","","","","","",""]
[124,"","","","","","","",""]
[125,"","","","","","","",""]
[126,"","","","","","","",""]
[127,"","","","","","","",""]
[128,"","","","","","","",""]
[133,"","","","","","","",""]
[134,"","","","","","","",""]
[138,"","","","","","","",""]
[139,"","","","","","","",""]
[143,"","","","","","","",""]
[144,"","","","","","","",""]
[145,"","","","","","","",""]
[146,"","","","","","","",""]
[147,"","","","","","","",""]
[149,"","","","","","","",""]
[150,"","","","","","","",""]
[151,"","","","","","","",""]
[152,"","","","","","","",""]
[157,"","","","","","","",""]
[158,"","","","","","","",""]
[160,"","","","","","","",""]
[161,"","","","","","","",""]
[162,"","","","","","","",""]
[163,"","","","","","","",""]
[164,"","","","","","","",""]
[165,"","","","","","","",""]
[166,"","","","","","","",""]
[167,"","","","","","","",""]
[168,"","","","","","","",""]
[169,"","","","","","","",""]
[170,"","","","","","","",""]
[171,"","","","","","","",""]
[172,"","","","","","","",""]
[173,"","","","","","","",""]
[174,"","","","","","","",""]
[175,"","","","","","","",""]
[176,"","","","","","","",""]
[179,"","","","","","","",""]
[180,"","","","","","","",""]
[181,"","","","","","","",""]
[182,"","","","","","","",""]
[183,"","","","","","","",""]
[184,"","","","","","","",""]
[185,"","","","","","","",""]
[186,"","","","","","","",""]
[187,"","","","","","","",""]
[188,"","","","","","","",""]
[189,"","","","","","","",""]
[190,"","","","","","","",""]
[191,"","","","","","","",""]
[192,"","","","","","","",""]
[193,"","","","","","","",""]
[194,"","","","","","","",""]
[195,"","","","","","","",""]
[196,"","","","","","","",""]
[197,"","","","","","","",""]
[198,"","","","","","","",""]
[199,"","","","","","","",""]
[200,"","","","","","","",""]
[202,"","","","","","","",""]
[203,"","","","","","","",""]
[204,"","","","","","","",""]
[205,"","","","","","","",""]
[206,"","","","","","","",""]
[207,"","","","","","","",""]
[208,"","","","","","","",""]
[209,"","","","","","","",""]
[210,"","","","","","","",""]
[213,"","","","","","","",""]
[214,"","","","","","","",""]
[215,"","","","","","","",""]
[216,"","","","","","","",""]
[217,"","","","","","","",""]
[218,"","","","","","","",""]
[219,"","","","","","","",""]
[220,"","","","","","","",""]
[221,"","","","","","","",""]
[222,"","","","","","","",""]
[223,"","","","","","","",""]
[224,"","","","","","","",""]
[225,"","","","","","","",""]
[226,"","","","","","","",""]
[227,"","","","","","","",""]
[228,"","","","","","","",""]
[229,"","","","","","","",""]
[230,"","","","","","","",""]
[231,"","","","","","","",""]
[232,"","","","","","","",""]
[233,"","","","","","","",""]
[234,"","","","","","","",""]
[238,"","","","","","","",""]
[240,"","","","","","","",""]
[241,"","","","","","","",""]
[243,"","","","","","","",""]
[244,"","","","","","","",""]
[246,"","","","","","","",""]
[247,"","","","","","","",""]
[249,"","","","","","","",""]
[250,"","","","","","","",""]
[252,"","","","","","","",""]
[253,"","","","","","","",""]
[255,"","","","","","","",""]
[256,"","","","","","","",""]
[257,"","","","","","","",""]
[258,"","","","","","","",""]
[262,"","","","","","","",""]
[264,"","","","","","","",""]
[265,"","","","","","","",""]
[267,"","","","","","","",""]
[268,"","","","","","","",""]
[270,"","","","","","","",""]
[271,"","","","","","","",""]
[273,"","","","","","","",""]
[274,"","","","","","","",""]
[276,"","","","","","","",""]
[277,"","","","","","","",""]
[279,"","","","","","","",""]
[280,"","","","","","","",""]
[281,"","","","","","","",""]
[282,"","","","","","","",""]
[286,"","","","","","","",""]
[289,"","","","","","","",""]
[291,"","","","","","","",""]
[292,"","","","","","","",""]
[294,"","","","","","","",""]
[295,"","","","","","","",""]
[297,"","","","","","","",""]
[298,"","","","","","","",""]
[300,"","","","","","","",""]
[301,"","","","","","","",""]
[302,"","","","","","","",""]
[303,"","","","","","","",""]
[304,"","","","","","","",""]
[305,"","","","","","","",""]
[306,"","","","","","","",""]
[310,"","","","","","","",""]
[313,"","","","","","","",""]
[315,"","","","","","","",""]
[316,"","","","","","","",""]
[318,"","","","","","","",""]
[319,"","","","","","","",""]
[321,"","","","","","","",""]
[322,"","","","","","","",""]
[324,"","","","","","","",""]
[325,"","","","","","","",""]
[326,"","","","","","","",""]
[327,"","","","","","","",""]
[328,"","","","","","","",""]
[329,"","","","","","","",""]
[330,"","","","","","","",""]
[1]
[9]
[17]
[25]
[33]
[41]
[49]
[57]
[65]
[73]
[81]
[105]
[129]
[153]
[177]
[201]
[211]
[235]
[259]
[283]
[307]

{"sheet":"★完成★","index":3,"n_rows":77,"n_cols":9,"rows_kept":77,"cut":false,"hidden":true,"merged":[[0,7,0,8]]}
["番号","ＳＡＪ競技者管理番号","都道府県名","学校名","学年","選手氏名","種目","ランキング"]
[2,"01304672","青森県","野辺地",3,"小笠原有規","リレー男子",1]
[3,"01304671","青森県","野辺地",2,"久保蓮","リレー男子",1]
[4,"01304670","青森県","野辺地",2,"甲地尚哉","リレー男子",1]
[5,"01304669","青森県","野辺地",2,"野田頭扶","リレー男子",1]
[6,"01305139","青森県","野辺地",1,"髙野幹也","リレー男子",1]
[7,"01305142","青森県","野辺地",1,"小比類巻遼","リレー男子",1]
[10,"01306193","青森県","弘前工業",2,"佐藤彪流","リレー男子",2]
[11,"01306886","青森県","弘前工業",1,"木村樹","リレー男子",2]
[12,"01306887","青森県","弘前工業",1,"算用子勇悟","リレー男子",2]
[13,"01306765","青森県","弘前工業",2,"神優作","リレー男子",2]
[42,"01303997","青森県","野辺地",3,"荒川愛花","リレー女子",1]
[43,"01305146","青森県","野辺地",1,"横濵汐莉","リレー女子",1]
[44,"01305147","青森県","野辺地",1,"佐藤千亜希","リレー女子",1]
[45,"01306888","青森県","野辺地",2,"熊谷ひより","リレー女子",1]
[82,"01304672","青森県","野辺地",3,"小笠原有規","ノルディック男子フリー10km",230,""]
[83,"01304677","青森県","東奥義塾",2,"境晃平","ノルディック男子フリー10km",205,""]
[84,"01304671","青森県","野辺地",2,"久保蓮","ノルディック男子フリー10km",200,""]
[85,"01305139","青森県","野辺地",1,"髙野幹也","ノルディック男子フリー10km",181,""]
[87,"01304673","青森県","東奥義塾",2,"松山日向","ノルディック男子フリー10km",156,""]
[88,"01306169","青森県","東奥義塾",2,"中野淳","ノルディック男子フリー10km",142,""]
[89,"01306887","青森県","弘前工業",1,"算用子勇悟","ノルディック男子フリー10km",125,""]
[92,"01306193","青森県","弘前工業",2,"佐藤彪流","ノルディック男子フリー10km",106,""]
[93,"01306886","青森県","弘前工業",1,"木村樹","ノルディック男子フリー10km",95,""]
[100,"01304670","青森県","野辺地",2,"甲地尚哉","ノルディック男子フリー10km","補欠",""]
[106,"01305146","青森県","野辺地",1,"横濵汐莉","ノルディック女子フリー5km",200,""]
[107,"01303997","青森県","野辺地",3,"荒川愛花","ノルディック女子フリー5km",187,""]
[108,"01304686","青森県","東奥義塾",2,"水木彩","ノルディック女子フリー5km",172,""]
[111,"01305147","青森県","野辺地",1,"佐藤千亜希","ノルディック女子フリー5km",159,""]
[130,"01304671","青森県","野辺地",2,"久保蓮","ノルディック男子クラシカル10km",197,""]
[131,"01304672","青森県","野辺地",3,"小笠原有規","ノルディック男子クラシカル10km",188,""]
[132,"01305139","青森県","野辺地",1,"髙野幹也","ノルディック男子クラシカル10km",186,""]
[135,"01304677","青森県","東奥義塾",2,"境晃平","ノルディック男子クラシカル10km",173,""]
[136,"01304673","青森県","東奥義塾",2,"松山日向","ノルディック男子クラシカル10km",160,""]
[137,"01306169","青森県","東奥義塾",2,"中野淳","ノルディック男子クラシカル10km",136,""]
[140,"01306193","青森県","弘前工業",2,"佐藤彪流","ノルディック男子クラシカル10km",91,""]
[141,"01306887","青森県","弘前工業",1,"算用子勇悟","ノルディック男子クラシカル10km",73,""]
[142,"01306886","青森県","弘前工業",1,"木村樹","ノルディック男子クラシカル10km",67,""]
[148,"01305142","青森県","野辺地",1,"小比類巻遼","ノルディック男子クラシカル10km","補欠",""]
[154,"01305146","青森県","野辺地",1,"横濵汐莉","ノルディック女子クラシカル5km",207,""]
[155,"01303997","青森県","野辺地",3,"荒川愛花","ノルディック女子クラシカル5km",185,""]
[156,"01304686","青森県","東奥義塾",2,"水木彩","ノルディック女子クラシカル5km",175,""]
[159,"01305147","青森県","野辺地",1,"佐藤千亜希","ノルディック女子クラシカル5km",146,""]
[178,"01100595","青森県","五所川原農林",2,"山中隆寛","ノルディック男子スペシャルジャンプ",36,""]
[212,"01200425","青森県","五所川原農林",2,"山中隆寛","ノルディック男子ノルディックコンバインド",27,""]
[236,"03009452","青森県","東奥義塾",3,"中平　賢郷","アルペン男子ジャイアントスラローム",1,"特"]
[237,"03009240","青森県","東奥義塾",3,"山田　椋喬","アルペン男子ジャイアントスラローム",2,""]
[239,"03010849","青森県","青森",1,"川村　修輝","アルペン男子ジャイアントスラローム",3,""]
[242,"03011104","青森県","東奥義塾",1,"永田　翔希","アルペン男子ジャイアントスラローム",4,""]
[245,"03012120","青森県","青森山田",1,"今泉　悠弥","アルペン男子ジャイアントスラローム",5,""]
[248,"03008976","青森県","弘前学院聖愛",3,"塚本　宙仁","アルペン男子ジャイアントスラローム",7,""]
[251,"03012510","青森県","五所川原農林",1,"奈良　祐哉","アルペン男子ジャイアントスラローム",9,""]
[254,"03008978","青森県","東奥義塾",3,"三浦　賢人","アルペン男子ジャイアントスラローム","補欠",""]
[260,"03010524","青森県","柴田女子",2,"秦　麗ら","アルペン女子ジャイアントスラローム",1,""]
[261,"03010449","青森県","東奥義塾",3,"佐藤　春香","アルペン女子ジャイアントスラローム",2,""]
[263,"03008286","青森県","柴田女子",3,"廣瀬　菜実","アルペン女子ジャイアントスラローム",3,""]
[266,"03010165","青森県","柴田女子",1,"蛯原　杏奈","アルペン女子ジャイアントスラローム",4,""]
[269,"03009455","青森県","七戸",3,"大池　唯華","アルペン女子ジャイアントスラローム",5,""]
[272,"03011044","青森県","弘前実業",2,"竹村　歩巳","アルペン女子ジャイアントスラローム",6,""]
[275,"03010864","青森県","弘前実業",2,"山内　新菜","アルペン女子ジャイアントスラローム",8,""]
[278,"03009197","青森県","柴田女子",3,"折口　美沙","アルペン女子ジャイアントスラローム","補欠",""]
[284,"03009452","青森県","東奥義塾",3,"中平　賢郷","アルペン男子スラローム",1,""]
[285,"03009240","青森県","東奥義塾",3,"山田　椋喬","アルペン男子スラローム",2,""]
[287,"03012947","青森県","東奥義塾",1,"平井　翔","アルペン男子スラローム",3,""]
[288,"03008976","青森県","弘前学院聖愛",3,"塚本　宙仁","アルペン男子スラローム",4,""]
[290,"03010849","青森県","青森",1,"川村　修輝","アルペン男子スラローム",5,""]
[293,"03012120","青森県","青森山田",1,"今泉　悠弥","アルペン男子スラローム",6,""]
[296,"03012510","青森県","五所川原農林",1,"奈良　祐哉","アルペン男子スラローム",7,""]
[299,"03010847","青森県","十和田工業",2,"大池　黎","アルペン男子スラローム",8,""]
[308,"03010524","青森県","柴田女子",2,"秦　麗ら","アルペン女子スラローム",1,""]
[309,"03009455","青森県","七戸",3,"大池　唯華","アルペン女子スラローム",2,""]
[311,"03011044","青森県","弘前実業",2,"竹村　歩巳","アルペン女子スラローム",3,""]
[312,"03010165","青森県","柴田女子",1,"蛯原　杏奈","アルペン女子スラローム",4,""]
[314,"03009197","青森県","柴田女子",3,"折口　美沙","アルペン女子スラローム",5,""]
[317,"03010864","青森県","弘前実業",2,"山内　新菜","アルペン女子スラローム",6,""]
[320,"03012144","青森県","五所川原農林",1,"マロンメンゲ杏","アルペン女子スラローム",7,""]
[323,"03009757","青森県","青森山田",3,"鳴海　怜奈","アルペン女子スラローム",8,""]

{"sheet":"様式１ ","index":4,"n_rows":53,"n_cols":17,"rows_kept":53,"cut":false,"hidden":false,"merged":[[51,8,51,11],[51,12,51,15],[19,2,19,16],[40,16,45,16],[40,12,45,15],[46,12,49,15],[46,16,49,16],[40,11,43,11],[44,11,45,11],[48,11,49,11],[44,8,45,10],[48,8,49,10],[47,8,47,10],[39,1,39,4],[42,6,42,7],[39,5,39,7],[46,0,49,0],[48,6,49,7],[48,5,49,5],[40,0,45,0],[44,6,45,7],[44,5,45,5],[48,1,48,4],[49,1,49,4],[44,1,44,4],[45,1,45,4],[46,5,46,7],[46,1,46,4],[47,1,47,4],[47,6,47,7],[40,1,40,4],[41,6,41,7],[0,15,0,16],[16,0,17,0],[16,1,16,6],[16,7,17,8],[16,9,17,16],[13,0,13,16],[7,9,7,14],[8,10,8,15],[9,0,9,16],[3,0,3,4],[6,7,6,9],[6,10,6,16],[7,7,7,8],[4,0,4,4],[5,0,5,4],[11,0,11,16],[25,13,25,16],[26,13,26,16],[27,13,27,16],[25,3,25,12],[26,3,26,12],[27,3,27,12],[18,0,22,0],[21,9,21,16],[17,1,17,6],[18,2,18,16],[20,2,20,6],[22,1,22,16],[21,2,21,6],[20,9,20,16],[41,8,43,10],[41,1,41,4],[42,1,42,4],[43,1,43,4],[43,6,43,7],[39,8,39,11],[39,12,39,16],[36,3,36,12],[30,13,30,16],[31,13,31,16],[32,13,32,16],[30,3,30,12],[31,3,31,12],[32,3,32,12],[33,3,33,12],[34,3,34,12],[35,13,35,16],[36,13,36,16],[37,0,37,16],[35,3,35,12],[28,3,28,12],[29,3,29,12],[33,13,33,16],[34,13,34,16],[28,13,28,16],[29,13,29,16]]}
["様式　１",null,null,null,null,null,null,null,null,null,null,null,null,null,null,"E-mail"]
[null,null,null,null,null,null,null,null,null,null,"平成",null,"年",null,"月",null,"日"]
[]
["平成２９年度全国高等学校総合体育大会"]
["第６７回全国高等学校スキー大会"]
["高山市実行委員会事務局",null,null,null,null,"御中"]
[null,null,null,null,null,null,null,null,null,null,"高等学校体育連盟"]
[null,null,null,null,null,null,null,"会長",null,null,null,null,null,null,null,null,"印"]
[]
["第６７回全国高等学校スキー大会参加申し込みについて（送付）"]
[]
["このことについて、下記のとおり関係書類を添えて申込みいたします。"]
[]
["記"]
[]
["①申込責任者"]
["氏　名",null,null,null,null,null,null,"学校名"]
[]
["連絡先","〒"]
[]
[null,"TEL",null,null,null,null,null,null,"携帯"]
[null,"FAX",null,null,null,null,null,null,"E-Mail"]
[]
[]
["②送付書類内訳"]
["様式　１",null,"部","大会参加申込書(本書）",null,null,null,null,null,null,null,null,null,"PDF添付or Fax後郵送"]
["様式　２",null,"部","都道府県選手団役員編成一覧表",null,null,null,null,null,null,null,null,null,"メールのみ"]
["様式　３Ａ",null,"部","アルペン種目別参加申込書（男女別）",null,null,null,null,null,null,null,null,null,"メールのみ"]
["様式　３Ｎ",null,"部","ﾉﾙﾃﾞｨｯｸ種目別参加申込書（男女別）及び女子ｽﾍﾟｼｬﾙｼﾞｬﾝﾌﾟ公開競技参加申込書",null,null,null,null,null,null,null,null,null,"メールのみ"]
["様式　３Ｒ",null,"部","都道府県別リレー参加申込書（男女別）",null,null,null,null,null,null,null,null,null,"メールのみ"]
["様式　４",null,"部","学校別出場認知書（男女別）",null,null,null,null,null,null,null,null,null,"Ｍail or Fax後郵送"]
["様式　５－１",null,"部","都道府県選手団宿泊申込書（ＡＬ・ＣＣ都道府県選手団宿泊申込書）",null,null,null,null,null,null,null,null,null,"メールのみ"]
["様式　５－２",null,"部","ジャンプ・コンバインド種目宿舎報告書",null,null,null,null,null,null,null,null,null,"メールのみ"]
["様式　６",null,"部","学校別宿泊申込書",null,null,null,null,null,null,null,null,null,"メールのみ"]
["様式　７",null,"部","都道府県役員宿泊申込書",null,null,null,null,null,null,null,null,null,"メールのみ"]
["様式　８",null,"部","視察申請及び宿泊申込書【視察を派遣する都道府県のみ】",null,null,null,null,null,null,null,null,null,"メールのみ"]
[null,null,"部","都道府県予選会公式成績（リザルト）",null,null,null,null,null,null,null,null,null,"PDF添付or Fax後郵送"]
["＊様式１、４のMail・Faxは、公印が押印してあるものを送ること。"]
["③送金明細","＊岐阜県開催種目、北海道開催種目をそれぞれの開催地実行委員会に振り込むこと。"]
["開催地","種別",null,null,null,"内訳",null,null,"開催地別小計",null,null,null,"開催地別金額"]
["岐阜県　　　　　（アルペン）　　（ｸﾛｽｶﾝﾄﾘｰ）","〇参加料",null,null,null,null,null,null,null,null,null,"円",{"$f":"I42+I45","v":0},null,null,null,"円"]
[null,"　個人１種目（4,000円）",null,null,null,{"$f":"SUM('様式3N MF:様式3A WSL'!D35)","v":0},"種目",null,{"$f":"F42*4000+F43*8000+F44*6000","v":0},{"$f":"G43*4000+G44*8000+G45*6000","v":{"$error":"#VALUE!"}},0]
[null,"　リレー男子（8,000円）",null,null,null,{"$f":"SUM('様式3R M'!D50:D51)","v":0},"チーム",null,{"$f":"F44*4000+F45*8000+F46*6000","v":0},{"$error":"#VALUE!"},0]
[null,"　リレー女子（6,000円）",null,null,null,{"$f":"SUM('様式3R W'!D50:D51)","v":0},"チーム",null,{"$f":"F45*4000+F46*8000+F47*6000","v":0},{"$error":"#VALUE!"},0]
[null,"〇プログラム代",null,null,null,null,"部",null,{"$f":"F45*1000","v":0},null,null,"円"]
[null,"　（1,000円）"]
["北海道　　　（ジャンプ）　（N・ｺﾝﾊﾞｲﾝﾄﾞ）　","〇参加料",null,null,null,null,null,null,null,null,null,null,{"$f":"SUM(I48:K50)","v":0},null,null,null,"円"]
[null,"　個人１種目（4,000円）",null,null,null,{"$f":"SUM('様式3N SJ:様式3N NC'!D35)","v":0},"種目",null,{"$f":"F48*4000","v":0},null,null,"円"]
[null,"〇プログラム代",null,null,null,null,"部",null,{"$f":"F49*1000","v":0},null,null,"円"]
[null,"　（1,000円）"]
[]
[null,null,null,null,null,null,null,null,"合計金額",null,null,null,{"$f":"M41+M47","v":0},null,null,null,"円"]
["＊裏面に金融機関発行の振込受領書の写しを貼付してください。"]

{"sheet":"様式２","index":5,"n_rows":40,"n_cols":9,"rows_kept":40,"cut":false,"hidden":false,"merged":[[21,5,22,9],[22,2,22,4],[39,0,40,1],[39,2,39,4],[40,2,40,4],[36,5,37,9],[37,2,38,4],[38,6,38,9],[33,1,35,1],[33,5,34,9],[26,5,26,9],[31,2,32,4],[28,2,29,4],[27,5,28,9],[21,0,22,1],[21,2,21,4],[30,1,32,1],[26,0,26,1],[26,2,26,4],[30,2,30,4],[27,2,27,4],[7,2,7,4],[0,8,0,9],[7,0,9,1],[8,2,9,4],[7,5,8,5],[7,6,8,9],[2,0,2,9],[3,0,3,9],[5,0,5,1],[5,2,5,5],[9,6,9,9],[10,0,14,1],[11,3,11,5],[14,7,14,9],[19,0,20,1],[19,2,19,4],[20,2,20,4],[13,3,13,4],[18,2,18,4],[16,5,16,9],[16,0,16,1],[13,6,13,9],[17,0,18,1],[17,2,17,4],[17,5,18,9],[16,2,16,4],[19,5,20,9],[40,5,40,9],[39,5,39,9],[35,6,35,9],[23,0,24,1],[23,2,23,4],[23,5,24,9],[24,2,24,4],[27,0,38,0],[36,1,38,1],[36,2,36,4],[34,2,35,4],[33,2,33,4],[32,6,32,9],[29,6,29,9],[30,5,31,9],[27,1,29,1]]}
["様式　２",null,null,null,null,null,null,null,"E-mail"]
[]
["第６７回全国高等学校スキー大会"]
["都道府県選手団役員編成表"]
[]
["都道府県名",null,{"$f":"'様式１ '!$H$7","v":0}]
[]
["選手団代表者",null,null,null,null,"役職名"]
[]
[null,null,null,null,null,"学校名"]
["連絡先"]
[null,null,"携帯"]
[]
[null,null,"Tel",null,null,"Ｅ‐Mail"]
[]
[]
["役　職",null,"氏　　名",null,null,"役職名(都道府県高体連）"]
["団　長"]
[]
["副団長"]
[]
["総監督"]
[]
["総　務"]
[]
[]
["役　職",null,"氏　　名",null,null,"学校名及び連絡先"]
["種目別　　　代表監督","AL"]
[]
[null,null,null,null,null,"携　帯"]
[null,"CC"]
[]
[null,null,null,null,null,"携　帯"]
[null,"SJ"]
[]
[null,null,null,null,null,"携　帯"]
[null,"NC"]
[]
[null,null,null,null,null,"携　帯"]
["旗　手"]

{"sheet":"様式3R M","index":6,"n_rows":54,"n_cols":13,"rows_kept":54,"cut":false,"hidden":false,"merged":[[24,1,24,4],[25,1,26,4],[27,1,28,2],[27,6,27,8],[29,6,29,8],[24,6,24,8],[25,6,25,8],[26,6,26,8],[38,6,38,8],[25,9,25,11],[28,9,28,11],[35,3,36,4],[40,0,46,0],[40,6,40,8],[45,1,46,2],[45,3,46,4],[45,6,45,8],[46,6,46,8],[40,1,40,4],[41,1,42,4],[43,1,44,2],[43,3,44,4],[29,1,30,2],[32,1,32,4],[33,1,34,4],[35,1,36,2],[29,3,30,4],[32,0,38,0],[32,6,32,8],[37,1,38,2],[24,0,30,0],[28,6,28,8],[27,3,28,4],[43,6,43,8],[32,9,32,11],[34,9,34,11],[33,6,33,8],[34,6,34,8],[35,6,35,8],[41,6,41,8],[27,9,27,11],[26,9,26,11],[29,9,29,11],[30,9,30,11],[33,9,33,11],[30,6,30,8],[17,1,18,4],[16,0,22,0],[16,1,16,4],[19,1,20,2],[19,3,20,4],[13,3,14,4],[11,1,12,2],[21,1,22,2],[22,6,22,8],[21,3,22,4],[18,6,18,8],[21,6,21,8],[19,6,19,8],[20,6,20,8],[0,0,0,1],[13,1,14,2],[4,0,4,2],[8,0,14,0],[1,2,1,12],[2,2,2,12],[4,3,4,4],[4,7,4,10],[14,6,14,8],[10,6,10,8],[11,9,11,11],[12,9,12,11],[13,9,13,11],[12,6,12,8],[13,6,13,8],[6,0,6,2],[6,3,6,4],[11,3,12,4],[8,1,8,4],[9,1,10,4],[18,9,18,11],[24,9,24,11],[5,7,6,10],[9,9,9,11],[10,9,10,11],[11,6,11,8],[8,6,8,8],[8,9,8,11],[9,6,9,8],[17,6,17,8],[14,9,14,11],[16,9,16,11],[17,9,17,11],[16,6,16,8],[19,9,19,11],[20,9,20,11],[21,9,21,11],[22,9,22,11],[49,0,50,2],[51,0,52,2],[49,3,50,3],[49,4,50,4],[51,3,52,3],[51,4,52,4],[53,7,53,12],[35,9,35,11],[40,9,40,11],[36,9,36,11],[37,9,37,11],[38,9,38,11],[44,6,44,8],[42,6,42,8],[36,6,36,8],[37,6,37,8],[45,9,45,11],[46,9,46,11],[43,9,43,11],[44,9,44,11],[41,9,41,11],[42,9,42,11],[37,3,38,4],[49,7,49,12]]}
["様式　３Ｒ",null,null,null,null,null,null,null,null,null,null,null,"E-mail"]
[null,null,"第　６７　回　全　国　高　等　学　校　ス　キ　ー　大　会"]
[null,null," 都　道　府　県　別　リ レ ー 　参　加　申　込　書"]
[]
["都道府県名",null,null,{"$f":"'様式１ '!$H$7","v":0},null,null,null,"記入責任者"]
[]
["性　　別",null,null,"男　子"]
[]
[1,"学　校　名",null,null,null,"№","選　手　氏　名",null,null,"ＳＡＪ競技者番号",null,null,"学　年"]
[null,null,null,null,null,1]
[null,null,null,null,null,2]
[null,"監督氏名",null,null,null,3]
[null,null,null,null,null,4]
[null,"前年度成績",null,null,null,5]
[null,null,null,null,null,6]
[]
[2,"学　校　名",null,null,null,"№","選　手　氏　名",null,null,"ＳＡＪ競技者番号",null,null,"学　年"]
[null,null,null,null,null,1]
[null,null,null,null,null,2]
[null,"監督氏名",null,null,null,3]
[null,null,null,null,null,4]
[null,"前年度成績",null,null,null,5]
[null,null,null,null,null,6]
[]
[3,"学　校　名",null,null,null,"№","選　手　氏　名",null,null,"ＳＡＪ競技者番号",null,null,"学　年"]
[null,null,null,null,null,1]
[null,null,null,null,null,2]
[null,"監督氏名",null,null,null,3]
[null,null,null,null,null,4]
[null,"前年度成績",null,null,null,5]
[null,null,null,null,null,6]
[]
[4,"学　校　名",null,null,null,"№","選　手　氏　名",null,null,"ＳＡＪ競技者番号",null,null,"学　年"]
[null,null,null,null,null,1]
[null,null,null,null,null,2]
[null,"監督氏名",null,null,null,3]
[null,null,null,null,null,4]
[null,"前年度成績",null,null,null,5]
[null,null,null,null,null,6]
[]
[5,"学　校　名",null,null,null,"№","選　手　氏　名",null,null,"ＳＡＪ競技者番号",null,null,"学　年"]
[null,null,null,null,null,1]
[null,null,null,null,null,2]
[null,"監督氏名",null,null,null,3]
[null,null,null,null,null,4]
[null,"前年度成績",null,null,null,5]
[null,null,null,null,null,6]
[]
[null,null,null,null,null,null,"※　記入上の注意　"]
["参加申込チーム数",null,null,null,"チーム",null,"①","学校名は６文字以内（高校・高は使わず）の略称で記入してください。"]
[null,null,null,null,null,null,"②","男子は６名以内で記入してください。"]
["都道府県出場枠",null,null,null,"チーム",null,"③","ＳＡＪ競技者番号は必ず記入してください。"]
[null,null,null,null,null,null,"④","前年度成績がある場合は必ず記入してください。"]
[null,null,null,null,null,null,"⑤","参加申込チーム数と都道府県出場枠を記入してください."]

{"sheet":"様式3R W","index":7,"n_rows":54,"n_cols":13,"rows_kept":54,"cut":false,"hidden":false,"merged":[[53,7,53,12],[49,0,50,2],[51,0,52,2],[49,3,50,3],[49,4,50,4],[51,3,52,3],[51,4,52,4],[38,9,38,11],[42,9,42,11],[45,9,45,11],[46,9,46,11],[43,9,43,11],[44,9,44,11],[49,7,49,12],[41,9,41,11],[40,9,40,11],[45,3,46,4],[45,6,45,8],[43,1,44,2],[43,3,44,4],[40,1,40,4],[41,1,42,4],[43,6,43,8],[44,6,44,8],[17,9,17,11],[18,9,18,11],[24,9,24,11],[26,9,26,11],[19,9,19,11],[25,9,25,11],[36,9,36,11],[37,9,37,11],[4,3,4,4],[4,7,4,10],[14,6,14,8],[10,6,10,8],[30,9,30,11],[33,9,33,11],[35,9,35,11],[22,9,22,11],[26,6,26,8],[27,3,28,4],[9,6,9,8],[11,3,12,4],[13,3,14,4],[13,6,13,8],[8,6,8,8],[12,6,12,8],[11,6,11,8],[29,9,29,11],[32,9,32,11],[34,9,34,11],[27,9,27,11],[28,9,28,11],[0,0,0,1],[13,1,14,2],[4,0,4,2],[8,0,14,0],[1,2,1,12],[2,2,2,12],[16,9,16,11],[20,9,20,11],[21,9,21,11],[14,9,14,11],[11,9,11,11],[12,9,12,11],[13,9,13,11],[11,1,12,2],[17,6,17,8],[18,6,18,8],[5,7,6,10],[9,9,9,11],[6,0,6,2],[6,3,6,4],[8,1,8,4],[9,1,10,4],[10,9,10,11],[8,9,8,11],[38,6,38,8],[41,6,41,8],[33,6,33,8],[34,6,34,8],[32,0,38,0],[29,1,30,2],[32,1,32,4],[33,1,34,4],[35,1,36,2],[29,3,30,4],[35,3,36,4],[37,3,38,4],[35,6,35,8],[32,6,32,8],[37,1,38,2],[40,0,46,0],[40,6,40,8],[45,1,46,2],[42,6,42,8],[46,6,46,8],[24,0,30,0],[28,6,28,8],[25,6,25,8],[36,6,36,8],[37,6,37,8],[27,6,27,8],[24,6,24,8],[24,1,24,4],[25,1,26,4],[27,1,28,2],[29,6,29,8],[30,6,30,8],[16,0,22,0],[16,6,16,8],[22,6,22,8],[21,3,22,4],[16,1,16,4],[17,1,18,4],[19,6,19,8],[20,6,20,8],[21,6,21,8],[19,1,20,2],[19,3,20,4],[21,1,22,2]]}
["様式　３Ｒ",null,null,null,null,null,null,null,null,null,null,null,"E-mail"]
[null,null,"第　６７　回　全　国　高　等　学　校　ス　キ　ー　大　会"]
[null,null," 都　道　府　県　別　リ レ ー 　参　加　申　込　書"]
[]
["都道府県名",null,null,{"$f":"'様式１ '!H7","v":0},{"$f":"'様式１ '!I7","v":0},null,null,"記入責任者"]
[]
["性　　別",null,null,"女　子"]
[]
[1,"学　校　名",null,null,null,"№","選　手　氏　名",null,null,"ＳＡＪ競技者番号",null,null,"学　年"]
[null,null,null,null,null,1]
[null,null,null,null,null,2]
[null,"監督氏名",null,null,null,3]
[null,null,null,null,null,4]
[null,"前年度成績",null,null,null,5]
[]
[]
[2,"学　校　名",null,null,null,"№","選　手　氏　名",null,null,"ＳＡＪ競技者番号",null,null,"学　年"]
[null,null,null,null,null,1]
[null,null,null,null,null,2]
[null,"監督氏名",null,null,null,3]
[null,null,null,null,null,4]
[null,"前年度成績",null,null,null,5]
[]
[]
[3,"学　校　名",null,null,null,"№","選　手　氏　名",null,null,"ＳＡＪ競技者番号",null,null,"学　年"]
[null,null,null,null,null,1]
[null,null,null,null,null,2]
[null,"監督氏名",null,null,null,3]
[null,null,null,null,null,4]
[null,"前年度成績",null,null,null,5]
[]
[]
[4,"学　校　名",null,null,null,"№","選　手　氏　名",null,null,"ＳＡＪ競技者番号",null,null,"学　年"]
[null,null,null,null,null,1]
[null,null,null,null,null,2]
[null,"監督氏名",null,null,null,3]
[null,null,null,null,null,4]
[null,"前年度成績",null,null,null,5]
[]
[]
[5,"学　校　名",null,null,null,"№","選　手　氏　名",null,null,"ＳＡＪ競技者番号",null,null,"学　年"]
[null,null,null,null,null,1]
[null,null,null,null,null,2]
[null,"監督氏名",null,null,null,3]
[null,null,null,null,null,4]
[null,"前年度成績",null,null,null,5]
[]
[]
[null,null,null,null,null,null,"※　記入上の注意　"]
["参加申込チーム数",null,null,null,"チーム",null,"①","学校名は６文字以内（高校・高は使わず）の略称で記入してください。"]
[null,null,null,null,null,null,"②","女子は５名以内で記入してください。"]
["都道府県出場枠",null,null,null,"チーム",null,"③","ＳＡＪ競技者番号は必ず記入してください。"]
[null,null,null,null,null,null,"④","前年度成績がある場合は必ず記入してください。"]
[null,null,null,null,null,null,"⑤","参加申込チーム数と都道府県出場枠を記入してください."]

{"sheet":"様式3N MF","index":8,"n_rows":45,"n_cols":8,"rows_kept":45,"cut":false,"hidden":false,"merged":[[8,6,8,7],[11,4,11,5],[12,1,12,2],[12,4,12,5],[9,4,9,5],[0,0,0,1],[1,0,1,7],[2,0,2,7],[5,0,5,2],[3,0,3,7],[15,0,19,0],[17,1,17,2],[19,1,19,2],[19,4,19,5],[10,4,10,5],[15,1,15,2],[16,1,16,2],[15,4,15,5],[10,0,14,0],[10,1,10,2],[13,1,13,2],[14,4,14,5],[7,0,7,2],[9,1,9,2],[24,4,24,5],[23,1,23,2],[23,4,23,5],[16,4,16,5],[11,1,11,2],[13,4,13,5],[14,1,14,2],[17,4,17,5],[18,1,18,2],[18,4,18,5],[22,1,22,2],[21,1,21,2],[21,4,21,5],[24,1,24,2],[22,4,22,5],[20,4,20,5],[28,0,32,0],[28,1,28,2],[29,1,29,2],[20,0,23,0],[20,1,20,2],[25,1,25,2],[24,0,27,0],[26,1,26,2],[26,4,26,5],[25,4,25,5],[35,0,35,2],[32,1,32,2],[27,1,27,2],[30,4,30,5],[31,4,31,5],[30,1,30,2],[31,1,31,2],[27,4,27,5],[34,0,34,2],[29,4,29,5],[32,4,32,5],[28,4,28,5],[43,1,43,6],[44,1,44,6],[38,1,38,7],[39,1,39,6],[40,1,40,6],[41,1,41,6],[42,1,42,6]]}
["様式　３Ｎ",null,null,null,null,null,null,"E-mail"]
["第　67　回　全　国　高　等　学　校　ス　キ　ー　大　会"]
[" 種　目　別　参　加　申　込　書　"]
["《　ノ　ル　デ　ィ　ッ　ク　》"]
[]
["都道府県名",null,null,{"$f":"'様式１ '!H7","v":0},null,"記入責任者"]
[]
["性　　別",null,null,"男　子",null,"種　　目","フリー10km"]
[]
["ｸﾞﾙｰﾌﾟ","仮出発番号",null,"ＳＡＪ競技者番号","選　手　氏　名",null,"学　校　名","学　年"]
["第４グループ"]
[]
[]
[]
[]
["第３グループ"]
[]
[]
[]
[]
["第２グループ"]
[]
[]
[]
["第１グループ"]
[]
[]
[]
["海外・補欠"]
[]
[]
[]
[]
[]
["参加申込人数",null,null,null,"名"]
["都道府県出場枠",null,null,null,"名"]
[]
["※　記入上の注意　"]
["①","第４グループから第３・第２・第１グループの順に、都道府県ランキング上位の選手から順番に記入してください。　　"]
["②","各都道府県に与えられた仮出発番号は、必ずすべて記入してください。（出場がない場合も記入してください） 　"]
["③","SAJ競技者番号は正確に記入してください。"]
["④","学校名は6文字以内（高校・高は使わず）の略称で記入してください。"]
["⑤","１校４名以上出場の場合は、学校対抗得点対象選手（３名）の学年に○が付いた学年を選択してください。"]
["⑥","海外（海外特枠選手）・補欠は該当を選択してください。"]
["⑦","都道府県出場枠と参加申込人数（海外特枠選手は含まず）を記入してください。"]

{"sheet":"様式3N WF","index":9,"n_rows":45,"n_cols":8,"rows_kept":45,"cut":false,"hidden":false,"merged":[[30,4,30,5],[31,4,31,5],[32,4,32,5],[35,0,35,2],[34,0,34,2],[28,0,32,0],[28,1,28,2],[29,1,29,2],[30,1,30,2],[31,1,31,2],[29,4,29,5],[32,1,32,2],[28,4,28,5],[20,0,23,0],[20,1,20,2],[20,4,20,5],[26,1,26,2],[26,4,26,5],[24,0,27,0],[24,1,24,2],[24,4,24,5],[25,1,25,2],[25,4,25,5],[27,1,27,2],[27,4,27,5],[23,1,23,2],[23,4,23,5],[22,1,22,2],[22,4,22,5],[21,1,21,2],[21,4,21,5],[10,4,10,5],[13,4,13,5],[14,4,14,5],[12,4,12,5],[14,1,14,2],[12,1,12,2],[19,1,19,2],[19,4,19,5],[17,1,17,2],[17,4,17,5],[18,1,18,2],[18,4,18,5],[16,1,16,2],[10,0,14,0],[10,1,10,2],[13,1,13,2],[11,1,11,2],[15,4,15,5],[15,0,19,0],[15,1,15,2],[11,4,11,5],[16,4,16,5],[9,1,9,2],[9,4,9,5],[0,0,0,1],[1,0,1,7],[2,0,2,7],[5,0,5,2],[3,0,3,7],[7,0,7,2],[8,6,8,7],[44,1,44,6],[38,1,38,7],[39,1,39,6],[40,1,40,6],[41,1,41,6],[42,1,42,6],[43,1,43,6]]}
["様式　３Ｎ",null,null,null,null,null,null,"E-mail"]
["第　６７　回　全　国　高　等　学　校　ス　キ　ー　大　会"]
[" 種　目　別　参　加　申　込　書　"]
["《　ノ　ル　デ　ィ　ッ　ク　》"]
[]
["都道府県名",null,null,{"$f":"'様式１ '!H7","v":0},null,"記入責任者"]
[]
["性　　別",null,null,"女　子",null,"種　　目","フリー5km"]
[]
["ｸﾞﾙｰﾌﾟ","仮出発番号",null,"ＳＡＪ競技者番号","選　手　氏　名",null,"学　校　名","学　年"]
["第４グループ"]
[]
[]
[]
[]
["第３グループ"]
[]
[]
[]
[]
["第２グループ"]
[]
[]
[]
["第１グループ"]
[]
[]
[]
["海外・補欠"]
[]
[]
[]
[]
[]
["参加申込人数",null,null,null,"名"]
["都道府県出場枠",null,null,null,"名"]
[]
["※　記入上の注意　"]
["①","第４グループから第３・第２・第１グループの順に、都道府県ランキング上位の選手から順番に記入してください。　　"]
["②","各都道府県に与えられた仮出発番号は、必ずすべて記入してください。 （出場がない場合も記入してください）　"]
["③","SAJ競技者番号は正確に記入してください。"]
["④","学校名は6文字以内（高校・高は使わず）の略称で記入してください。"]
["⑤","１校４名以上出場の場合は、学校対抗得点対象選手（３名）の学年に○が付いた学年を選択してください。"]
["⑥","海外（海外特枠選手）・補欠は該当を選択してください。"]
["⑦","都道府県出場枠と参加申込人数（海外特枠選手は含まず）を記入してください。"]

{"sheet":"様式3N MC","index":10,"n_rows":45,"n_cols":8,"rows_kept":45,"cut":false,"hidden":false,"merged":[[8,6,8,7],[11,4,11,5],[12,1,12,2],[12,4,12,5],[9,4,9,5],[0,0,0,1],[1,0,1,7],[2,0,2,7],[5,0,5,2],[3,0,3,7],[15,0,19,0],[17,1,17,2],[19,1,19,2],[19,4,19,5],[10,4,10,5],[15,1,15,2],[16,1,16,2],[15,4,15,5],[10,0,14,0],[10,1,10,2],[13,1,13,2],[14,4,14,5],[7,0,7,2],[9,1,9,2],[24,4,24,5],[23,1,23,2],[23,4,23,5],[16,4,16,5],[11,1,11,2],[13,4,13,5],[14,1,14,2],[17,4,17,5],[18,1,18,2],[18,4,18,5],[22,1,22,2],[21,1,21,2],[21,4,21,5],[24,1,24,2],[22,4,22,5],[20,4,20,5],[28,0,32,0],[28,1,28,2],[29,1,29,2],[20,0,23,0],[20,1,20,2],[25,1,25,2],[24,0,27,0],[26,1,26,2],[26,4,26,5],[25,4,25,5],[35,0,35,2],[32,1,32,2],[27,1,27,2],[30,4,30,5],[31,4,31,5],[30,1,30,2],[31,1,31,2],[27,4,27,5],[34,0,34,2],[29,4,29,5],[32,4,32,5],[28,4,28,5],[43,1,43,6],[44,1,44,6],[38,1,38,7],[39,1,39,6],[40,1,40,6],[41,1,41,6],[42,1,42,6]]}
["様式　３Ｎ",null,null,null,null,null,null,"E-mail"]
["第　６７　回　全　国　高　等　学　校　ス　キ　ー　大　会"]
[" 種　目　別　参　加　申　込　書　"]
["《　ノ　ル　デ　ィ　ッ　ク　》"]
[]
["都道府県名",null,null,{"$f":"'様式１ '!H7","v":0},null,"記入責任者"]
[]
["性　　別",null,null,"男　子",null,"種　　目","クラシカル10km"]
[]
["ｸﾞﾙｰﾌﾟ","仮出発番号",null,"ＳＡＪ競技者番号","選　手　氏　名",null,"学　校　名","学　年"]
["第４グループ"]
[]
[]
[]
[]
["第３グループ"]
[]
[]
[]
[]
["第２グループ"]
[]
[]
[]
["第１グループ"]
[]
[]
[]
["海外・補欠"]
[]
[]
[]
[]
[]
["参加申込人数",null,null,null,"名"]
["都道府県出場枠",null,null,null,"名"]
[]
["※　記入上の注意　"]
["①","第４グループから第３・第２・第１グループの順に、都道府県ランキング上位の選手から順番に記入してください。　　"]
["②","各都道府県に与えられた仮出発番号は、必ずすべて記入してください。（出場がない場合も記入してください） 　"]
["③","SAJ競技者番号は正確に記入してください。"]
["④","学校名は6文字以内（高校・高は使わず）の略称で記入してください。"]
["⑤","１校４名以上出場の場合は、学校対抗得点対象選手（３名）の学年に○が付いた学年を選択してください。"]
["⑥","海外（海外特枠選手）・補欠は該当を選択してください。"]
["⑦","都道府県出場枠と参加申込人数（海外特枠選手は含まず）を記入してください。"]

{"sheet":"様式3N WC","index":11,"n_rows":45,"n_cols":8,"rows_kept":45,"cut":false,"hidden":false,"merged":[[30,4,30,5],[31,4,31,5],[32,4,32,5],[35,0,35,2],[34,0,34,2],[28,0,32,0],[28,1,28,2],[29,1,29,2],[30,1,30,2],[31,1,31,2],[29,4,29,5],[32,1,32,2],[28,4,28,5],[20,0,23,0],[20,1,20,2],[20,4,20,5],[26,1,26,2],[26,4,26,5],[24,0,27,0],[24,1,24,2],[24,4,24,5],[25,1,25,2],[25,4,25,5],[27,1,27,2],[27,4,27,5],[23,1,23,2],[23,4,23,5],[22,1,22,2],[22,4,22,5],[21,1,21,2],[21,4,21,5],[10,4,10,5],[13,4,13,5],[14,4,14,5],[12,4,12,5],[14,1,14,2],[12,1,12,2],[19,1,19,2],[19,4,19,5],[17,1,17,2],[17,4,17,5],[18,1,18,2],[18,4,18,5],[16,1,16,2],[10,0,14,0],[10,1,10,2],[13,1,13,2],[11,1,11,2],[15,4,15,5],[15,0,19,0],[15,1,15,2],[11,4,11,5],[16,4,16,5],[9,1,9,2],[9,4,9,5],[0,0,0,1],[1,0,1,7],[2,0,2,7],[5,0,5,2],[3,0,3,7],[7,0,7,2],[8,6,8,7],[44,1,44,6],[38,1,38,7],[39,1,39,6],[40,1,40,6],[41,1,41,6],[42,1,42,6],[43,1,43,6]]}
["様式　３Ｎ",null,null,null,null,null,null,"E-mail"]
["第　６７　回　全　国　高　等　学　校　ス　キ　ー　大　会"]
[" 種　目　別　参　加　申　込　書　"]
["《　ノ　ル　デ　ィ　ッ　ク　》"]
[]
["都道府県名",null,null,{"$f":"'様式１ '!H7","v":0},null,"記入責任者"]
[]
["性　　別",null,null,"女　子",null,"種　　目","クラシカル5km"]
[]
["ｸﾞﾙｰﾌﾟ","仮出発番号",null,"ＳＡＪ競技者番号","選　手　氏　名",null,"学　校　名","学　年"]
["第４グループ"]
[]
[]
[]
[]
["第３グループ"]
[]
[]
[]
[]
["第２グループ"]
[]
[]
[]
["第１グループ"]
[]
[]
[]
["海外・補欠"]
[]
[]
[]
[]
[]
["参加申込人数",null,null,null,"名"]
["都道府県出場枠",null,null,null,"名"]
[]
["※　記入上の注意　"]
["①","第４グループから第３・第２・第１グループの順に、都道府県ランキング上位の選手から順番に記入してください。　　"]
["②","各都道府県に与えられた仮出発番号は、必ずすべて記入してください。 （出場がない場合も記入してください）　"]
["③","SAJ競技者番号は正確に記入してください。"]
["④","学校名は6文字以内（高校・高は使わず）の略称で記入してください。"]
["⑤","１校４名以上出場の場合は、学校対抗得点対象選手（３名）の学年に○が付いた学年を選択してください。"]
["⑥","海外（海外特枠選手）・補欠は該当を選択してください。"]
["⑦","都道府県出場枠と参加申込人数（海外特枠選手は含まず）を記入してください。"]

{"sheet":"様式3A MGS","index":12,"n_rows":44,"n_cols":8,"rows_kept":44,"cut":false,"hidden":false,"merged":[[16,0,18,0],[13,0,15,0],[22,0,24,0],[22,1,22,2],[22,4,22,5],[23,1,23,2],[23,4,23,5],[24,1,24,2],[24,4,24,5],[17,1,17,2],[17,4,17,5],[15,1,15,2],[15,4,15,5],[16,1,16,2],[16,4,16,5],[21,1,21,2],[9,1,9,2],[9,4,9,5],[0,0,0,1],[1,0,1,7],[2,0,2,7],[5,0,5,2],[7,0,7,2],[3,0,3,7],[10,0,12,0],[12,1,12,2],[10,4,10,5],[13,4,13,5],[14,1,14,2],[10,1,10,2],[13,1,13,2],[12,4,12,5],[21,4,21,5],[19,4,19,5],[20,1,20,2],[11,1,11,2],[11,4,11,5],[14,4,14,5],[43,1,43,6],[37,0,37,7],[18,1,18,2],[18,4,18,5],[35,0,35,2],[41,1,41,7],[42,1,42,6],[34,0,34,2],[26,1,26,2],[26,4,26,5],[27,1,27,2],[27,4,27,5],[39,1,39,7],[38,1,38,7],[40,1,40,7],[28,4,28,5],[19,0,21,0],[32,1,32,2],[25,0,27,0],[25,1,25,2],[25,4,25,5],[31,4,31,5],[30,4,30,5],[29,4,29,5],[32,4,32,5],[28,0,32,0],[28,1,28,2],[29,1,29,2],[30,1,30,2],[31,1,31,2],[19,1,19,2],[20,4,20,5]]}
["様式　３Ａ",null,null,null,null,null,null,"E-mail"]
["第　６７　回　全　国　高　等　学　校　ス　キ　ー　大　会"]
["　種　目　別　参　加　申　込　書　"]
["《　ア　ル　ペ　ン　》"]
[]
["都道府県名",null,null,{"$f":"'様式１ '!$H$7","v":0},null,"記入責任者"]
[null,null,null,null,null,null," "]
["性　　別",null,null,"男　子",null,"種　　目","ジャイアントスラローム"]
[]
["ｸﾞﾙｰﾌﾟ","ランキング　（予選順位）",null,"ＳＡＪ競技者番号","選　手　氏　名",null,"学　 校　 名","学　年"]
["第１グループ"]
[]
[]
["第２グループ"]
[]
[]
["第３グループ"]
[]
[]
["第４グループ"]
[]
[]
["第５グループ"]
[]
[]
["第６グループ"]
[]
[]
["海外・補欠"]
[]
[]
[]
[]
[]
["参加申込人数",null,null,null,"名"]
["都道府県出場枠",null,null,null,"名"]
[]
["※記入上の注意"]
["①","SAJ競技者番号は正確に記入してください。"]
["②","学校名は6文字以内（高校・高は使わず）の略称で記入してください。"]
["③","１校４名以上出場の場合は、学校対抗得点対象選手（３名）の学年に○が付いた学年を選択してください。"]
["④","前年度入賞者（特別グループ選手）はランキングのセルを分割して一つにランキング（予選順位）を、もう一方のセルには「特」と記載してください。"]
["⑤","海外（海外特枠選手）・補欠は該当を選択してください。"]
["⑥","都道府県出場枠と参加申込人数（海外特枠選手は含まず）を記入してください。"]

{"sheet":"様式3A WGS","index":13,"n_rows":44,"n_cols":8,"rows_kept":44,"cut":false,"hidden":false,"merged":[[34,0,34,2],[35,0,35,2],[40,1,40,7],[41,1,41,7],[43,1,43,6],[37,0,37,7],[38,1,38,7],[39,1,39,7],[42,1,42,6],[0,0,0,1],[5,0,5,2],[12,1,12,2],[19,1,19,2],[19,0,21,0],[13,0,15,0],[13,1,13,2],[7,0,7,2],[1,0,1,7],[2,0,2,7],[3,0,3,7],[9,1,9,2],[9,4,9,5],[10,1,10,2],[10,4,10,5],[11,1,11,2],[12,4,12,5],[10,0,12,0],[20,1,20,2],[20,4,20,5],[16,0,18,0],[16,1,16,2],[16,4,16,5],[17,1,17,2],[17,4,17,5],[18,1,18,2],[11,4,11,5],[27,1,27,2],[24,4,24,5],[18,4,18,5],[13,4,13,5],[14,1,14,2],[14,4,14,5],[15,1,15,2],[15,4,15,5],[19,4,19,5],[21,1,21,2],[21,4,21,5],[27,4,27,5],[22,0,24,0],[22,1,22,2],[22,4,22,5],[23,1,23,2],[23,4,23,5],[24,1,24,2],[25,0,27,0],[25,1,25,2],[25,4,25,5],[26,1,26,2],[32,4,32,5],[28,0,32,0],[28,1,28,2],[29,1,29,2],[30,1,30,2],[31,1,31,2],[32,1,32,2],[28,4,28,5],[31,4,31,5],[30,4,30,5],[29,4,29,5],[26,4,26,5]]}
["様式　３Ａ",null,null,null,null,null,null,"E-mail"]
["第　６７　回　全　国　高　等　学　校　ス　キ　ー　大　会"]
["　種　目　別　参　加　申　込　書　"]
["《　ア　ル　ペ　ン　》"]
[]
["都道府県名",null,null,{"$f":"'様式１ '!H7","v":0},null,"記入責任者"]
[]
["性　　別",null,null,"女　子",null,"種　　目","ジャイアントスラローム"]
[]
["ｸﾞﾙｰﾌﾟ","ランキング　（予選順位）",null,"ＳＡＪ競技者番号","選　手　氏　名",null,"学　 校　 名","学　年"]
["第１グループ"]
[]
[]
["第２グループ"]
[]
[]
["第３グループ"]
[]
[]
["第４グループ"]
[]
[]
["第５グループ"]
[]
[]
["第６グループ"]
[]
[]
["海外・補欠"]
[]
[]
[]
[]
[]
["参加申込人数",null,null,null,"名"]
["都道府県出場枠",null,null,null,"名"]
[]
["※記入上の注意"]
["①","SAJ競技者番号は正確に記入してください。"]
["②","学校名は6文字以内（高校・高は使わず）の略称で記入してください。"]
["③","１校４名以上出場の場合は、学校対抗得点対象選手（３名）の学年に○が付いた学年を選択してください。"]
["④","前年度入賞者（特別グループ選手）はランキングのセルを分割して一つにランキング（予選順位）を、もう一方のセルには「特」と記載してください。"]
["⑤","海外（海外特枠選手）・補欠は該当を選択してください。"]
["⑥","都道府県出場枠と参加申込人数（海外特枠選手は含まず）を記入してください。"]

{"sheet":"様式3A MSL","index":14,"n_rows":44,"n_cols":8,"rows_kept":44,"cut":false,"hidden":false,"merged":[[38,1,38,7],[39,1,39,7],[40,1,40,7],[41,1,41,7],[42,1,42,6],[44,1,44,6],[30,4,30,5],[29,4,29,5],[32,4,32,5],[28,0,32,0],[28,1,28,2],[29,1,29,2],[30,1,30,2],[31,1,31,2],[32,1,32,2],[28,4,28,5],[31,4,31,5],[34,0,34,2],[43,1,43,6],[35,0,35,2],[37,0,37,7],[19,0,21,0],[25,0,27,0],[25,1,25,2],[25,4,25,5],[26,1,26,2],[26,4,26,5],[27,1,27,2],[27,4,27,5],[22,0,24,0],[22,1,22,2],[22,4,22,5],[23,1,23,2],[23,4,23,5],[24,1,24,2],[24,4,24,5],[19,1,19,2],[10,0,12,0],[12,1,12,2],[17,1,17,2],[17,4,17,5],[13,0,15,0],[13,1,13,2],[10,1,10,2],[10,4,10,5],[12,4,12,5],[13,4,13,5],[14,1,14,2],[11,1,11,2],[11,4,11,5],[14,4,14,5],[15,1,15,2],[15,4,15,5],[9,1,9,2],[9,4,9,5],[0,0,0,1],[5,0,5,2],[1,0,1,7],[2,0,2,7],[3,0,3,7],[7,0,7,2],[21,1,21,2],[21,4,21,5],[19,4,19,5],[20,1,20,2],[20,4,20,5],[16,0,18,0],[16,1,16,2],[16,4,16,5],[18,1,18,2],[18,4,18,5]]}
["様式 ３Ａ",null,null,null,null,null,null,"E-mail"]
["第　６７　回　全　国　高　等　学　校　ス　キ　ー　大　会"]
["　種　目　別　参　加　申　込　書　"]
["《　ア　ル　ペ　ン　》"]
[]
["都道府県名",null,null,{"$f":"'様式１ '!H7","v":0},null,"記入責任者"]
[]
["性　　別",null,null,"男　子",null,"種　　目","スラローム"]
[]
["ｸﾞﾙｰﾌﾟ","ランキング　（予選順位）",null,"ＳＡＪ競技者番号","選　手　氏　名",null,"学　 校　 名","学　年"]
["第１グループ"]
[]
[]
["第２グループ"]
[]
[]
["第３グループ"]
[]
[]
["第４グループ"]
[]
[]
["第５グループ"]
[]
[]
["第６グループ"]
[]
[]
["海外・補欠"]
[]
[]
[]
[]
[]
["参加申込人数",null,null,null,"名"]
["都道府県出場枠",null,null,null,"名"]
[]
["※記入上の注意"]
["①","SAJ競技者番号は正確に記入してください。"]
["②","学校名は6文字以内（高校・高は使わず）の略称で記入してください。"]
["③","１校４名以上出場の場合は、学校対抗得点対象選手（３名）の学年に○が付いた学年を選択してください。"]
["④","前年度入賞者（特別グループ選手）はランキングのセルを分割して一つにランキング（予選順位）を、もう一方のセルには「特」と記載してください。"]
["⑤","海外（海外特枠選手）・補欠は該当を選択してください。"]
["⑥","都道府県出場枠と参加申込人数（海外特枠選手は含まず）を記入してください。"]

{"sheet":"様式3A WSL","index":15,"n_rows":44,"n_cols":8,"rows_kept":44,"cut":false,"hidden":false,"merged":[[34,0,34,2],[35,0,35,2],[40,1,40,7],[41,1,41,7],[43,1,43,6],[37,0,37,7],[38,1,38,7],[39,1,39,7],[42,1,42,6],[0,0,0,1],[5,0,5,2],[12,1,12,2],[19,1,19,2],[19,0,21,0],[13,0,15,0],[13,1,13,2],[7,0,7,2],[1,0,1,7],[2,0,2,7],[3,0,3,7],[9,1,9,2],[9,4,9,5],[10,1,10,2],[10,4,10,5],[11,1,11,2],[12,4,12,5],[10,0,12,0],[20,1,20,2],[20,4,20,5],[16,0,18,0],[16,1,16,2],[16,4,16,5],[17,1,17,2],[17,4,17,5],[18,1,18,2],[11,4,11,5],[27,1,27,2],[24,4,24,5],[18,4,18,5],[13,4,13,5],[14,1,14,2],[14,4,14,5],[15,1,15,2],[15,4,15,5],[19,4,19,5],[21,1,21,2],[21,4,21,5],[27,4,27,5],[22,0,24,0],[22,1,22,2],[22,4,22,5],[23,1,23,2],[23,4,23,5],[24,1,24,2],[25,0,27,0],[25,1,25,2],[25,4,25,5],[26,1,26,2],[32,4,32,5],[28,0,32,0],[28,1,28,2],[29,1,29,2],[30,1,30,2],[31,1,31,2],[32,1,32,2],[28,4,28,5],[31,4,31,5],[30,4,30,5],[29,4,29,5],[26,4,26,5]]}
["様式　３Ａ",null,null,null,null,null,null,"E-mail"]
["第　６７　回　全　国　高　等　学　校　ス　キ　ー　大　会"]
["　種　目　別　参　加　申　込　書　"]
["《　ア　ル　ペ　ン　》"]
[]
["都道府県名",null,null,{"$f":"'様式１ '!H7","v":0},null,"記入責任者"]
[]
["性　　別",null,null,"女　子",null,"種　　目","スラローム"]
[]
["ｸﾞﾙｰﾌﾟ","ランキング　（予選順位）",null,"ＳＡＪ競技者番号","選　手　氏　名",null,"学　 校　 名","学　年"]
["第１グループ"]
[]
[]
["第２グループ"]
[]
[]
["第３グループ"]
[]
[]
["第４グループ"]
[]
[]
["第５グループ"]
[]
[]
["第６グループ"]
[]
[]
["海外・補欠"]
[]
[]
[]
[]
[]
["参加申込人数",null,null,null,"名"]
["都道府県出場枠",null,null,null,"名"]
[]
["※記入上の注意"]
["①","SAJ競技者番号は正確に記入してください。"]
["②","学校名は6文字以内（高校・高は使わず）の略称で記入してください。"]
["③","１校４名以上出場の場合は、学校対抗得点対象選手（３名）の学年に○が付いた学年を選択してください。"]
["④","前年度入賞者（特別グループ選手）はランキングのセルを分割して一つにランキング（予選順位）を、もう一方のセルには「特」と記載してください。"]
["⑤","海外（海外特枠選手）・補欠は該当を選択してください。"]
["⑥","都道府県出場枠と参加申込人数（海外特枠選手は含まず）を記入してください。"]

{"sheet":"様式3N SJ","index":16,"n_rows":45,"n_cols":8,"rows_kept":45,"cut":false,"hidden":false,"merged":[[8,6,8,7],[11,4,11,5],[12,1,12,2],[12,4,12,5],[9,4,9,5],[0,0,0,1],[1,0,1,7],[2,0,2,7],[5,0,5,2],[3,0,3,7],[15,0,19,0],[17,1,17,2],[19,1,19,2],[19,4,19,5],[10,4,10,5],[15,1,15,2],[16,1,16,2],[15,4,15,5],[10,0,14,0],[10,1,10,2],[13,1,13,2],[14,4,14,5],[7,0,7,2],[9,1,9,2],[24,4,24,5],[23,1,23,2],[23,4,23,5],[16,4,16,5],[11,1,11,2],[13,4,13,5],[14,1,14,2],[17,4,17,5],[18,1,18,2],[18,4,18,5],[22,1,22,2],[21,1,21,2],[21,4,21,5],[24,1,24,2],[22,4,22,5],[20,4,20,5],[28,0,32,0],[28,1,28,2],[29,1,29,2],[20,0,23,0],[20,1,20,2],[25,1,25,2],[24,0,27,0],[26,1,26,2],[26,4,26,5],[25,4,25,5],[35,0,35,2],[32,1,32,2],[27,1,27,2],[30,4,30,5],[31,4,31,5],[30,1,30,2],[31,1,31,2],[27,4,27,5],[34,0,34,2],[29,4,29,5],[32,4,32,5],[28,4,28,5],[43,1,43,6],[44,1,44,6],[38,1,38,7],[39,1,39,6],[40,1,40,6],[41,1,41,6],[42,1,42,6]]}
["様式　３Ｎ",null,null,null,null,null,null,"E-mail"]
["第　６７　回　全　国　高　等　学　校　ス　キ　ー　大　会"]
[" 種　目　別　参　加　申　込　書　"]
["《　ノ　ル　デ　ィ　ッ　ク　》"]
[]
["都道府県名",null,null,{"$f":"'様式１ '!H7","v":0},null,"記入責任者"]
[]
["性　　別",null,null,"男　子",null,"種　　目","スペシャルジャンプ"]
[]
["ｸﾞﾙｰﾌﾟ","仮出発番号",null,"ＳＡＪ競技者番号","選　手　氏　名",null,"学　校　名","学　年"]
["第４グループ"]
[]
[]
[]
[]
["第３グループ"]
[]
[]
[]
[]
["第２グループ"]
[]
[]
[]
["第１グループ"]
[]
[]
[]
["海外・補欠"]
[]
[]
[]
[]
[]
["参加申込人数",null,null,null,"名"]
["都道府県出場枠",null,null,null,"名"]
[]
["※　記入上の注意　"]
["①","第４グループから第３・第２・第１グループの順に、都道府県ランキング上位の選手から順番に記入してください。　　"]
["②","各都道府県に与えられた仮出発番号は、必ずすべて記入してください。 　"]
["③","SAJ競技者番号は正確に記入してください。"]
["④","学校名は6文字以内（高校・高は使わず）の略称で記入してください。"]
["⑤","１校４名以上出場の場合は、学校対抗得点対象選手（３名）の学年に○が付いた学年を選択してください。"]
["⑥","海外（海外特枠選手）・補欠は該当を選択してください。"]
["⑦","都道府県出場枠と参加申込人数（海外特枠選手は含まず）を記入してください。"]

{"sheet":"様式3N WSJ","index":17,"n_rows":39,"n_cols":8,"rows_kept":39,"cut":false,"hidden":false,"merged":[[11,1,11,2],[11,4,11,5],[0,0,0,1],[1,0,1,7],[2,0,2,7],[3,0,3,7],[5,0,5,2],[7,0,7,2],[8,6,8,7],[9,1,9,2],[9,4,9,5],[10,1,10,2],[10,4,10,5],[12,1,12,2],[12,4,12,5],[13,1,13,2],[13,4,13,5],[14,1,14,2],[14,4,14,5],[18,1,18,2],[18,4,18,5],[34,0,34,2],[15,1,15,2],[15,4,15,5],[16,1,16,2],[16,4,16,5],[17,1,17,2],[17,4,17,5],[37,1,37,6],[38,1,38,6],[25,1,25,6],[26,1,26,6],[27,1,27,6]]}
["様式　３Ｎ（公開）",null,null,null,null,null,null,"E-mail"]
["第　６７　回　全　国　高　等　学　校　ス　キ　ー　大　会"]
[" 種　目　別　参　加　申　込　書　"]
["《　ノ　ル　デ　ィ　ッ　ク　》"]
[]
["都道府県名",null,null,{"$f":"'様式１ '!H7","v":0},null,"記入責任者"]
[]
["性　　別",null,null,"女　子",null,"種　　目","スペシャルジャンプ公開競技"]
[]
[null,null,null,"ＳＡＪ競技者番号","選　手　氏　名",null,"学　校　名","学　年"]
[1]
[2]
[3]
[4]
[5]
[6]
[7]
[8]
[9]
[]
[]
[]
[]
[]
[]
[]
[]
[]
[]
[]
[]
[]
[]
[]
["参加申込人数",null,null,null,"名"]
[]
["※　記入上の注意　"]
["①","SAJ競技者番号は正確に記入してください。"]
["②","学校名は6文字以内（高校・高は使わず）の略称で記入してください。"]

{"sheet":"様式3N NC","index":18,"n_rows":45,"n_cols":8,"rows_kept":45,"cut":false,"hidden":false,"merged":[[20,0,23,0],[20,1,20,2],[20,4,20,5],[26,1,26,2],[26,4,26,5],[24,0,27,0],[24,1,24,2],[24,4,24,5],[25,1,25,2],[25,4,25,5],[39,1,39,6],[31,4,31,5],[32,4,32,5],[27,1,27,2],[27,4,27,5],[35,0,35,2],[18,4,18,5],[22,1,22,2],[22,4,22,5],[23,1,23,2],[23,4,23,5],[44,1,44,6],[34,0,34,2],[28,0,32,0],[28,1,28,2],[29,1,29,2],[41,1,41,6],[42,1,42,6],[43,1,43,6],[28,4,28,5],[30,1,30,2],[30,4,30,5],[40,1,40,6],[38,1,38,7],[31,1,31,2],[32,1,32,2],[29,4,29,5],[0,0,0,1],[1,0,1,7],[2,0,2,7],[5,0,5,2],[3,0,3,7],[7,0,7,2],[10,0,14,0],[10,1,10,2],[15,0,19,0],[11,1,11,2],[12,1,12,2],[18,1,18,2],[19,1,19,2],[15,1,15,2],[9,1,9,2],[16,1,16,2],[8,6,8,7],[13,1,13,2],[21,1,21,2],[21,4,21,5],[13,4,13,5],[14,1,14,2],[14,4,14,5],[19,4,19,5],[10,4,10,5],[11,4,11,5],[17,1,17,2],[17,4,17,5],[9,4,9,5],[15,4,15,5],[16,4,16,5],[12,4,12,5]]}
["様式　３Ｎ",null,null,null,null,null,null,"E-mail"]
["第　６７　回　全　国　高　等　学　校　ス　キ　ー　大　会"]
[" 種　目　別　参　加　申　込　書　"]
["《　ノ　ル　デ　ィ　ッ　ク　》"]
[]
["都道府県名",null,null,{"$f":"'様式１ '!H7","v":0},null,"記入責任者"]
[]
["性　　別",null,null,"男　子",null,"種　　目","ﾉﾙﾃﾞｨｯｸｺﾝﾊﾞｲﾝﾄﾞ"]
[]
["ｸﾞﾙｰﾌﾟ","仮出発番号",null,"ＳＡＪ競技者番号","選　手　氏　名",null,"学　校　名","学　年"]
["第４グループ"]
[]
[]
[]
[]
["第３グループ"]
[]
[]
[]
[]
["第２グループ"]
[]
[]
[]
["第１グループ"]
[]
[]
[]
["海外・補欠"]
[]
[]
[]
[]
[]
["参加申込人数",null,null,null,"名"]
["都道府県出場枠",null,null,null,"名"]
[]
["※　記入上の注意　"]
["①","第４グループから第３・第２・第１グループの順に、都道府県ランキング上位の選手から順番に記入してください。　　"]
["②","各都道府県に与えられた仮出発番号は、必ずすべて記入してください。 　"]
["③","SAJ競技者番号は正確に記入してください。"]
["④","学校名は6文字以内（高校・高は使わず）の略称で記入してください。"]
["⑤","１校４名以上出場の場合は、学校対抗得点対象選手（３名）の学年に○が付いた学年を選択してください。"]
["⑥","海外（海外特枠選手）・補欠は該当を選択してください。"]
["⑦","都道府県出場枠と参加申込人数（海外特枠選手は含まず）を記入してください。"]

{"sheet":"Sheet1","index":19,"n_rows":0,"n_cols":0,"rows_kept":0,"cut":false,"hidden":false,"merged":[]}